BEGIN:VCALENDAR
VERSION:2.0
PRODID:-//wseodigital - ECPv6.15.13//NONSGML v1.0//EN
CALSCALE:GREGORIAN
METHOD:PUBLISH
X-WR-CALNAME:wseodigital
X-ORIGINAL-URL:https://wseo.digital
X-WR-CALDESC:Events for wseodigital
REFRESH-INTERVAL;VALUE=DURATION:PT1H
X-Robots-Tag:noindex
X-PUBLISHED-TTL:PT1H
BEGIN:VTIMEZONE
TZID:Europe/London
BEGIN:DAYLIGHT
TZOFFSETFROM:+0000
TZOFFSETTO:+0100
TZNAME:BST
DTSTART:20250330T010000
END:DAYLIGHT
BEGIN:STANDARD
TZOFFSETFROM:+0100
TZOFFSETTO:+0000
TZNAME:GMT
DTSTART:20251026T010000
END:STANDARD
BEGIN:DAYLIGHT
TZOFFSETFROM:+0000
TZOFFSETTO:+0100
TZNAME:BST
DTSTART:20260329T010000
END:DAYLIGHT
BEGIN:STANDARD
TZOFFSETFROM:+0100
TZOFFSETTO:+0000
TZNAME:GMT
DTSTART:20261025T010000
END:STANDARD
BEGIN:DAYLIGHT
TZOFFSETFROM:+0000
TZOFFSETTO:+0100
TZNAME:BST
DTSTART:20270328T010000
END:DAYLIGHT
BEGIN:STANDARD
TZOFFSETFROM:+0100
TZOFFSETTO:+0000
TZNAME:GMT
DTSTART:20271031T010000
END:STANDARD
END:VTIMEZONE
BEGIN:VEVENT
DTSTART;TZID=Europe/London:20260517T080000
DTEND;TZID=Europe/London:20260517T100000
DTSTAMP:20260421T165206
CREATED:20251228T193623Z
LAST-MODIFIED:20251228T193623Z
UID:10006657-1779004800-1779012000@wseo.digital
SUMMARY:DJ Jonah
DESCRIPTION:Please email join@slimradio.co.uk if you would like to take this slot
URL:https://wseo.digital/event/vacant-show-sun-8am-10am-2/2026-05-17/
ATTACH;FMTTYPE=image/webp:https://wseo.digital/wp-content/uploads/2025/11/slim-radio-show-1.webp
LOCATION:
END:VEVENT
BEGIN:VEVENT
DTSTART;TZID=Europe/London:20260517T100000
DTEND;TZID=Europe/London:20260517T120000
DTSTAMP:20260421T165206
CREATED:20251111T162428Z
LAST-MODIFIED:20251111T164533Z
UID:10006918-1779012000-1779019200@wseo.digital
SUMMARY:DJ Slim - The Sunday Jukebox
DESCRIPTION:
URL:https://wseo.digital/event/dj-slim-the-sunday-jukebox/2026-05-17/
ATTACH;FMTTYPE=image/jpeg:https://wseo.digital/wp-content/uploads/2025/11/DJ-Slim-Sunday-Morning-Brunch.jpg
LOCATION:
END:VEVENT
BEGIN:VEVENT
DTSTART;TZID=Europe/London:20260517T130000
DTEND;TZID=Europe/London:20260517T150000
DTSTAMP:20260421T165206
CREATED:20251111T135116Z
LAST-MODIFIED:20251111T164517Z
UID:10003784-1779022800-1779030000@wseo.digital
SUMMARY:Adam Wynn
DESCRIPTION:
URL:https://wseo.digital/event/adam-wynn/2026-05-17/
ATTACH;FMTTYPE=image/jpeg:https://wseo.digital/wp-content/uploads/2025/11/WhatsApp-Image-2025-10-30-at-09.15.37-1.jpeg
LOCATION:
END:VEVENT
BEGIN:VEVENT
DTSTART;TZID=Europe/London:20260517T140000
DTEND;TZID=Europe/London:20260517T160000
DTSTAMP:20260421T165206
CREATED:20251111T160629Z
LAST-MODIFIED:20251111T164438Z
UID:10005613-1779026400-1779033600@wseo.digital
SUMMARY:Chris Lambert
DESCRIPTION:
URL:https://wseo.digital/event/chris-lambert/2026-05-17/
ATTACH;FMTTYPE=image/jpeg:https://wseo.digital/wp-content/uploads/2025/11/Chris-Lambert.jpg
LOCATION:
END:VEVENT
BEGIN:VEVENT
DTSTART;TZID=Europe/London:20260517T160000
DTEND;TZID=Europe/London:20260517T180000
DTSTAMP:20260421T165206
CREATED:20251111T160816Z
LAST-MODIFIED:20251112T150014Z
UID:10005874-1779033600-1779040800@wseo.digital
SUMMARY:Ross P
DESCRIPTION:
URL:https://wseo.digital/event/ross-p-2/2026-05-17/
ATTACH;FMTTYPE=image/webp:https://wseo.digital/wp-content/uploads/2025/11/slim-radio-show-1.webp
LOCATION:
END:VEVENT
BEGIN:VEVENT
DTSTART;TZID=Europe/London:20260517T180000
DTEND;TZID=Europe/London:20260517T200000
DTSTAMP:20260421T165206
CREATED:20251111T161103Z
LAST-MODIFIED:20251111T164456Z
UID:10006135-1779040800-1779048000@wseo.digital
SUMMARY:Chris Saunders
DESCRIPTION:
URL:https://wseo.digital/event/chris-saunders/2026-05-17/
ATTACH;FMTTYPE=image/webp:https://wseo.digital/wp-content/uploads/2025/11/slim-radio-show-1.webp
LOCATION:
END:VEVENT
BEGIN:VEVENT
DTSTART;TZID=Europe/London:20260517T200000
DTEND;TZID=Europe/London:20260517T220000
DTSTAMP:20260421T165206
CREATED:20251111T161452Z
LAST-MODIFIED:20251111T164356Z
UID:10006396-1779048000-1779055200@wseo.digital
SUMMARY:Rob & Si with The Back To Ours Show
DESCRIPTION:
URL:https://wseo.digital/event/rob-si-with-the-back-to-ours-show/2026-05-17/
ATTACH;FMTTYPE=image/jpeg:https://wseo.digital/wp-content/uploads/2025/11/RobSi.jpg
LOCATION:
END:VEVENT
BEGIN:VEVENT
DTSTART;TZID=Europe/London:20260517T220000
DTEND;TZID=Europe/London:20260517T233000
DTSTAMP:20260421T165206
CREATED:20251228T194529Z
LAST-MODIFIED:20251228T194529Z
UID:10022859-1779055200-1779060600@wseo.digital
SUMMARY:Tony Factory
DESCRIPTION:
URL:https://wseo.digital/event/tony-factory/2026-05-17/
ATTACH;FMTTYPE=image/webp:https://wseo.digital/wp-content/uploads/2025/11/slim-radio-show-1.webp
LOCATION:
END:VEVENT
END:VCALENDAR