BEGIN:VCALENDAR
VERSION:2.0
PRODID:-//wseodigital - ECPv6.15.13//NONSGML v1.0//EN
CALSCALE:GREGORIAN
METHOD:PUBLISH
X-WR-CALNAME:wseodigital
X-ORIGINAL-URL:https://wseo.digital
X-WR-CALDESC:Events for wseodigital
REFRESH-INTERVAL;VALUE=DURATION:PT1H
X-Robots-Tag:noindex
X-PUBLISHED-TTL:PT1H
BEGIN:VTIMEZONE
TZID:Europe/London
BEGIN:DAYLIGHT
TZOFFSETFROM:+0000
TZOFFSETTO:+0100
TZNAME:BST
DTSTART:20250330T010000
END:DAYLIGHT
BEGIN:STANDARD
TZOFFSETFROM:+0100
TZOFFSETTO:+0000
TZNAME:GMT
DTSTART:20251026T010000
END:STANDARD
BEGIN:DAYLIGHT
TZOFFSETFROM:+0000
TZOFFSETTO:+0100
TZNAME:BST
DTSTART:20260329T010000
END:DAYLIGHT
BEGIN:STANDARD
TZOFFSETFROM:+0100
TZOFFSETTO:+0000
TZNAME:GMT
DTSTART:20261025T010000
END:STANDARD
BEGIN:DAYLIGHT
TZOFFSETFROM:+0000
TZOFFSETTO:+0100
TZNAME:BST
DTSTART:20270328T010000
END:DAYLIGHT
BEGIN:STANDARD
TZOFFSETFROM:+0100
TZOFFSETTO:+0000
TZNAME:GMT
DTSTART:20271031T010000
END:STANDARD
END:VTIMEZONE
BEGIN:VEVENT
DTSTART;TZID=Europe/London:20261212T070000
DTEND;TZID=Europe/London:20261212T100000
DTSTAMP:20260423T185800
CREATED:20251222T170949Z
LAST-MODIFIED:20251228T192851Z
UID:10020792-1797058800-1797069600@wseo.digital
SUMMARY:Slim Bot Sat 8am – 10pm
DESCRIPTION:Please email join@slimradio.co.uk if you would like to take this slot
URL:https://wseo.digital/event/vacant-show-sat-8am-10am-2/2026-12-12/
ATTACH;FMTTYPE=image/jpeg:https://wseo.digital/wp-content/uploads/2025/12/Slimbot.jpg
LOCATION:
END:VEVENT
BEGIN:VEVENT
DTSTART;TZID=Europe/London:20261212T120000
DTEND;TZID=Europe/London:20261212T140000
DTSTAMP:20260423T185800
CREATED:20251112T143438Z
LAST-MODIFIED:20251112T150145Z
UID:10010322-1797076800-1797084000@wseo.digital
SUMMARY:Graeham Bamford
DESCRIPTION:
URL:https://wseo.digital/event/graeham-b-p/2026-12-12/
ATTACH;FMTTYPE=image/jpeg:https://wseo.digital/wp-content/uploads/2025/11/Graeham-B-P.jpg
LOCATION:
END:VEVENT
BEGIN:VEVENT
DTSTART;TZID=Europe/London:20261212T140000
DTEND;TZID=Europe/London:20261212T160000
DTSTAMP:20260423T185800
CREATED:20251112T150308Z
LAST-MODIFIED:20251112T150508Z
UID:10011369-1797084000-1797091200@wseo.digital
SUMMARY:Katie Wild
DESCRIPTION:
URL:https://wseo.digital/event/katie-wild/2026-12-12/
ATTACH;FMTTYPE=image/jpeg:https://wseo.digital/wp-content/uploads/2025/11/Katie-Wild.jpg
LOCATION:
END:VEVENT
BEGIN:VEVENT
DTSTART;TZID=Europe/London:20261212T160000
DTEND;TZID=Europe/London:20261212T180000
DTSTAMP:20260423T185800
CREATED:20251228T193126Z
LAST-MODIFIED:20251228T193126Z
UID:10020008-1797091200-1797098400@wseo.digital
SUMMARY:Luis Perez
DESCRIPTION:Please email join@slimradio.co.uk if you would like to take this slot
URL:https://wseo.digital/event/vacant-show-sat-4pm-6pm-2/2026-12-12/
ATTACH;FMTTYPE=image/webp:https://wseo.digital/wp-content/uploads/2025/11/slim-radio-show-1.webp
LOCATION:
END:VEVENT
BEGIN:VEVENT
DTSTART;TZID=Europe/London:20261212T200000
DTEND;TZID=Europe/London:20261212T220000
DTSTAMP:20260423T185800
CREATED:20251228T193244Z
LAST-MODIFIED:20251228T193244Z
UID:10020531-1797105600-1797112800@wseo.digital
SUMMARY:Lewis Rew
DESCRIPTION:Please email join@slimradio.co.uk if you would like to take this slot
URL:https://wseo.digital/event/vacant-show-sat-8pm-10pm-2/2026-12-12/
ATTACH;FMTTYPE=image/webp:https://wseo.digital/wp-content/uploads/2025/11/slim-radio-show-1.webp
END:VEVENT
BEGIN:VEVENT
DTSTART;TZID=Europe/London:20261212T220000
DTEND;TZID=Europe/London:20261212T233000
DTSTAMP:20260423T185800
CREATED:20251228T193000Z
LAST-MODIFIED:20251228T193001Z
UID:10020270-1797112800-1797118200@wseo.digital
SUMMARY:Cornie Smart
DESCRIPTION:Please email join@slimradio.co.uk if you would like to take this slot
URL:https://wseo.digital/event/vacant-show-sat-10pm-12am-2/2026-12-12/
LOCATION:
END:VEVENT
END:VCALENDAR