BEGIN:VCALENDAR
VERSION:2.0
PRODID:-//wseodigital - ECPv6.15.13//NONSGML v1.0//EN
CALSCALE:GREGORIAN
METHOD:PUBLISH
X-WR-CALNAME:wseodigital
X-ORIGINAL-URL:https://wseo.digital
X-WR-CALDESC:Events for wseodigital
REFRESH-INTERVAL;VALUE=DURATION:PT1H
X-Robots-Tag:noindex
X-PUBLISHED-TTL:PT1H
BEGIN:VTIMEZONE
TZID:Europe/London
BEGIN:DAYLIGHT
TZOFFSETFROM:+0000
TZOFFSETTO:+0100
TZNAME:BST
DTSTART:20260329T010000
END:DAYLIGHT
BEGIN:STANDARD
TZOFFSETFROM:+0100
TZOFFSETTO:+0000
TZNAME:GMT
DTSTART:20261025T010000
END:STANDARD
BEGIN:DAYLIGHT
TZOFFSETFROM:+0000
TZOFFSETTO:+0100
TZNAME:BST
DTSTART:20270328T010000
END:DAYLIGHT
BEGIN:STANDARD
TZOFFSETFROM:+0100
TZOFFSETTO:+0000
TZNAME:GMT
DTSTART:20271031T010000
END:STANDARD
BEGIN:DAYLIGHT
TZOFFSETFROM:+0000
TZOFFSETTO:+0100
TZNAME:BST
DTSTART:20280326T010000
END:DAYLIGHT
BEGIN:STANDARD
TZOFFSETFROM:+0100
TZOFFSETTO:+0000
TZNAME:GMT
DTSTART:20281029T010000
END:STANDARD
END:VTIMEZONE
BEGIN:VEVENT
DTSTART;TZID=Europe/London:20270117T080000
DTEND;TZID=Europe/London:20270117T100000
DTSTAMP:20260423T203505
CREATED:20251228T193623Z
LAST-MODIFIED:20251228T193623Z
UID:10006692-1800172800-1800180000@wseo.digital
SUMMARY:DJ Jonah
DESCRIPTION:Please email join@slimradio.co.uk if you would like to take this slot
URL:https://wseo.digital/event/vacant-show-sun-8am-10am-2/2027-01-17/
ATTACH;FMTTYPE=image/webp:https://wseo.digital/wp-content/uploads/2025/11/slim-radio-show-1.webp
LOCATION:
END:VEVENT
BEGIN:VEVENT
DTSTART;TZID=Europe/London:20270117T100000
DTEND;TZID=Europe/London:20270117T120000
DTSTAMP:20260423T203505
CREATED:20251111T162428Z
LAST-MODIFIED:20251111T164533Z
UID:10006953-1800180000-1800187200@wseo.digital
SUMMARY:DJ Slim - The Sunday Jukebox
DESCRIPTION:
URL:https://wseo.digital/event/dj-slim-the-sunday-jukebox/2027-01-17/
ATTACH;FMTTYPE=image/jpeg:https://wseo.digital/wp-content/uploads/2025/11/DJ-Slim-Sunday-Morning-Brunch.jpg
LOCATION:
END:VEVENT
BEGIN:VEVENT
DTSTART;TZID=Europe/London:20270117T120000
DTEND;TZID=Europe/London:20270117T140000
DTSTAMP:20260423T203505
CREATED:20251111T135116Z
LAST-MODIFIED:20251111T164517Z
UID:10003819-1800187200-1800194400@wseo.digital
SUMMARY:Adam Wynn
DESCRIPTION:
URL:https://wseo.digital/event/adam-wynn/2027-01-17/
ATTACH;FMTTYPE=image/jpeg:https://wseo.digital/wp-content/uploads/2025/11/WhatsApp-Image-2025-10-30-at-09.15.37-1.jpeg
LOCATION:
END:VEVENT
BEGIN:VEVENT
DTSTART;TZID=Europe/London:20270117T140000
DTEND;TZID=Europe/London:20270117T160000
DTSTAMP:20260423T203505
CREATED:20251111T160629Z
LAST-MODIFIED:20251111T164438Z
UID:10005648-1800194400-1800201600@wseo.digital
SUMMARY:Chris Lambert
DESCRIPTION:
URL:https://wseo.digital/event/chris-lambert/2027-01-17/
ATTACH;FMTTYPE=image/jpeg:https://wseo.digital/wp-content/uploads/2025/11/Chris-Lambert.jpg
LOCATION:
END:VEVENT
BEGIN:VEVENT
DTSTART;TZID=Europe/London:20270117T160000
DTEND;TZID=Europe/London:20270117T180000
DTSTAMP:20260423T203505
CREATED:20251111T160816Z
LAST-MODIFIED:20251112T150014Z
UID:10005909-1800201600-1800208800@wseo.digital
SUMMARY:Ross P
DESCRIPTION:
URL:https://wseo.digital/event/ross-p-2/2027-01-17/
ATTACH;FMTTYPE=image/webp:https://wseo.digital/wp-content/uploads/2025/11/slim-radio-show-1.webp
LOCATION:
END:VEVENT
BEGIN:VEVENT
DTSTART;TZID=Europe/London:20270117T180000
DTEND;TZID=Europe/London:20270117T200000
DTSTAMP:20260423T203505
CREATED:20251111T161103Z
LAST-MODIFIED:20251111T164456Z
UID:10006170-1800208800-1800216000@wseo.digital
SUMMARY:Chris Saunders
DESCRIPTION:
URL:https://wseo.digital/event/chris-saunders/2027-01-17/
ATTACH;FMTTYPE=image/webp:https://wseo.digital/wp-content/uploads/2025/11/slim-radio-show-1.webp
LOCATION:
END:VEVENT
BEGIN:VEVENT
DTSTART;TZID=Europe/London:20270117T200000
DTEND;TZID=Europe/London:20270117T220000
DTSTAMP:20260423T203505
CREATED:20251111T161452Z
LAST-MODIFIED:20251111T164356Z
UID:10006431-1800216000-1800223200@wseo.digital
SUMMARY:Rob & Si with The Back To Ours Show
DESCRIPTION:
URL:https://wseo.digital/event/rob-si-with-the-back-to-ours-show/2027-01-17/
ATTACH;FMTTYPE=image/jpeg:https://wseo.digital/wp-content/uploads/2025/11/RobSi.jpg
LOCATION:
END:VEVENT
BEGIN:VEVENT
DTSTART;TZID=Europe/London:20270117T220000
DTEND;TZID=Europe/London:20270117T233000
DTSTAMP:20260423T203505
CREATED:20251228T194529Z
LAST-MODIFIED:20251228T194529Z
UID:10022867-1800223200-1800228600@wseo.digital
SUMMARY:Tony Factory
DESCRIPTION:
URL:https://wseo.digital/event/tony-factory/2027-01-17/
ATTACH;FMTTYPE=image/webp:https://wseo.digital/wp-content/uploads/2025/11/slim-radio-show-1.webp
LOCATION:
END:VEVENT
END:VCALENDAR