BEGIN:VCALENDAR
VERSION:2.0
PRODID:-//wseodigital - ECPv6.15.13//NONSGML v1.0//EN
CALSCALE:GREGORIAN
METHOD:PUBLISH
X-WR-CALNAME:wseodigital
X-ORIGINAL-URL:https://wseo.digital
X-WR-CALDESC:Events for wseodigital
REFRESH-INTERVAL;VALUE=DURATION:PT1H
X-Robots-Tag:noindex
X-PUBLISHED-TTL:PT1H
BEGIN:VTIMEZONE
TZID:Europe/London
BEGIN:DAYLIGHT
TZOFFSETFROM:+0000
TZOFFSETTO:+0100
TZNAME:BST
DTSTART:20260329T010000
END:DAYLIGHT
BEGIN:STANDARD
TZOFFSETFROM:+0100
TZOFFSETTO:+0000
TZNAME:GMT
DTSTART:20261025T010000
END:STANDARD
BEGIN:DAYLIGHT
TZOFFSETFROM:+0000
TZOFFSETTO:+0100
TZNAME:BST
DTSTART:20270328T010000
END:DAYLIGHT
BEGIN:STANDARD
TZOFFSETFROM:+0100
TZOFFSETTO:+0000
TZNAME:GMT
DTSTART:20271031T010000
END:STANDARD
BEGIN:DAYLIGHT
TZOFFSETFROM:+0000
TZOFFSETTO:+0100
TZNAME:BST
DTSTART:20280326T010000
END:DAYLIGHT
BEGIN:STANDARD
TZOFFSETFROM:+0100
TZOFFSETTO:+0000
TZNAME:GMT
DTSTART:20281029T010000
END:STANDARD
END:VTIMEZONE
BEGIN:VEVENT
DTSTART;TZID=Europe/London:20270121T100000
DTEND;TZID=Europe/London:20270121T120000
DTSTAMP:20260423T204243
CREATED:20251113T134340Z
LAST-MODIFIED:20251228T185349Z
UID:10016620-1800525600-1800532800@wseo.digital
SUMMARY:Slim Bot Thurs 10am - 12pm
DESCRIPTION:Please email join@slimradio.co.uk if you would like to take this slot
URL:https://wseo.digital/event/vacant-show-thurs-10am-12pm/2027-01-21/
ATTACH;FMTTYPE=image/jpeg:https://wseo.digital/wp-content/uploads/2025/12/Slimbot.jpg
LOCATION:
END:VEVENT
BEGIN:VEVENT
DTSTART;TZID=Europe/London:20270121T120000
DTEND;TZID=Europe/London:20270121T140000
DTSTAMP:20260423T204243
CREATED:20251113T135216Z
LAST-MODIFIED:20251228T190012Z
UID:10017142-1800532800-1800540000@wseo.digital
SUMMARY:Slim Bot Thurs 10am – 12pm
DESCRIPTION:Please email join@slimradio.co.uk if you would like to take this slot
URL:https://wseo.digital/event/vacant-show-thurs-12pm-2pm/2027-01-21/
ATTACH;FMTTYPE=image/jpeg:https://wseo.digital/wp-content/uploads/2025/12/Slimbot.jpg
LOCATION:
END:VEVENT
BEGIN:VEVENT
DTSTART;TZID=Europe/London:20270121T140000
DTEND;TZID=Europe/London:20270121T160000
DTSTAMP:20260423T204243
CREATED:20251113T135345Z
LAST-MODIFIED:20251228T190201Z
UID:10017403-1800540000-1800547200@wseo.digital
SUMMARY:Slim Bot Thurs 2pm – 4pm
DESCRIPTION:Please email join@slimradio.co.uk if you would like to take this slot
URL:https://wseo.digital/event/vacant-show-thurs-2pm-4pm/2027-01-21/
ATTACH;FMTTYPE=image/jpeg:https://wseo.digital/wp-content/uploads/2025/12/Slimbot.jpg
LOCATION:
END:VEVENT
BEGIN:VEVENT
DTSTART;TZID=Europe/London:20270121T160000
DTEND;TZID=Europe/London:20270121T180000
DTSTAMP:20260423T204243
CREATED:20251113T135533Z
LAST-MODIFIED:20251228T190709Z
UID:10017664-1800547200-1800554400@wseo.digital
SUMMARY:Charlie B
DESCRIPTION:
URL:https://wseo.digital/event/vacant-show-thurs-4pm-6pm/2027-01-21/
ATTACH;FMTTYPE=image/webp:https://wseo.digital/wp-content/uploads/2025/11/slim-radio-show-1.webp
LOCATION:
END:VEVENT
BEGIN:VEVENT
DTSTART;TZID=Europe/London:20270121T180000
DTEND;TZID=Europe/London:20270121T200000
DTSTAMP:20260423T204243
CREATED:20251228T190929Z
LAST-MODIFIED:20251228T190929Z
UID:10016881-1800554400-1800561600@wseo.digital
SUMMARY:Jamie S
DESCRIPTION:
URL:https://wseo.digital/event/chris-saunders-thurs-2/2027-01-21/
ATTACH;FMTTYPE=image/webp:https://wseo.digital/wp-content/uploads/2025/11/slim-radio-show-1.webp
LOCATION:
END:VEVENT
BEGIN:VEVENT
DTSTART;TZID=Europe/London:20270121T200000
DTEND;TZID=Europe/London:20270121T220000
DTSTAMP:20260423T204243
CREATED:20251228T191046Z
LAST-MODIFIED:20251228T191046Z
UID:10017925-1800561600-1800568800@wseo.digital
SUMMARY:Mark Ruston
DESCRIPTION:
URL:https://wseo.digital/event/vacant-show-thurs-8pm-10pm-2/2027-01-21/
ATTACH;FMTTYPE=image/webp:https://wseo.digital/wp-content/uploads/2025/11/slim-radio-show-1.webp
END:VEVENT
BEGIN:VEVENT
DTSTART;TZID=Europe/London:20270121T220000
DTEND;TZID=Europe/London:20270121T233000
DTSTAMP:20260423T204243
CREATED:20251228T191231Z
LAST-MODIFIED:20251228T191637Z
UID:10018186-1800568800-1800574200@wseo.digital
SUMMARY:Acid Neil
DESCRIPTION:Please email join@slimradio.co.uk if you would like to take this slot
URL:https://wseo.digital/event/vacant-show-thurs-10pm-12am-2/2027-01-21/
ATTACH;FMTTYPE=image/webp:https://wseo.digital/wp-content/uploads/2025/11/slim-radio-show-1.webp
LOCATION:
END:VEVENT
END:VCALENDAR