BEGIN:VCALENDAR
VERSION:2.0
PRODID:-//wseodigital - ECPv6.15.13//NONSGML v1.0//EN
CALSCALE:GREGORIAN
METHOD:PUBLISH
X-WR-CALNAME:wseodigital
X-ORIGINAL-URL:https://wseo.digital
X-WR-CALDESC:Events for wseodigital
REFRESH-INTERVAL;VALUE=DURATION:PT1H
X-Robots-Tag:noindex
X-PUBLISHED-TTL:PT1H
BEGIN:VTIMEZONE
TZID:Europe/London
BEGIN:DAYLIGHT
TZOFFSETFROM:+0000
TZOFFSETTO:+0100
TZNAME:BST
DTSTART:20260329T010000
END:DAYLIGHT
BEGIN:STANDARD
TZOFFSETFROM:+0100
TZOFFSETTO:+0000
TZNAME:GMT
DTSTART:20261025T010000
END:STANDARD
BEGIN:DAYLIGHT
TZOFFSETFROM:+0000
TZOFFSETTO:+0100
TZNAME:BST
DTSTART:20270328T010000
END:DAYLIGHT
BEGIN:STANDARD
TZOFFSETFROM:+0100
TZOFFSETTO:+0000
TZNAME:GMT
DTSTART:20271031T010000
END:STANDARD
BEGIN:DAYLIGHT
TZOFFSETFROM:+0000
TZOFFSETTO:+0100
TZNAME:BST
DTSTART:20280326T010000
END:DAYLIGHT
BEGIN:STANDARD
TZOFFSETFROM:+0100
TZOFFSETTO:+0000
TZNAME:GMT
DTSTART:20281029T010000
END:STANDARD
END:VTIMEZONE
BEGIN:VEVENT
DTSTART;TZID=Europe/London:20270208T070000
DTEND;TZID=Europe/London:20270208T100000
DTSTAMP:20260423T220244
CREATED:20251112T145525Z
LAST-MODIFIED:20251228T165338Z
UID:10021387-1802070000-1802080800@wseo.digital
SUMMARY:Slim Bot Mon 7am -10am
DESCRIPTION:Please email join@slimradio.co.uk if you would like to take this slot
URL:https://wseo.digital/event/wally-walton/2027-02-08/
ATTACH;FMTTYPE=image/jpeg:https://wseo.digital/wp-content/uploads/2025/12/Slimbot.jpg
LOCATION:
END:VEVENT
BEGIN:VEVENT
DTSTART;TZID=Europe/London:20270208T120000
DTEND;TZID=Europe/London:20270208T140000
DTSTAMP:20260423T220244
CREATED:20251113T125512Z
LAST-MODIFIED:20251228T162617Z
UID:10011902-1802088000-1802095200@wseo.digital
SUMMARY:Slim Bot - Mon 12pm-2pm
DESCRIPTION:Please email join@slimradio.co.uk if you would like to take this slot
URL:https://wseo.digital/event/vacant-show-mon-12pm-2pm-2/2027-02-08/
ATTACH;FMTTYPE=image/jpeg:https://wseo.digital/wp-content/uploads/2025/12/Slimbot.jpg
LOCATION:
END:VEVENT
BEGIN:VEVENT
DTSTART;TZID=Europe/London:20270208T140000
DTEND;TZID=Europe/London:20270208T160000
DTSTAMP:20260423T220244
CREATED:20251113T125724Z
LAST-MODIFIED:20251228T163801Z
UID:10012164-1802095200-1802102400@wseo.digital
SUMMARY:Slim Bot – Mon 12pm-2pm
DESCRIPTION:Please email join@slimradio.co.uk if you would like to take this slot
URL:https://wseo.digital/event/vacant-show-mon-2pm-4pm/2027-02-08/
ATTACH;FMTTYPE=image/jpeg:https://wseo.digital/wp-content/uploads/2025/12/Slimbot.jpg
LOCATION:
END:VEVENT
BEGIN:VEVENT
DTSTART;TZID=Europe/London:20270208T180000
DTEND;TZID=Europe/London:20270208T200000
DTSTAMP:20260423T220244
CREATED:20251228T163939Z
LAST-MODIFIED:20251228T165441Z
UID:10010853-1802109600-1802116800@wseo.digital
SUMMARY:Wally Walton Drive Time (Start Date TBC)
DESCRIPTION:
URL:https://wseo.digital/event/gareth-morgan-2-2/2027-02-08/
ATTACH;FMTTYPE=image/jpeg:https://wseo.digital/wp-content/uploads/2025/11/Wally-Walton.jpg
LOCATION:
END:VEVENT
BEGIN:VEVENT
DTSTART;TZID=Europe/London:20270208T200000
DTEND;TZID=Europe/London:20270208T220000
DTSTAMP:20260423T220244
CREATED:20251228T164043Z
LAST-MODIFIED:20251228T164043Z
UID:10012426-1802116800-1802124000@wseo.digital
SUMMARY:DJ TBC (01/02/26)
DESCRIPTION:DJ TBC (01/02/26)
URL:https://wseo.digital/event/vacant-show-mon-8pm-10pm-2/2027-02-08/
ATTACH;FMTTYPE=image/webp:https://wseo.digital/wp-content/uploads/2025/11/slim-radio-show-1.webp
LOCATION:
END:VEVENT
BEGIN:VEVENT
DTSTART;TZID=Europe/London:20270208T220000
DTEND;TZID=Europe/London:20270208T233000
DTSTAMP:20260423T220244
CREATED:20251228T162812Z
LAST-MODIFIED:20251228T163651Z
UID:10012688-1802124000-1802129400@wseo.digital
SUMMARY:Slim Bot Mon 10pm -12am
DESCRIPTION:Please email join@slimradio.co.uk if you would like to take this slot
URL:https://wseo.digital/event/vacant-show-mon-10pm-12am-2/2027-02-08/
ATTACH;FMTTYPE=image/jpeg:https://wseo.digital/wp-content/uploads/2025/12/Slimbot.jpg
LOCATION:
END:VEVENT
END:VCALENDAR