BEGIN:VCALENDAR
VERSION:2.0
PRODID:-//wseodigital - ECPv6.15.13//NONSGML v1.0//EN
CALSCALE:GREGORIAN
METHOD:PUBLISH
X-WR-CALNAME:wseodigital
X-ORIGINAL-URL:https://wseo.digital
X-WR-CALDESC:Events for wseodigital
REFRESH-INTERVAL;VALUE=DURATION:PT1H
X-Robots-Tag:noindex
X-PUBLISHED-TTL:PT1H
BEGIN:VTIMEZONE
TZID:Europe/London
BEGIN:DAYLIGHT
TZOFFSETFROM:+0000
TZOFFSETTO:+0100
TZNAME:BST
DTSTART:20260329T010000
END:DAYLIGHT
BEGIN:STANDARD
TZOFFSETFROM:+0100
TZOFFSETTO:+0000
TZNAME:GMT
DTSTART:20261025T010000
END:STANDARD
BEGIN:DAYLIGHT
TZOFFSETFROM:+0000
TZOFFSETTO:+0100
TZNAME:BST
DTSTART:20270328T010000
END:DAYLIGHT
BEGIN:STANDARD
TZOFFSETFROM:+0100
TZOFFSETTO:+0000
TZNAME:GMT
DTSTART:20271031T010000
END:STANDARD
BEGIN:DAYLIGHT
TZOFFSETFROM:+0000
TZOFFSETTO:+0100
TZNAME:BST
DTSTART:20280326T010000
END:DAYLIGHT
BEGIN:STANDARD
TZOFFSETFROM:+0100
TZOFFSETTO:+0000
TZNAME:GMT
DTSTART:20281029T010000
END:STANDARD
END:VTIMEZONE
BEGIN:VEVENT
DTSTART;TZID=Europe/London:20270210T080000
DTEND;TZID=Europe/London:20270210T100000
DTSTAMP:20260423T220331
CREATED:20251228T170806Z
LAST-MODIFIED:20251228T170806Z
UID:10022193-1802246400-1802253600@wseo.digital
SUMMARY:DJ Heath (starting 07/01/26)
DESCRIPTION:
URL:https://wseo.digital/event/dj-heath-starting-07-01-26/2027-02-10/
ATTACH;FMTTYPE=image/webp:https://wseo.digital/wp-content/uploads/2025/11/slim-radio-show-1.webp
LOCATION:
END:VEVENT
BEGIN:VEVENT
DTSTART;TZID=Europe/London:20270210T100000
DTEND;TZID=Europe/London:20270210T120000
DTSTAMP:20260423T220331
CREATED:20251113T133103Z
LAST-MODIFIED:20251228T171059Z
UID:10015051-1802253600-1802260800@wseo.digital
SUMMARY:Slim Bot 10am - 12pm
DESCRIPTION:Please email join@slimradio.co.uk if you would like to take this slot
URL:https://wseo.digital/event/vacant-show-wed-10am-12pm/2027-02-10/
ATTACH;FMTTYPE=image/jpeg:https://wseo.digital/wp-content/uploads/2025/12/Slimbot.jpg
LOCATION:
END:VEVENT
BEGIN:VEVENT
DTSTART;TZID=Europe/London:20270210T120000
DTEND;TZID=Europe/London:20270210T140000
DTSTAMP:20260423T220331
CREATED:20251113T133256Z
LAST-MODIFIED:20251228T171446Z
UID:10015313-1802260800-1802268000@wseo.digital
SUMMARY:Slim Bot Wed 12pm - 2pm
DESCRIPTION:Please email join@slimradio.co.uk if you would like to take this slot
URL:https://wseo.digital/event/vacant-show-wed-12pm-2pm/2027-02-10/
ATTACH;FMTTYPE=image/jpeg:https://wseo.digital/wp-content/uploads/2025/12/Slimbot.jpg
LOCATION:
END:VEVENT
BEGIN:VEVENT
DTSTART;TZID=Europe/London:20270210T140000
DTEND;TZID=Europe/London:20270210T160000
DTSTAMP:20260423T220331
CREATED:20251113T133451Z
LAST-MODIFIED:20251228T171344Z
UID:10015575-1802268000-1802275200@wseo.digital
SUMMARY:Slim Bot Wed 2pm - 4pm
DESCRIPTION:Please email join@slimradio.co.uk if you would like to take this slot
URL:https://wseo.digital/event/vacant-show-wed-2pm-4pm/2027-02-10/
ATTACH;FMTTYPE=image/jpeg:https://wseo.digital/wp-content/uploads/2025/12/Slimbot.jpg
LOCATION:
END:VEVENT
BEGIN:VEVENT
DTSTART;TZID=Europe/London:20270210T160000
DTEND;TZID=Europe/London:20270210T180000
DTSTAMP:20260423T220331
CREATED:20251113T133756Z
LAST-MODIFIED:20251228T171252Z
UID:10015837-1802275200-1802282400@wseo.digital
SUMMARY:Slim Bot Wed 4pm - 6pm
DESCRIPTION:Please email join@slimradio.co.uk if you would like to take this slot
URL:https://wseo.digital/event/vacant-show-wed-4pm-6pm/2027-02-10/
ATTACH;FMTTYPE=image/jpeg:https://wseo.digital/wp-content/uploads/2025/12/Slimbot.jpg
LOCATION:
END:VEVENT
BEGIN:VEVENT
DTSTART;TZID=Europe/London:20270210T180000
DTEND;TZID=Europe/London:20270210T200000
DTSTAMP:20260423T220331
CREATED:20251112T143608Z
LAST-MODIFIED:20251112T150636Z
UID:10010592-1802282400-1802289600@wseo.digital
SUMMARY:Mr Baylis
DESCRIPTION:
URL:https://wseo.digital/event/mr-baylis/2027-02-10/
ATTACH;FMTTYPE=image/jpeg:https://wseo.digital/wp-content/uploads/2025/11/Mr-Baylis-1.jpg
LOCATION:
END:VEVENT
BEGIN:VEVENT
DTSTART;TZID=Europe/London:20270210T200000
DTEND;TZID=Europe/London:20270210T220000
DTSTAMP:20260423T220331
CREATED:20251228T171732Z
LAST-MODIFIED:20251228T171732Z
UID:10022483-1802289600-1802296800@wseo.digital
SUMMARY:Jon E C  (Start 14/1/26)
DESCRIPTION:
URL:https://wseo.digital/event/jon-e-c-start-14-1-26/2027-02-10/
ATTACH;FMTTYPE=image/webp:https://wseo.digital/wp-content/uploads/2025/11/slim-radio-show-1.webp
LOCATION:
END:VEVENT
BEGIN:VEVENT
DTSTART;TZID=Europe/London:20270210T220000
DTEND;TZID=Europe/London:20270210T233000
DTSTAMP:20260423T220331
CREATED:20251228T195709Z
LAST-MODIFIED:20251228T195709Z
UID:10016361-1802296800-1802302200@wseo.digital
SUMMARY:Slim Bot Wed 10pm -12am
DESCRIPTION:Please email join@slimradio.co.uk if you would like to take this slot
URL:https://wseo.digital/event/vacant-show-wed-10pm-12am-2/2027-02-10/
ATTACH;FMTTYPE=image/jpeg:https://wseo.digital/wp-content/uploads/2025/12/Slimbot.jpg
LOCATION:
END:VEVENT
END:VCALENDAR