BEGIN:VCALENDAR
VERSION:2.0
PRODID:-//wseodigital - ECPv6.15.13//NONSGML v1.0//EN
CALSCALE:GREGORIAN
METHOD:PUBLISH
X-ORIGINAL-URL:https://wseo.digital
X-WR-CALDESC:Events for wseodigital
REFRESH-INTERVAL;VALUE=DURATION:PT1H
X-Robots-Tag:noindex
X-PUBLISHED-TTL:PT1H
BEGIN:VTIMEZONE
TZID:Europe/London
BEGIN:DAYLIGHT
TZOFFSETFROM:+0000
TZOFFSETTO:+0100
TZNAME:BST
DTSTART:20260329T010000
END:DAYLIGHT
BEGIN:STANDARD
TZOFFSETFROM:+0100
TZOFFSETTO:+0000
TZNAME:GMT
DTSTART:20261025T010000
END:STANDARD
BEGIN:DAYLIGHT
TZOFFSETFROM:+0000
TZOFFSETTO:+0100
TZNAME:BST
DTSTART:20270328T010000
END:DAYLIGHT
BEGIN:STANDARD
TZOFFSETFROM:+0100
TZOFFSETTO:+0000
TZNAME:GMT
DTSTART:20271031T010000
END:STANDARD
BEGIN:DAYLIGHT
TZOFFSETFROM:+0000
TZOFFSETTO:+0100
TZNAME:BST
DTSTART:20280326T010000
END:DAYLIGHT
BEGIN:STANDARD
TZOFFSETFROM:+0100
TZOFFSETTO:+0000
TZNAME:GMT
DTSTART:20281029T010000
END:STANDARD
END:VTIMEZONE
BEGIN:VEVENT
DTSTART;TZID=Europe/London:20270417T070000
DTEND;TZID=Europe/London:20270417T100000
DTSTAMP:20260424T010353
CREATED:20251222T170949Z
LAST-MODIFIED:20251228T192851Z
UID:10020810-1807945200-1807956000@wseo.digital
SUMMARY:Slim Bot Sat 8am – 10pm
DESCRIPTION:Please email join@slimradio.co.uk if you would like to take this slot
URL:https://wseo.digital/event/vacant-show-sat-8am-10am-2/2027-04-17/
ATTACH;FMTTYPE=image/jpeg:https://wseo.digital/wp-content/uploads/2025/12/Slimbot.jpg
LOCATION:
END:VEVENT
BEGIN:VEVENT
DTSTART;TZID=Europe/London:20270417T120000
DTEND;TZID=Europe/London:20270417T140000
DTSTAMP:20260424T010353
CREATED:20251112T143438Z
LAST-MODIFIED:20251112T150145Z
UID:10010340-1807963200-1807970400@wseo.digital
SUMMARY:Graeham Bamford
DESCRIPTION:
URL:https://wseo.digital/event/graeham-b-p/2027-04-17/
ATTACH;FMTTYPE=image/jpeg:https://wseo.digital/wp-content/uploads/2025/11/Graeham-B-P.jpg
LOCATION:
END:VEVENT
BEGIN:VEVENT
DTSTART;TZID=Europe/London:20270417T140000
DTEND;TZID=Europe/London:20270417T160000
DTSTAMP:20260424T010353
CREATED:20251112T150308Z
LAST-MODIFIED:20251112T150508Z
UID:10011387-1807970400-1807977600@wseo.digital
SUMMARY:Katie Wild
DESCRIPTION:
URL:https://wseo.digital/event/katie-wild/2027-04-17/
ATTACH;FMTTYPE=image/jpeg:https://wseo.digital/wp-content/uploads/2025/11/Katie-Wild.jpg
LOCATION:
END:VEVENT
BEGIN:VEVENT
DTSTART;TZID=Europe/London:20270417T160000
DTEND;TZID=Europe/London:20270417T180000
DTSTAMP:20260424T010354
CREATED:20251228T193126Z
LAST-MODIFIED:20251228T193126Z
UID:10020026-1807977600-1807984800@wseo.digital
SUMMARY:Luis Perez
DESCRIPTION:Please email join@slimradio.co.uk if you would like to take this slot
URL:https://wseo.digital/event/vacant-show-sat-4pm-6pm-2/2027-04-17/
ATTACH;FMTTYPE=image/webp:https://wseo.digital/wp-content/uploads/2025/11/slim-radio-show-1.webp
LOCATION:
END:VEVENT
BEGIN:VEVENT
DTSTART;TZID=Europe/London:20270417T200000
DTEND;TZID=Europe/London:20270417T220000
DTSTAMP:20260424T010354
CREATED:20251228T193244Z
LAST-MODIFIED:20251228T193244Z
UID:10020549-1807992000-1807999200@wseo.digital
SUMMARY:Lewis Rew
DESCRIPTION:Please email join@slimradio.co.uk if you would like to take this slot
URL:https://wseo.digital/event/vacant-show-sat-8pm-10pm-2/2027-04-17/
ATTACH;FMTTYPE=image/webp:https://wseo.digital/wp-content/uploads/2025/11/slim-radio-show-1.webp
END:VEVENT
BEGIN:VEVENT
DTSTART;TZID=Europe/London:20270417T220000
DTEND;TZID=Europe/London:20270417T233000
DTSTAMP:20260424T010354
CREATED:20251228T193000Z
LAST-MODIFIED:20251228T193001Z
UID:10020288-1807999200-1808004600@wseo.digital
SUMMARY:Cornie Smart
DESCRIPTION:Please email join@slimradio.co.uk if you would like to take this slot
URL:https://wseo.digital/event/vacant-show-sat-10pm-12am-2/2027-04-17/
LOCATION:
END:VEVENT
END:VCALENDAR