BEGIN:VCALENDAR
VERSION:2.0
PRODID:-//wseodigital - ECPv6.15.13//NONSGML v1.0//EN
CALSCALE:GREGORIAN
METHOD:PUBLISH
X-WR-CALNAME:wseodigital
X-ORIGINAL-URL:https://wseo.digital
X-WR-CALDESC:Events for wseodigital
REFRESH-INTERVAL;VALUE=DURATION:PT1H
X-Robots-Tag:noindex
X-PUBLISHED-TTL:PT1H
BEGIN:VTIMEZONE
TZID:Europe/London
BEGIN:DAYLIGHT
TZOFFSETFROM:+0000
TZOFFSETTO:+0100
TZNAME:BST
DTSTART:20250330T010000
END:DAYLIGHT
BEGIN:STANDARD
TZOFFSETFROM:+0100
TZOFFSETTO:+0000
TZNAME:GMT
DTSTART:20251026T010000
END:STANDARD
BEGIN:DAYLIGHT
TZOFFSETFROM:+0000
TZOFFSETTO:+0100
TZNAME:BST
DTSTART:20260329T010000
END:DAYLIGHT
BEGIN:STANDARD
TZOFFSETFROM:+0100
TZOFFSETTO:+0000
TZNAME:GMT
DTSTART:20261025T010000
END:STANDARD
BEGIN:DAYLIGHT
TZOFFSETFROM:+0000
TZOFFSETTO:+0100
TZNAME:BST
DTSTART:20270328T010000
END:DAYLIGHT
BEGIN:STANDARD
TZOFFSETFROM:+0100
TZOFFSETTO:+0000
TZNAME:GMT
DTSTART:20271031T010000
END:STANDARD
END:VTIMEZONE
BEGIN:VEVENT
DTSTART;TZID=Europe/London:20260201T080000
DTEND;TZID=Europe/London:20260201T100000
DTSTAMP:20260421T165000
CREATED:20251228T193623Z
LAST-MODIFIED:20251228T193623Z
UID:10006642-1769932800-1769940000@wseo.digital
SUMMARY:DJ Jonah
DESCRIPTION:Please email join@slimradio.co.uk if you would like to take this slot
URL:https://wseo.digital/event/vacant-show-sun-8am-10am-2/2026-02-01/
ATTACH;FMTTYPE=image/webp:https://wseo.digital/wp-content/uploads/2025/11/slim-radio-show-1.webp
LOCATION:
END:VEVENT
BEGIN:VEVENT
DTSTART;TZID=Europe/London:20260201T100000
DTEND;TZID=Europe/London:20260201T120000
DTSTAMP:20260421T165000
CREATED:20251111T162428Z
LAST-MODIFIED:20251111T164533Z
UID:10006903-1769940000-1769947200@wseo.digital
SUMMARY:DJ Slim - The Sunday Jukebox
DESCRIPTION:
URL:https://wseo.digital/event/dj-slim-the-sunday-jukebox/2026-02-01/
ATTACH;FMTTYPE=image/jpeg:https://wseo.digital/wp-content/uploads/2025/11/DJ-Slim-Sunday-Morning-Brunch.jpg
LOCATION:
END:VEVENT
BEGIN:VEVENT
DTSTART;TZID=Europe/London:20260201T120000
DTEND;TZID=Europe/London:20260201T140000
DTSTAMP:20260421T165000
CREATED:20251111T135116Z
LAST-MODIFIED:20251111T164517Z
UID:10003769-1769947200-1769954400@wseo.digital
SUMMARY:Adam Wynn
DESCRIPTION:
URL:https://wseo.digital/event/adam-wynn/2026-02-01/
ATTACH;FMTTYPE=image/jpeg:https://wseo.digital/wp-content/uploads/2025/11/WhatsApp-Image-2025-10-30-at-09.15.37-1.jpeg
LOCATION:
END:VEVENT
BEGIN:VEVENT
DTSTART;TZID=Europe/London:20260201T140000
DTEND;TZID=Europe/London:20260201T160000
DTSTAMP:20260421T165000
CREATED:20251111T160629Z
LAST-MODIFIED:20251111T164438Z
UID:10005598-1769954400-1769961600@wseo.digital
SUMMARY:Chris Lambert
DESCRIPTION:
URL:https://wseo.digital/event/chris-lambert/2026-02-01/
ATTACH;FMTTYPE=image/jpeg:https://wseo.digital/wp-content/uploads/2025/11/Chris-Lambert.jpg
LOCATION:
END:VEVENT
BEGIN:VEVENT
DTSTART;TZID=Europe/London:20260201T160000
DTEND;TZID=Europe/London:20260201T180000
DTSTAMP:20260421T165000
CREATED:20251111T160816Z
LAST-MODIFIED:20251112T150014Z
UID:10005859-1769961600-1769968800@wseo.digital
SUMMARY:Ross P
DESCRIPTION:
URL:https://wseo.digital/event/ross-p-2/2026-02-01/
ATTACH;FMTTYPE=image/webp:https://wseo.digital/wp-content/uploads/2025/11/slim-radio-show-1.webp
LOCATION:
END:VEVENT
BEGIN:VEVENT
DTSTART;TZID=Europe/London:20260201T180000
DTEND;TZID=Europe/London:20260201T200000
DTSTAMP:20260421T165000
CREATED:20251111T161103Z
LAST-MODIFIED:20251111T164456Z
UID:10006120-1769968800-1769976000@wseo.digital
SUMMARY:Chris Saunders
DESCRIPTION:
URL:https://wseo.digital/event/chris-saunders/2026-02-01/
ATTACH;FMTTYPE=image/webp:https://wseo.digital/wp-content/uploads/2025/11/slim-radio-show-1.webp
LOCATION:
END:VEVENT
BEGIN:VEVENT
DTSTART;TZID=Europe/London:20260201T200000
DTEND;TZID=Europe/London:20260201T220000
DTSTAMP:20260421T165000
CREATED:20251111T161452Z
LAST-MODIFIED:20251111T164356Z
UID:10006381-1769976000-1769983200@wseo.digital
SUMMARY:Rob & Si with The Back To Ours Show
DESCRIPTION:
URL:https://wseo.digital/event/rob-si-with-the-back-to-ours-show/2026-02-01/
ATTACH;FMTTYPE=image/jpeg:https://wseo.digital/wp-content/uploads/2025/11/RobSi.jpg
LOCATION:
END:VEVENT
BEGIN:VEVENT
DTSTART;TZID=Europe/London:20260202T000000
DTEND;TZID=Europe/London:20260202T000000
DTSTAMP:20260421T165000
CREATED:20251228T163231Z
LAST-MODIFIED:20251228T165028Z
UID:10021048-1769990400-1769990400@wseo.digital
SUMMARY:Slim Bot Mon 10pm -12am
DESCRIPTION:Please email join@slimradio.co.uk if you would like to take this slot
URL:https://wseo.digital/event/vacant-show-mon-10am-12pm-2/2026-02-02/
ATTACH;FMTTYPE=image/webp:https://wseo.digital/wp-content/uploads/2025/11/slim-radio-show-1.webp
LOCATION:
END:VEVENT
BEGIN:VEVENT
DTSTART;TZID=Europe/London:20260202T070000
DTEND;TZID=Europe/London:20260202T100000
DTSTAMP:20260421T165000
CREATED:20251112T145525Z
LAST-MODIFIED:20251228T165338Z
UID:10021334-1770015600-1770026400@wseo.digital
SUMMARY:Slim Bot Mon 7am -10am
DESCRIPTION:Please email join@slimradio.co.uk if you would like to take this slot
URL:https://wseo.digital/event/wally-walton/2026-02-02/
ATTACH;FMTTYPE=image/jpeg:https://wseo.digital/wp-content/uploads/2025/12/Slimbot.jpg
LOCATION:
END:VEVENT
BEGIN:VEVENT
DTSTART;TZID=Europe/London:20260202T120000
DTEND;TZID=Europe/London:20260202T140000
DTSTAMP:20260421T165000
CREATED:20251113T125512Z
LAST-MODIFIED:20251228T162617Z
UID:10011849-1770033600-1770040800@wseo.digital
SUMMARY:Slim Bot - Mon 12pm-2pm
DESCRIPTION:Please email join@slimradio.co.uk if you would like to take this slot
URL:https://wseo.digital/event/vacant-show-mon-12pm-2pm-2/2026-02-02/
ATTACH;FMTTYPE=image/jpeg:https://wseo.digital/wp-content/uploads/2025/12/Slimbot.jpg
LOCATION:
END:VEVENT
BEGIN:VEVENT
DTSTART;TZID=Europe/London:20260202T140000
DTEND;TZID=Europe/London:20260202T160000
DTSTAMP:20260421T165000
CREATED:20251113T125724Z
LAST-MODIFIED:20251228T163801Z
UID:10012111-1770040800-1770048000@wseo.digital
SUMMARY:Slim Bot – Mon 12pm-2pm
DESCRIPTION:Please email join@slimradio.co.uk if you would like to take this slot
URL:https://wseo.digital/event/vacant-show-mon-2pm-4pm/2026-02-02/
ATTACH;FMTTYPE=image/jpeg:https://wseo.digital/wp-content/uploads/2025/12/Slimbot.jpg
LOCATION:
END:VEVENT
BEGIN:VEVENT
DTSTART;TZID=Europe/London:20260202T180000
DTEND;TZID=Europe/London:20260202T200000
DTSTAMP:20260421T165000
CREATED:20251228T163939Z
LAST-MODIFIED:20251228T165441Z
UID:10010800-1770055200-1770062400@wseo.digital
SUMMARY:Wally Walton Drive Time (Start Date TBC)
DESCRIPTION:
URL:https://wseo.digital/event/gareth-morgan-2-2/2026-02-02/
ATTACH;FMTTYPE=image/jpeg:https://wseo.digital/wp-content/uploads/2025/11/Wally-Walton.jpg
LOCATION:
END:VEVENT
BEGIN:VEVENT
DTSTART;TZID=Europe/London:20260202T200000
DTEND;TZID=Europe/London:20260202T220000
DTSTAMP:20260421T165000
CREATED:20251228T164043Z
LAST-MODIFIED:20251228T164043Z
UID:10012373-1770062400-1770069600@wseo.digital
SUMMARY:DJ TBC (01/02/26)
DESCRIPTION:DJ TBC (01/02/26)
URL:https://wseo.digital/event/vacant-show-mon-8pm-10pm-2/2026-02-02/
ATTACH;FMTTYPE=image/webp:https://wseo.digital/wp-content/uploads/2025/11/slim-radio-show-1.webp
LOCATION:
END:VEVENT
BEGIN:VEVENT
DTSTART;TZID=Europe/London:20260202T220000
DTEND;TZID=Europe/London:20260202T233000
DTSTAMP:20260421T165000
CREATED:20251228T162812Z
LAST-MODIFIED:20251228T163651Z
UID:10012635-1770069600-1770075000@wseo.digital
SUMMARY:Slim Bot Mon 10pm -12am
DESCRIPTION:Please email join@slimradio.co.uk if you would like to take this slot
URL:https://wseo.digital/event/vacant-show-mon-10pm-12am-2/2026-02-02/
ATTACH;FMTTYPE=image/jpeg:https://wseo.digital/wp-content/uploads/2025/12/Slimbot.jpg
LOCATION:
END:VEVENT
BEGIN:VEVENT
DTSTART;TZID=Europe/London:20260203T070000
DTEND;TZID=Europe/London:20260203T100000
DTSTAMP:20260421T165000
CREATED:20251228T165918Z
LAST-MODIFIED:20251228T165955Z
UID:10021868-1770102000-1770112800@wseo.digital
SUMMARY:Slim Bot Tues 7am – 10am
DESCRIPTION:Please email join@slimradio.co.uk if you would like to take this slot
URL:https://wseo.digital/event/slim-bot-tues-7am-10am/2026-02-03/
ATTACH;FMTTYPE=image/jpeg:https://wseo.digital/wp-content/uploads/2025/12/Slimbot.jpg
LOCATION:
END:VEVENT
BEGIN:VEVENT
DTSTART;TZID=Europe/London:20260203T100000
DTEND;TZID=Europe/London:20260203T120000
DTSTAMP:20260421T165000
CREATED:20251113T131912Z
LAST-MODIFIED:20251228T165607Z
UID:10013686-1770112800-1770120000@wseo.digital
SUMMARY:Slim Bot Tues 10am - 12am
DESCRIPTION:Please email join@slimradio.co.uk if you would like to take this slot
URL:https://wseo.digital/event/vacant-show-tues-10am-12pm/2026-02-03/
ATTACH;FMTTYPE=image/jpeg:https://wseo.digital/wp-content/uploads/2025/12/Slimbot.jpg
LOCATION:
END:VEVENT
BEGIN:VEVENT
DTSTART;TZID=Europe/London:20260203T120000
DTEND;TZID=Europe/London:20260203T140000
DTSTAMP:20260421T165000
CREATED:20251113T132142Z
LAST-MODIFIED:20251228T165721Z
UID:10013948-1770120000-1770127200@wseo.digital
SUMMARY:Slim Bot Tues 12pm – 2pm
DESCRIPTION:Please email join@slimradio.co.uk if you would like to take this slot
URL:https://wseo.digital/event/vacant-show-tues-12pm-2pm/2026-02-03/
ATTACH;FMTTYPE=image/jpeg:https://wseo.digital/wp-content/uploads/2025/12/Slimbot.jpg
LOCATION:
END:VEVENT
BEGIN:VEVENT
DTSTART;TZID=Europe/London:20260203T160000
DTEND;TZID=Europe/London:20260203T180000
DTSTAMP:20260421T165000
CREATED:20251113T143743Z
LAST-MODIFIED:20251228T170314Z
UID:10014211-1770134400-1770141600@wseo.digital
SUMMARY:Wellzee (Start 06/01/26)
DESCRIPTION:
URL:https://wseo.digital/event/vacant-show-tues-4pm-6pm-2/2026-02-03/
ATTACH;FMTTYPE=image/webp:https://wseo.digital/wp-content/uploads/2025/11/slim-radio-show-1.webp
LOCATION:
END:VEVENT
BEGIN:VEVENT
DTSTART;TZID=Europe/London:20260203T180000
DTEND;TZID=Europe/London:20260203T200000
DTSTAMP:20260421T165000
CREATED:20251113T131738Z
LAST-MODIFIED:20251113T131738Z
UID:10013424-1770141600-1770148800@wseo.digital
SUMMARY:Graeham Bamford
DESCRIPTION:
URL:https://wseo.digital/event/graeham-bamford-tues/2026-02-03/
ATTACH;FMTTYPE=image/jpeg:https://wseo.digital/wp-content/uploads/2025/11/Graeham-B-P.jpg
LOCATION:
END:VEVENT
BEGIN:VEVENT
DTSTART;TZID=Europe/London:20260203T200000
DTEND;TZID=Europe/London:20260203T220000
DTSTAMP:20260421T165000
CREATED:20251228T170430Z
LAST-MODIFIED:20251228T170430Z
UID:10014473-1770148800-1770156000@wseo.digital
SUMMARY:Fat Belly Co
DESCRIPTION:
URL:https://wseo.digital/event/vacant-show-tues-8pm-10pm-2/2026-02-03/
ATTACH;FMTTYPE=image/webp:https://wseo.digital/wp-content/uploads/2025/11/slim-radio-show-1.webp
LOCATION:
END:VEVENT
BEGIN:VEVENT
DTSTART;TZID=Europe/London:20260203T220000
DTEND;TZID=Europe/London:20260203T233000
DTSTAMP:20260421T165000
CREATED:20251113T132845Z
LAST-MODIFIED:20251113T144226Z
UID:10014736-1770156000-1770161400@wseo.digital
SUMMARY:Vacant Show
DESCRIPTION:Please email join@slimradio.co.uk if you would like to take this slot
URL:https://wseo.digital/event/vacant-show-tues-10pm-12am/2026-02-03/
ATTACH;FMTTYPE=image/webp:https://wseo.digital/wp-content/uploads/2025/11/slim-radio-show-1.webp
LOCATION:
END:VEVENT
BEGIN:VEVENT
DTSTART;TZID=Europe/London:20260204T080000
DTEND;TZID=Europe/London:20260204T100000
DTSTAMP:20260421T165000
CREATED:20251228T170806Z
LAST-MODIFIED:20251228T170806Z
UID:10022140-1770192000-1770199200@wseo.digital
SUMMARY:DJ Heath (starting 07/01/26)
DESCRIPTION:
URL:https://wseo.digital/event/dj-heath-starting-07-01-26/2026-02-04/
ATTACH;FMTTYPE=image/webp:https://wseo.digital/wp-content/uploads/2025/11/slim-radio-show-1.webp
LOCATION:
END:VEVENT
BEGIN:VEVENT
DTSTART;TZID=Europe/London:20260204T100000
DTEND;TZID=Europe/London:20260204T120000
DTSTAMP:20260421T165000
CREATED:20251113T133103Z
LAST-MODIFIED:20251228T171059Z
UID:10014998-1770199200-1770206400@wseo.digital
SUMMARY:Slim Bot 10am - 12pm
DESCRIPTION:Please email join@slimradio.co.uk if you would like to take this slot
URL:https://wseo.digital/event/vacant-show-wed-10am-12pm/2026-02-04/
ATTACH;FMTTYPE=image/jpeg:https://wseo.digital/wp-content/uploads/2025/12/Slimbot.jpg
LOCATION:
END:VEVENT
BEGIN:VEVENT
DTSTART;TZID=Europe/London:20260204T120000
DTEND;TZID=Europe/London:20260204T140000
DTSTAMP:20260421T165000
CREATED:20251113T133256Z
LAST-MODIFIED:20251228T171446Z
UID:10015260-1770206400-1770213600@wseo.digital
SUMMARY:Slim Bot Wed 12pm - 2pm
DESCRIPTION:Please email join@slimradio.co.uk if you would like to take this slot
URL:https://wseo.digital/event/vacant-show-wed-12pm-2pm/2026-02-04/
ATTACH;FMTTYPE=image/jpeg:https://wseo.digital/wp-content/uploads/2025/12/Slimbot.jpg
LOCATION:
END:VEVENT
BEGIN:VEVENT
DTSTART;TZID=Europe/London:20260204T140000
DTEND;TZID=Europe/London:20260204T160000
DTSTAMP:20260421T165000
CREATED:20251113T133451Z
LAST-MODIFIED:20251228T171344Z
UID:10015522-1770213600-1770220800@wseo.digital
SUMMARY:Slim Bot Wed 2pm - 4pm
DESCRIPTION:Please email join@slimradio.co.uk if you would like to take this slot
URL:https://wseo.digital/event/vacant-show-wed-2pm-4pm/2026-02-04/
ATTACH;FMTTYPE=image/jpeg:https://wseo.digital/wp-content/uploads/2025/12/Slimbot.jpg
LOCATION:
END:VEVENT
BEGIN:VEVENT
DTSTART;TZID=Europe/London:20260204T160000
DTEND;TZID=Europe/London:20260204T180000
DTSTAMP:20260421T165000
CREATED:20251113T133756Z
LAST-MODIFIED:20251228T171252Z
UID:10015784-1770220800-1770228000@wseo.digital
SUMMARY:Slim Bot Wed 4pm - 6pm
DESCRIPTION:Please email join@slimradio.co.uk if you would like to take this slot
URL:https://wseo.digital/event/vacant-show-wed-4pm-6pm/2026-02-04/
ATTACH;FMTTYPE=image/jpeg:https://wseo.digital/wp-content/uploads/2025/12/Slimbot.jpg
LOCATION:
END:VEVENT
BEGIN:VEVENT
DTSTART;TZID=Europe/London:20260204T180000
DTEND;TZID=Europe/London:20260204T200000
DTSTAMP:20260421T165000
CREATED:20251112T143608Z
LAST-MODIFIED:20251112T150636Z
UID:10010539-1770228000-1770235200@wseo.digital
SUMMARY:Mr Baylis
DESCRIPTION:
URL:https://wseo.digital/event/mr-baylis/2026-02-04/
ATTACH;FMTTYPE=image/jpeg:https://wseo.digital/wp-content/uploads/2025/11/Mr-Baylis-1.jpg
LOCATION:
END:VEVENT
BEGIN:VEVENT
DTSTART;TZID=Europe/London:20260204T200000
DTEND;TZID=Europe/London:20260204T220000
DTSTAMP:20260421T165000
CREATED:20251228T171732Z
LAST-MODIFIED:20251228T171732Z
UID:10022430-1770235200-1770242400@wseo.digital
SUMMARY:Jon E C  (Start 14/1/26)
DESCRIPTION:
URL:https://wseo.digital/event/jon-e-c-start-14-1-26/2026-02-04/
ATTACH;FMTTYPE=image/webp:https://wseo.digital/wp-content/uploads/2025/11/slim-radio-show-1.webp
LOCATION:
END:VEVENT
BEGIN:VEVENT
DTSTART;TZID=Europe/London:20260204T220000
DTEND;TZID=Europe/London:20260204T233000
DTSTAMP:20260421T165000
CREATED:20251228T195709Z
LAST-MODIFIED:20251228T195709Z
UID:10016308-1770242400-1770247800@wseo.digital
SUMMARY:Slim Bot Wed 10pm -12am
DESCRIPTION:Please email join@slimradio.co.uk if you would like to take this slot
URL:https://wseo.digital/event/vacant-show-wed-10pm-12am-2/2026-02-04/
ATTACH;FMTTYPE=image/jpeg:https://wseo.digital/wp-content/uploads/2025/12/Slimbot.jpg
LOCATION:
END:VEVENT
BEGIN:VEVENT
DTSTART;TZID=Europe/London:20260205T100000
DTEND;TZID=Europe/London:20260205T120000
DTSTAMP:20260421T165000
CREATED:20251113T134340Z
LAST-MODIFIED:20251228T185349Z
UID:10016570-1770285600-1770292800@wseo.digital
SUMMARY:Slim Bot Thurs 10am - 12pm
DESCRIPTION:Please email join@slimradio.co.uk if you would like to take this slot
URL:https://wseo.digital/event/vacant-show-thurs-10am-12pm/2026-02-05/
ATTACH;FMTTYPE=image/jpeg:https://wseo.digital/wp-content/uploads/2025/12/Slimbot.jpg
LOCATION:
END:VEVENT
END:VCALENDAR