BEGIN:VCALENDAR
VERSION:2.0
PRODID:-//wseodigital - ECPv6.15.13//NONSGML v1.0//EN
CALSCALE:GREGORIAN
METHOD:PUBLISH
X-WR-CALNAME:wseodigital
X-ORIGINAL-URL:https://wseo.digital
X-WR-CALDESC:Events for wseodigital
REFRESH-INTERVAL;VALUE=DURATION:PT1H
X-Robots-Tag:noindex
X-PUBLISHED-TTL:PT1H
BEGIN:VTIMEZONE
TZID:Europe/London
BEGIN:DAYLIGHT
TZOFFSETFROM:+0000
TZOFFSETTO:+0100
TZNAME:BST
DTSTART:20250330T010000
END:DAYLIGHT
BEGIN:STANDARD
TZOFFSETFROM:+0100
TZOFFSETTO:+0000
TZNAME:GMT
DTSTART:20251026T010000
END:STANDARD
BEGIN:DAYLIGHT
TZOFFSETFROM:+0000
TZOFFSETTO:+0100
TZNAME:BST
DTSTART:20260329T010000
END:DAYLIGHT
BEGIN:STANDARD
TZOFFSETFROM:+0100
TZOFFSETTO:+0000
TZNAME:GMT
DTSTART:20261025T010000
END:STANDARD
BEGIN:DAYLIGHT
TZOFFSETFROM:+0000
TZOFFSETTO:+0100
TZNAME:BST
DTSTART:20270328T010000
END:DAYLIGHT
BEGIN:STANDARD
TZOFFSETFROM:+0100
TZOFFSETTO:+0000
TZNAME:GMT
DTSTART:20271031T010000
END:STANDARD
END:VTIMEZONE
BEGIN:VEVENT
DTSTART;TZID=Europe/London:20260601T070000
DTEND;TZID=Europe/London:20260601T100000
DTSTAMP:20260421T182216
CREATED:20251112T145525Z
LAST-MODIFIED:20251228T165338Z
UID:10021351-1780297200-1780308000@wseo.digital
SUMMARY:Slim Bot Mon 7am -10am
DESCRIPTION:Please email join@slimradio.co.uk if you would like to take this slot
URL:https://wseo.digital/event/wally-walton/2026-06-01/
ATTACH;FMTTYPE=image/jpeg:https://wseo.digital/wp-content/uploads/2025/12/Slimbot.jpg
LOCATION:
END:VEVENT
BEGIN:VEVENT
DTSTART;TZID=Europe/London:20260601T120000
DTEND;TZID=Europe/London:20260601T140000
DTSTAMP:20260421T182216
CREATED:20251113T125512Z
LAST-MODIFIED:20251228T162617Z
UID:10011866-1780315200-1780322400@wseo.digital
SUMMARY:Slim Bot - Mon 12pm-2pm
DESCRIPTION:Please email join@slimradio.co.uk if you would like to take this slot
URL:https://wseo.digital/event/vacant-show-mon-12pm-2pm-2/2026-06-01/
ATTACH;FMTTYPE=image/jpeg:https://wseo.digital/wp-content/uploads/2025/12/Slimbot.jpg
LOCATION:
END:VEVENT
BEGIN:VEVENT
DTSTART;TZID=Europe/London:20260601T140000
DTEND;TZID=Europe/London:20260601T160000
DTSTAMP:20260421T182216
CREATED:20251113T125724Z
LAST-MODIFIED:20251228T163801Z
UID:10012128-1780322400-1780329600@wseo.digital
SUMMARY:Slim Bot – Mon 12pm-2pm
DESCRIPTION:Please email join@slimradio.co.uk if you would like to take this slot
URL:https://wseo.digital/event/vacant-show-mon-2pm-4pm/2026-06-01/
ATTACH;FMTTYPE=image/jpeg:https://wseo.digital/wp-content/uploads/2025/12/Slimbot.jpg
LOCATION:
END:VEVENT
BEGIN:VEVENT
DTSTART;TZID=Europe/London:20260601T180000
DTEND;TZID=Europe/London:20260601T200000
DTSTAMP:20260421T182216
CREATED:20251228T163939Z
LAST-MODIFIED:20251228T165441Z
UID:10010817-1780336800-1780344000@wseo.digital
SUMMARY:Wally Walton Drive Time (Start Date TBC)
DESCRIPTION:
URL:https://wseo.digital/event/gareth-morgan-2-2/2026-06-01/
ATTACH;FMTTYPE=image/jpeg:https://wseo.digital/wp-content/uploads/2025/11/Wally-Walton.jpg
LOCATION:
END:VEVENT
BEGIN:VEVENT
DTSTART;TZID=Europe/London:20260601T200000
DTEND;TZID=Europe/London:20260601T220000
DTSTAMP:20260421T182216
CREATED:20251228T164043Z
LAST-MODIFIED:20251228T164043Z
UID:10012390-1780344000-1780351200@wseo.digital
SUMMARY:DJ TBC (01/02/26)
DESCRIPTION:DJ TBC (01/02/26)
URL:https://wseo.digital/event/vacant-show-mon-8pm-10pm-2/2026-06-01/
ATTACH;FMTTYPE=image/webp:https://wseo.digital/wp-content/uploads/2025/11/slim-radio-show-1.webp
LOCATION:
END:VEVENT
BEGIN:VEVENT
DTSTART;TZID=Europe/London:20260601T220000
DTEND;TZID=Europe/London:20260601T233000
DTSTAMP:20260421T182216
CREATED:20251228T162812Z
LAST-MODIFIED:20251228T163651Z
UID:10012652-1780351200-1780356600@wseo.digital
SUMMARY:Slim Bot Mon 10pm -12am
DESCRIPTION:Please email join@slimradio.co.uk if you would like to take this slot
URL:https://wseo.digital/event/vacant-show-mon-10pm-12am-2/2026-06-01/
ATTACH;FMTTYPE=image/jpeg:https://wseo.digital/wp-content/uploads/2025/12/Slimbot.jpg
LOCATION:
END:VEVENT
BEGIN:VEVENT
DTSTART;TZID=Europe/London:20260602T070000
DTEND;TZID=Europe/London:20260602T100000
DTSTAMP:20260421T182216
CREATED:20251228T165918Z
LAST-MODIFIED:20251228T165955Z
UID:10021885-1780383600-1780394400@wseo.digital
SUMMARY:Slim Bot Tues 7am – 10am
DESCRIPTION:Please email join@slimradio.co.uk if you would like to take this slot
URL:https://wseo.digital/event/slim-bot-tues-7am-10am/2026-06-02/
ATTACH;FMTTYPE=image/jpeg:https://wseo.digital/wp-content/uploads/2025/12/Slimbot.jpg
LOCATION:
END:VEVENT
BEGIN:VEVENT
DTSTART;TZID=Europe/London:20260602T100000
DTEND;TZID=Europe/London:20260602T120000
DTSTAMP:20260421T182216
CREATED:20251113T131912Z
LAST-MODIFIED:20251228T165607Z
UID:10013703-1780394400-1780401600@wseo.digital
SUMMARY:Slim Bot Tues 10am - 12am
DESCRIPTION:Please email join@slimradio.co.uk if you would like to take this slot
URL:https://wseo.digital/event/vacant-show-tues-10am-12pm/2026-06-02/
ATTACH;FMTTYPE=image/jpeg:https://wseo.digital/wp-content/uploads/2025/12/Slimbot.jpg
LOCATION:
END:VEVENT
BEGIN:VEVENT
DTSTART;TZID=Europe/London:20260602T120000
DTEND;TZID=Europe/London:20260602T140000
DTSTAMP:20260421T182216
CREATED:20251113T132142Z
LAST-MODIFIED:20251228T165721Z
UID:10013965-1780401600-1780408800@wseo.digital
SUMMARY:Slim Bot Tues 12pm – 2pm
DESCRIPTION:Please email join@slimradio.co.uk if you would like to take this slot
URL:https://wseo.digital/event/vacant-show-tues-12pm-2pm/2026-06-02/
ATTACH;FMTTYPE=image/jpeg:https://wseo.digital/wp-content/uploads/2025/12/Slimbot.jpg
LOCATION:
END:VEVENT
BEGIN:VEVENT
DTSTART;TZID=Europe/London:20260602T160000
DTEND;TZID=Europe/London:20260602T180000
DTSTAMP:20260421T182216
CREATED:20251113T143743Z
LAST-MODIFIED:20251228T170314Z
UID:10014228-1780416000-1780423200@wseo.digital
SUMMARY:Wellzee (Start 06/01/26)
DESCRIPTION:
URL:https://wseo.digital/event/vacant-show-tues-4pm-6pm-2/2026-06-02/
ATTACH;FMTTYPE=image/webp:https://wseo.digital/wp-content/uploads/2025/11/slim-radio-show-1.webp
LOCATION:
END:VEVENT
BEGIN:VEVENT
DTSTART;TZID=Europe/London:20260602T180000
DTEND;TZID=Europe/London:20260602T200000
DTSTAMP:20260421T182216
CREATED:20251113T131738Z
LAST-MODIFIED:20251113T131738Z
UID:10013441-1780423200-1780430400@wseo.digital
SUMMARY:Graeham Bamford
DESCRIPTION:
URL:https://wseo.digital/event/graeham-bamford-tues/2026-06-02/
ATTACH;FMTTYPE=image/jpeg:https://wseo.digital/wp-content/uploads/2025/11/Graeham-B-P.jpg
LOCATION:
END:VEVENT
BEGIN:VEVENT
DTSTART;TZID=Europe/London:20260602T200000
DTEND;TZID=Europe/London:20260602T220000
DTSTAMP:20260421T182216
CREATED:20251228T170430Z
LAST-MODIFIED:20251228T170430Z
UID:10014490-1780430400-1780437600@wseo.digital
SUMMARY:Fat Belly Co
DESCRIPTION:
URL:https://wseo.digital/event/vacant-show-tues-8pm-10pm-2/2026-06-02/
ATTACH;FMTTYPE=image/webp:https://wseo.digital/wp-content/uploads/2025/11/slim-radio-show-1.webp
LOCATION:
END:VEVENT
BEGIN:VEVENT
DTSTART;TZID=Europe/London:20260602T220000
DTEND;TZID=Europe/London:20260602T233000
DTSTAMP:20260421T182216
CREATED:20251113T132845Z
LAST-MODIFIED:20251113T144226Z
UID:10014753-1780437600-1780443000@wseo.digital
SUMMARY:Vacant Show
DESCRIPTION:Please email join@slimradio.co.uk if you would like to take this slot
URL:https://wseo.digital/event/vacant-show-tues-10pm-12am/2026-06-02/
ATTACH;FMTTYPE=image/webp:https://wseo.digital/wp-content/uploads/2025/11/slim-radio-show-1.webp
LOCATION:
END:VEVENT
BEGIN:VEVENT
DTSTART;TZID=Europe/London:20260603T080000
DTEND;TZID=Europe/London:20260603T100000
DTSTAMP:20260421T182216
CREATED:20251228T170806Z
LAST-MODIFIED:20251228T170806Z
UID:10022157-1780473600-1780480800@wseo.digital
SUMMARY:DJ Heath (starting 07/01/26)
DESCRIPTION:
URL:https://wseo.digital/event/dj-heath-starting-07-01-26/2026-06-03/
ATTACH;FMTTYPE=image/webp:https://wseo.digital/wp-content/uploads/2025/11/slim-radio-show-1.webp
LOCATION:
END:VEVENT
BEGIN:VEVENT
DTSTART;TZID=Europe/London:20260603T100000
DTEND;TZID=Europe/London:20260603T120000
DTSTAMP:20260421T182216
CREATED:20251113T133103Z
LAST-MODIFIED:20251228T171059Z
UID:10015015-1780480800-1780488000@wseo.digital
SUMMARY:Slim Bot 10am - 12pm
DESCRIPTION:Please email join@slimradio.co.uk if you would like to take this slot
URL:https://wseo.digital/event/vacant-show-wed-10am-12pm/2026-06-03/
ATTACH;FMTTYPE=image/jpeg:https://wseo.digital/wp-content/uploads/2025/12/Slimbot.jpg
LOCATION:
END:VEVENT
BEGIN:VEVENT
DTSTART;TZID=Europe/London:20260603T120000
DTEND;TZID=Europe/London:20260603T140000
DTSTAMP:20260421T182216
CREATED:20251113T133256Z
LAST-MODIFIED:20251228T171446Z
UID:10015277-1780488000-1780495200@wseo.digital
SUMMARY:Slim Bot Wed 12pm - 2pm
DESCRIPTION:Please email join@slimradio.co.uk if you would like to take this slot
URL:https://wseo.digital/event/vacant-show-wed-12pm-2pm/2026-06-03/
ATTACH;FMTTYPE=image/jpeg:https://wseo.digital/wp-content/uploads/2025/12/Slimbot.jpg
LOCATION:
END:VEVENT
BEGIN:VEVENT
DTSTART;TZID=Europe/London:20260603T140000
DTEND;TZID=Europe/London:20260603T160000
DTSTAMP:20260421T182216
CREATED:20251113T133451Z
LAST-MODIFIED:20251228T171344Z
UID:10015539-1780495200-1780502400@wseo.digital
SUMMARY:Slim Bot Wed 2pm - 4pm
DESCRIPTION:Please email join@slimradio.co.uk if you would like to take this slot
URL:https://wseo.digital/event/vacant-show-wed-2pm-4pm/2026-06-03/
ATTACH;FMTTYPE=image/jpeg:https://wseo.digital/wp-content/uploads/2025/12/Slimbot.jpg
LOCATION:
END:VEVENT
BEGIN:VEVENT
DTSTART;TZID=Europe/London:20260603T160000
DTEND;TZID=Europe/London:20260603T180000
DTSTAMP:20260421T182216
CREATED:20251113T133756Z
LAST-MODIFIED:20251228T171252Z
UID:10015801-1780502400-1780509600@wseo.digital
SUMMARY:Slim Bot Wed 4pm - 6pm
DESCRIPTION:Please email join@slimradio.co.uk if you would like to take this slot
URL:https://wseo.digital/event/vacant-show-wed-4pm-6pm/2026-06-03/
ATTACH;FMTTYPE=image/jpeg:https://wseo.digital/wp-content/uploads/2025/12/Slimbot.jpg
LOCATION:
END:VEVENT
BEGIN:VEVENT
DTSTART;TZID=Europe/London:20260603T180000
DTEND;TZID=Europe/London:20260603T200000
DTSTAMP:20260421T182216
CREATED:20251112T143608Z
LAST-MODIFIED:20251112T150636Z
UID:10010556-1780509600-1780516800@wseo.digital
SUMMARY:Mr Baylis
DESCRIPTION:
URL:https://wseo.digital/event/mr-baylis/2026-06-03/
ATTACH;FMTTYPE=image/jpeg:https://wseo.digital/wp-content/uploads/2025/11/Mr-Baylis-1.jpg
LOCATION:
END:VEVENT
BEGIN:VEVENT
DTSTART;TZID=Europe/London:20260603T200000
DTEND;TZID=Europe/London:20260603T220000
DTSTAMP:20260421T182216
CREATED:20251228T171732Z
LAST-MODIFIED:20251228T171732Z
UID:10022447-1780516800-1780524000@wseo.digital
SUMMARY:Jon E C  (Start 14/1/26)
DESCRIPTION:
URL:https://wseo.digital/event/jon-e-c-start-14-1-26/2026-06-03/
ATTACH;FMTTYPE=image/webp:https://wseo.digital/wp-content/uploads/2025/11/slim-radio-show-1.webp
LOCATION:
END:VEVENT
BEGIN:VEVENT
DTSTART;TZID=Europe/London:20260603T220000
DTEND;TZID=Europe/London:20260603T233000
DTSTAMP:20260421T182216
CREATED:20251228T195709Z
LAST-MODIFIED:20251228T195709Z
UID:10016325-1780524000-1780529400@wseo.digital
SUMMARY:Slim Bot Wed 10pm -12am
DESCRIPTION:Please email join@slimradio.co.uk if you would like to take this slot
URL:https://wseo.digital/event/vacant-show-wed-10pm-12am-2/2026-06-03/
ATTACH;FMTTYPE=image/jpeg:https://wseo.digital/wp-content/uploads/2025/12/Slimbot.jpg
LOCATION:
END:VEVENT
BEGIN:VEVENT
DTSTART;TZID=Europe/London:20260604T100000
DTEND;TZID=Europe/London:20260604T120000
DTSTAMP:20260421T182216
CREATED:20251113T134340Z
LAST-MODIFIED:20251228T185349Z
UID:10016587-1780567200-1780574400@wseo.digital
SUMMARY:Slim Bot Thurs 10am - 12pm
DESCRIPTION:Please email join@slimradio.co.uk if you would like to take this slot
URL:https://wseo.digital/event/vacant-show-thurs-10am-12pm/2026-06-04/
ATTACH;FMTTYPE=image/jpeg:https://wseo.digital/wp-content/uploads/2025/12/Slimbot.jpg
LOCATION:
END:VEVENT
BEGIN:VEVENT
DTSTART;TZID=Europe/London:20260604T120000
DTEND;TZID=Europe/London:20260604T140000
DTSTAMP:20260421T182216
CREATED:20251113T135216Z
LAST-MODIFIED:20251228T190012Z
UID:10017109-1780574400-1780581600@wseo.digital
SUMMARY:Slim Bot Thurs 10am – 12pm
DESCRIPTION:Please email join@slimradio.co.uk if you would like to take this slot
URL:https://wseo.digital/event/vacant-show-thurs-12pm-2pm/2026-06-04/
ATTACH;FMTTYPE=image/jpeg:https://wseo.digital/wp-content/uploads/2025/12/Slimbot.jpg
LOCATION:
END:VEVENT
BEGIN:VEVENT
DTSTART;TZID=Europe/London:20260604T140000
DTEND;TZID=Europe/London:20260604T160000
DTSTAMP:20260421T182216
CREATED:20251113T135345Z
LAST-MODIFIED:20251228T190201Z
UID:10017370-1780581600-1780588800@wseo.digital
SUMMARY:Slim Bot Thurs 2pm – 4pm
DESCRIPTION:Please email join@slimradio.co.uk if you would like to take this slot
URL:https://wseo.digital/event/vacant-show-thurs-2pm-4pm/2026-06-04/
ATTACH;FMTTYPE=image/jpeg:https://wseo.digital/wp-content/uploads/2025/12/Slimbot.jpg
LOCATION:
END:VEVENT
BEGIN:VEVENT
DTSTART;TZID=Europe/London:20260604T160000
DTEND;TZID=Europe/London:20260604T180000
DTSTAMP:20260421T182216
CREATED:20251113T135533Z
LAST-MODIFIED:20251228T190709Z
UID:10017631-1780588800-1780596000@wseo.digital
SUMMARY:Charlie B
DESCRIPTION:
URL:https://wseo.digital/event/vacant-show-thurs-4pm-6pm/2026-06-04/
ATTACH;FMTTYPE=image/webp:https://wseo.digital/wp-content/uploads/2025/11/slim-radio-show-1.webp
LOCATION:
END:VEVENT
BEGIN:VEVENT
DTSTART;TZID=Europe/London:20260604T180000
DTEND;TZID=Europe/London:20260604T200000
DTSTAMP:20260421T182216
CREATED:20251228T190929Z
LAST-MODIFIED:20251228T190929Z
UID:10016848-1780596000-1780603200@wseo.digital
SUMMARY:Jamie S
DESCRIPTION:
URL:https://wseo.digital/event/chris-saunders-thurs-2/2026-06-04/
ATTACH;FMTTYPE=image/webp:https://wseo.digital/wp-content/uploads/2025/11/slim-radio-show-1.webp
LOCATION:
END:VEVENT
BEGIN:VEVENT
DTSTART;TZID=Europe/London:20260604T200000
DTEND;TZID=Europe/London:20260604T220000
DTSTAMP:20260421T182216
CREATED:20251228T191046Z
LAST-MODIFIED:20251228T191046Z
UID:10017892-1780603200-1780610400@wseo.digital
SUMMARY:Mark Ruston
DESCRIPTION:
URL:https://wseo.digital/event/vacant-show-thurs-8pm-10pm-2/2026-06-04/
ATTACH;FMTTYPE=image/webp:https://wseo.digital/wp-content/uploads/2025/11/slim-radio-show-1.webp
END:VEVENT
BEGIN:VEVENT
DTSTART;TZID=Europe/London:20260604T220000
DTEND;TZID=Europe/London:20260604T233000
DTSTAMP:20260421T182216
CREATED:20251228T191231Z
LAST-MODIFIED:20251228T191637Z
UID:10018153-1780610400-1780615800@wseo.digital
SUMMARY:Acid Neil
DESCRIPTION:Please email join@slimradio.co.uk if you would like to take this slot
URL:https://wseo.digital/event/vacant-show-thurs-10pm-12am-2/2026-06-04/
ATTACH;FMTTYPE=image/webp:https://wseo.digital/wp-content/uploads/2025/11/slim-radio-show-1.webp
LOCATION:
END:VEVENT
BEGIN:VEVENT
DTSTART;TZID=Europe/London:20260605T100000
DTEND;TZID=Europe/London:20260605T120000
DTSTAMP:20260421T182216
CREATED:20251228T192236Z
LAST-MODIFIED:20251228T192236Z
UID:10018414-1780653600-1780660800@wseo.digital
SUMMARY:Slim Bot Fri 10am – 12pm
DESCRIPTION:Please email join@slimradio.co.uk if you would like to take this slot
URL:https://wseo.digital/event/vacant-show-fri-10am-12pm-2/2026-06-05/
ATTACH;FMTTYPE=image/jpeg:https://wseo.digital/wp-content/uploads/2025/12/Slimbot.jpg
LOCATION:
END:VEVENT
BEGIN:VEVENT
DTSTART;TZID=Europe/London:20260605T120000
DTEND;TZID=Europe/London:20260605T140000
DTSTAMP:20260421T182216
CREATED:20251113T140213Z
LAST-MODIFIED:20251228T192546Z
UID:10018675-1780660800-1780668000@wseo.digital
SUMMARY:Slim Bot Fri 10am – 12pm
DESCRIPTION:Please email join@slimradio.co.uk if you would like to take this slot
URL:https://wseo.digital/event/vacant-show-fri-12pm-2pm/2026-06-05/
ATTACH;FMTTYPE=image/jpeg:https://wseo.digital/wp-content/uploads/2025/12/Slimbot.jpg
LOCATION:
END:VEVENT
END:VCALENDAR