BEGIN:VCALENDAR
VERSION:2.0
PRODID:-//wseodigital - ECPv6.15.13//NONSGML v1.0//EN
CALSCALE:GREGORIAN
METHOD:PUBLISH
X-ORIGINAL-URL:https://wseo.digital
X-WR-CALDESC:Events for wseodigital
REFRESH-INTERVAL;VALUE=DURATION:PT1H
X-Robots-Tag:noindex
X-PUBLISHED-TTL:PT1H
BEGIN:VTIMEZONE
TZID:Europe/London
BEGIN:DAYLIGHT
TZOFFSETFROM:+0000
TZOFFSETTO:+0100
TZNAME:BST
DTSTART:20250330T010000
END:DAYLIGHT
BEGIN:STANDARD
TZOFFSETFROM:+0100
TZOFFSETTO:+0000
TZNAME:GMT
DTSTART:20251026T010000
END:STANDARD
BEGIN:DAYLIGHT
TZOFFSETFROM:+0000
TZOFFSETTO:+0100
TZNAME:BST
DTSTART:20260329T010000
END:DAYLIGHT
BEGIN:STANDARD
TZOFFSETFROM:+0100
TZOFFSETTO:+0000
TZNAME:GMT
DTSTART:20261025T010000
END:STANDARD
BEGIN:DAYLIGHT
TZOFFSETFROM:+0000
TZOFFSETTO:+0100
TZNAME:BST
DTSTART:20270328T010000
END:DAYLIGHT
BEGIN:STANDARD
TZOFFSETFROM:+0100
TZOFFSETTO:+0000
TZNAME:GMT
DTSTART:20271031T010000
END:STANDARD
END:VTIMEZONE
BEGIN:VEVENT
DTSTART;TZID=Europe/London:20260801T070000
DTEND;TZID=Europe/London:20260801T100000
DTSTAMP:20260423T113044
CREATED:20251222T170949Z
LAST-MODIFIED:20251228T192851Z
UID:10020773-1785567600-1785578400@wseo.digital
SUMMARY:Slim Bot Sat 8am – 10pm
DESCRIPTION:Please email join@slimradio.co.uk if you would like to take this slot
URL:https://wseo.digital/event/vacant-show-sat-8am-10am-2/2026-08-01/
ATTACH;FMTTYPE=image/jpeg:https://wseo.digital/wp-content/uploads/2025/12/Slimbot.jpg
LOCATION:
END:VEVENT
BEGIN:VEVENT
DTSTART;TZID=Europe/London:20260801T120000
DTEND;TZID=Europe/London:20260801T140000
DTSTAMP:20260423T113044
CREATED:20251112T143438Z
LAST-MODIFIED:20251112T150145Z
UID:10010303-1785585600-1785592800@wseo.digital
SUMMARY:Graeham Bamford
DESCRIPTION:
URL:https://wseo.digital/event/graeham-b-p/2026-08-01/
ATTACH;FMTTYPE=image/jpeg:https://wseo.digital/wp-content/uploads/2025/11/Graeham-B-P.jpg
LOCATION:
END:VEVENT
BEGIN:VEVENT
DTSTART;TZID=Europe/London:20260801T140000
DTEND;TZID=Europe/London:20260801T160000
DTSTAMP:20260423T113044
CREATED:20251112T150308Z
LAST-MODIFIED:20251112T150508Z
UID:10011350-1785592800-1785600000@wseo.digital
SUMMARY:Katie Wild
DESCRIPTION:
URL:https://wseo.digital/event/katie-wild/2026-08-01/
ATTACH;FMTTYPE=image/jpeg:https://wseo.digital/wp-content/uploads/2025/11/Katie-Wild.jpg
LOCATION:
END:VEVENT
BEGIN:VEVENT
DTSTART;TZID=Europe/London:20260801T160000
DTEND;TZID=Europe/London:20260801T180000
DTSTAMP:20260423T113044
CREATED:20251228T193126Z
LAST-MODIFIED:20251228T193126Z
UID:10019989-1785600000-1785607200@wseo.digital
SUMMARY:Luis Perez
DESCRIPTION:Please email join@slimradio.co.uk if you would like to take this slot
URL:https://wseo.digital/event/vacant-show-sat-4pm-6pm-2/2026-08-01/
ATTACH;FMTTYPE=image/webp:https://wseo.digital/wp-content/uploads/2025/11/slim-radio-show-1.webp
LOCATION:
END:VEVENT
BEGIN:VEVENT
DTSTART;TZID=Europe/London:20260801T200000
DTEND;TZID=Europe/London:20260801T220000
DTSTAMP:20260423T113044
CREATED:20251228T193244Z
LAST-MODIFIED:20251228T193244Z
UID:10020512-1785614400-1785621600@wseo.digital
SUMMARY:Lewis Rew
DESCRIPTION:Please email join@slimradio.co.uk if you would like to take this slot
URL:https://wseo.digital/event/vacant-show-sat-8pm-10pm-2/2026-08-01/
ATTACH;FMTTYPE=image/webp:https://wseo.digital/wp-content/uploads/2025/11/slim-radio-show-1.webp
END:VEVENT
BEGIN:VEVENT
DTSTART;TZID=Europe/London:20260801T220000
DTEND;TZID=Europe/London:20260801T233000
DTSTAMP:20260423T113044
CREATED:20251228T193000Z
LAST-MODIFIED:20251228T193001Z
UID:10020251-1785621600-1785627000@wseo.digital
SUMMARY:Cornie Smart
DESCRIPTION:Please email join@slimradio.co.uk if you would like to take this slot
URL:https://wseo.digital/event/vacant-show-sat-10pm-12am-2/2026-08-01/
LOCATION:
END:VEVENT
BEGIN:VEVENT
DTSTART;TZID=Europe/London:20260802T080000
DTEND;TZID=Europe/London:20260802T100000
DTSTAMP:20260423T113044
CREATED:20251228T193623Z
LAST-MODIFIED:20251228T193623Z
UID:10006668-1785657600-1785664800@wseo.digital
SUMMARY:DJ Jonah
DESCRIPTION:Please email join@slimradio.co.uk if you would like to take this slot
URL:https://wseo.digital/event/vacant-show-sun-8am-10am-2/2026-08-02/
ATTACH;FMTTYPE=image/webp:https://wseo.digital/wp-content/uploads/2025/11/slim-radio-show-1.webp
LOCATION:
END:VEVENT
BEGIN:VEVENT
DTSTART;TZID=Europe/London:20260802T100000
DTEND;TZID=Europe/London:20260802T120000
DTSTAMP:20260423T113044
CREATED:20251111T162428Z
LAST-MODIFIED:20251111T164533Z
UID:10006929-1785664800-1785672000@wseo.digital
SUMMARY:DJ Slim - The Sunday Jukebox
DESCRIPTION:
URL:https://wseo.digital/event/dj-slim-the-sunday-jukebox/2026-08-02/
ATTACH;FMTTYPE=image/jpeg:https://wseo.digital/wp-content/uploads/2025/11/DJ-Slim-Sunday-Morning-Brunch.jpg
LOCATION:
END:VEVENT
BEGIN:VEVENT
DTSTART;TZID=Europe/London:20260802T130000
DTEND;TZID=Europe/London:20260802T150000
DTSTAMP:20260423T113044
CREATED:20251111T135116Z
LAST-MODIFIED:20251111T164517Z
UID:10003795-1785675600-1785682800@wseo.digital
SUMMARY:Adam Wynn
DESCRIPTION:
URL:https://wseo.digital/event/adam-wynn/2026-08-02/
ATTACH;FMTTYPE=image/jpeg:https://wseo.digital/wp-content/uploads/2025/11/WhatsApp-Image-2025-10-30-at-09.15.37-1.jpeg
LOCATION:
END:VEVENT
BEGIN:VEVENT
DTSTART;TZID=Europe/London:20260802T140000
DTEND;TZID=Europe/London:20260802T160000
DTSTAMP:20260423T113044
CREATED:20251111T160629Z
LAST-MODIFIED:20251111T164438Z
UID:10005624-1785679200-1785686400@wseo.digital
SUMMARY:Chris Lambert
DESCRIPTION:
URL:https://wseo.digital/event/chris-lambert/2026-08-02/
ATTACH;FMTTYPE=image/jpeg:https://wseo.digital/wp-content/uploads/2025/11/Chris-Lambert.jpg
LOCATION:
END:VEVENT
BEGIN:VEVENT
DTSTART;TZID=Europe/London:20260802T160000
DTEND;TZID=Europe/London:20260802T180000
DTSTAMP:20260423T113044
CREATED:20251111T160816Z
LAST-MODIFIED:20251112T150014Z
UID:10005885-1785686400-1785693600@wseo.digital
SUMMARY:Ross P
DESCRIPTION:
URL:https://wseo.digital/event/ross-p-2/2026-08-02/
ATTACH;FMTTYPE=image/webp:https://wseo.digital/wp-content/uploads/2025/11/slim-radio-show-1.webp
LOCATION:
END:VEVENT
BEGIN:VEVENT
DTSTART;TZID=Europe/London:20260802T180000
DTEND;TZID=Europe/London:20260802T200000
DTSTAMP:20260423T113044
CREATED:20251111T161103Z
LAST-MODIFIED:20251111T164456Z
UID:10006146-1785693600-1785700800@wseo.digital
SUMMARY:Chris Saunders
DESCRIPTION:
URL:https://wseo.digital/event/chris-saunders/2026-08-02/
ATTACH;FMTTYPE=image/webp:https://wseo.digital/wp-content/uploads/2025/11/slim-radio-show-1.webp
LOCATION:
END:VEVENT
BEGIN:VEVENT
DTSTART;TZID=Europe/London:20260802T200000
DTEND;TZID=Europe/London:20260802T220000
DTSTAMP:20260423T113044
CREATED:20251111T161452Z
LAST-MODIFIED:20251111T164356Z
UID:10006407-1785700800-1785708000@wseo.digital
SUMMARY:Rob & Si with The Back To Ours Show
DESCRIPTION:
URL:https://wseo.digital/event/rob-si-with-the-back-to-ours-show/2026-08-02/
ATTACH;FMTTYPE=image/jpeg:https://wseo.digital/wp-content/uploads/2025/11/RobSi.jpg
LOCATION:
END:VEVENT
BEGIN:VEVENT
DTSTART;TZID=Europe/London:20260803T000000
DTEND;TZID=Europe/London:20260803T000000
DTSTAMP:20260423T113044
CREATED:20251228T163231Z
LAST-MODIFIED:20251228T165028Z
UID:10021074-1785715200-1785715200@wseo.digital
SUMMARY:Slim Bot Mon 10pm -12am
DESCRIPTION:Please email join@slimradio.co.uk if you would like to take this slot
URL:https://wseo.digital/event/vacant-show-mon-10am-12pm-2/2026-08-03/
ATTACH;FMTTYPE=image/webp:https://wseo.digital/wp-content/uploads/2025/11/slim-radio-show-1.webp
LOCATION:
END:VEVENT
BEGIN:VEVENT
DTSTART;TZID=Europe/London:20260803T070000
DTEND;TZID=Europe/London:20260803T100000
DTSTAMP:20260423T113044
CREATED:20251112T145525Z
LAST-MODIFIED:20251228T165338Z
UID:10021360-1785740400-1785751200@wseo.digital
SUMMARY:Slim Bot Mon 7am -10am
DESCRIPTION:Please email join@slimradio.co.uk if you would like to take this slot
URL:https://wseo.digital/event/wally-walton/2026-08-03/
ATTACH;FMTTYPE=image/jpeg:https://wseo.digital/wp-content/uploads/2025/12/Slimbot.jpg
LOCATION:
END:VEVENT
BEGIN:VEVENT
DTSTART;TZID=Europe/London:20260803T120000
DTEND;TZID=Europe/London:20260803T140000
DTSTAMP:20260423T113044
CREATED:20251113T125512Z
LAST-MODIFIED:20251228T162617Z
UID:10011875-1785758400-1785765600@wseo.digital
SUMMARY:Slim Bot - Mon 12pm-2pm
DESCRIPTION:Please email join@slimradio.co.uk if you would like to take this slot
URL:https://wseo.digital/event/vacant-show-mon-12pm-2pm-2/2026-08-03/
ATTACH;FMTTYPE=image/jpeg:https://wseo.digital/wp-content/uploads/2025/12/Slimbot.jpg
LOCATION:
END:VEVENT
BEGIN:VEVENT
DTSTART;TZID=Europe/London:20260803T140000
DTEND;TZID=Europe/London:20260803T160000
DTSTAMP:20260423T113044
CREATED:20251113T125724Z
LAST-MODIFIED:20251228T163801Z
UID:10012137-1785765600-1785772800@wseo.digital
SUMMARY:Slim Bot – Mon 12pm-2pm
DESCRIPTION:Please email join@slimradio.co.uk if you would like to take this slot
URL:https://wseo.digital/event/vacant-show-mon-2pm-4pm/2026-08-03/
ATTACH;FMTTYPE=image/jpeg:https://wseo.digital/wp-content/uploads/2025/12/Slimbot.jpg
LOCATION:
END:VEVENT
BEGIN:VEVENT
DTSTART;TZID=Europe/London:20260803T180000
DTEND;TZID=Europe/London:20260803T200000
DTSTAMP:20260423T113044
CREATED:20251228T163939Z
LAST-MODIFIED:20251228T165441Z
UID:10010826-1785780000-1785787200@wseo.digital
SUMMARY:Wally Walton Drive Time (Start Date TBC)
DESCRIPTION:
URL:https://wseo.digital/event/gareth-morgan-2-2/2026-08-03/
ATTACH;FMTTYPE=image/jpeg:https://wseo.digital/wp-content/uploads/2025/11/Wally-Walton.jpg
LOCATION:
END:VEVENT
BEGIN:VEVENT
DTSTART;TZID=Europe/London:20260803T200000
DTEND;TZID=Europe/London:20260803T220000
DTSTAMP:20260423T113044
CREATED:20251228T164043Z
LAST-MODIFIED:20251228T164043Z
UID:10012399-1785787200-1785794400@wseo.digital
SUMMARY:DJ TBC (01/02/26)
DESCRIPTION:DJ TBC (01/02/26)
URL:https://wseo.digital/event/vacant-show-mon-8pm-10pm-2/2026-08-03/
ATTACH;FMTTYPE=image/webp:https://wseo.digital/wp-content/uploads/2025/11/slim-radio-show-1.webp
LOCATION:
END:VEVENT
BEGIN:VEVENT
DTSTART;TZID=Europe/London:20260803T220000
DTEND;TZID=Europe/London:20260803T233000
DTSTAMP:20260423T113044
CREATED:20251228T162812Z
LAST-MODIFIED:20251228T163651Z
UID:10012661-1785794400-1785799800@wseo.digital
SUMMARY:Slim Bot Mon 10pm -12am
DESCRIPTION:Please email join@slimradio.co.uk if you would like to take this slot
URL:https://wseo.digital/event/vacant-show-mon-10pm-12am-2/2026-08-03/
ATTACH;FMTTYPE=image/jpeg:https://wseo.digital/wp-content/uploads/2025/12/Slimbot.jpg
LOCATION:
END:VEVENT
BEGIN:VEVENT
DTSTART;TZID=Europe/London:20260804T070000
DTEND;TZID=Europe/London:20260804T100000
DTSTAMP:20260423T113044
CREATED:20251228T165918Z
LAST-MODIFIED:20251228T165955Z
UID:10021894-1785826800-1785837600@wseo.digital
SUMMARY:Slim Bot Tues 7am – 10am
DESCRIPTION:Please email join@slimradio.co.uk if you would like to take this slot
URL:https://wseo.digital/event/slim-bot-tues-7am-10am/2026-08-04/
ATTACH;FMTTYPE=image/jpeg:https://wseo.digital/wp-content/uploads/2025/12/Slimbot.jpg
LOCATION:
END:VEVENT
BEGIN:VEVENT
DTSTART;TZID=Europe/London:20260804T100000
DTEND;TZID=Europe/London:20260804T120000
DTSTAMP:20260423T113044
CREATED:20251113T131912Z
LAST-MODIFIED:20251228T165607Z
UID:10013712-1785837600-1785844800@wseo.digital
SUMMARY:Slim Bot Tues 10am - 12am
DESCRIPTION:Please email join@slimradio.co.uk if you would like to take this slot
URL:https://wseo.digital/event/vacant-show-tues-10am-12pm/2026-08-04/
ATTACH;FMTTYPE=image/jpeg:https://wseo.digital/wp-content/uploads/2025/12/Slimbot.jpg
LOCATION:
END:VEVENT
BEGIN:VEVENT
DTSTART;TZID=Europe/London:20260804T120000
DTEND;TZID=Europe/London:20260804T140000
DTSTAMP:20260423T113044
CREATED:20251113T132142Z
LAST-MODIFIED:20251228T165721Z
UID:10013974-1785844800-1785852000@wseo.digital
SUMMARY:Slim Bot Tues 12pm – 2pm
DESCRIPTION:Please email join@slimradio.co.uk if you would like to take this slot
URL:https://wseo.digital/event/vacant-show-tues-12pm-2pm/2026-08-04/
ATTACH;FMTTYPE=image/jpeg:https://wseo.digital/wp-content/uploads/2025/12/Slimbot.jpg
LOCATION:
END:VEVENT
BEGIN:VEVENT
DTSTART;TZID=Europe/London:20260804T160000
DTEND;TZID=Europe/London:20260804T180000
DTSTAMP:20260423T113044
CREATED:20251113T143743Z
LAST-MODIFIED:20251228T170314Z
UID:10014237-1785859200-1785866400@wseo.digital
SUMMARY:Wellzee (Start 06/01/26)
DESCRIPTION:
URL:https://wseo.digital/event/vacant-show-tues-4pm-6pm-2/2026-08-04/
ATTACH;FMTTYPE=image/webp:https://wseo.digital/wp-content/uploads/2025/11/slim-radio-show-1.webp
LOCATION:
END:VEVENT
BEGIN:VEVENT
DTSTART;TZID=Europe/London:20260804T180000
DTEND;TZID=Europe/London:20260804T200000
DTSTAMP:20260423T113044
CREATED:20251113T131738Z
LAST-MODIFIED:20251113T131738Z
UID:10013450-1785866400-1785873600@wseo.digital
SUMMARY:Graeham Bamford
DESCRIPTION:
URL:https://wseo.digital/event/graeham-bamford-tues/2026-08-04/
ATTACH;FMTTYPE=image/jpeg:https://wseo.digital/wp-content/uploads/2025/11/Graeham-B-P.jpg
LOCATION:
END:VEVENT
BEGIN:VEVENT
DTSTART;TZID=Europe/London:20260804T200000
DTEND;TZID=Europe/London:20260804T220000
DTSTAMP:20260423T113044
CREATED:20251228T170430Z
LAST-MODIFIED:20251228T170430Z
UID:10014499-1785873600-1785880800@wseo.digital
SUMMARY:Fat Belly Co
DESCRIPTION:
URL:https://wseo.digital/event/vacant-show-tues-8pm-10pm-2/2026-08-04/
ATTACH;FMTTYPE=image/webp:https://wseo.digital/wp-content/uploads/2025/11/slim-radio-show-1.webp
LOCATION:
END:VEVENT
BEGIN:VEVENT
DTSTART;TZID=Europe/London:20260804T220000
DTEND;TZID=Europe/London:20260804T233000
DTSTAMP:20260423T113044
CREATED:20251113T132845Z
LAST-MODIFIED:20251113T144226Z
UID:10014762-1785880800-1785886200@wseo.digital
SUMMARY:Vacant Show
DESCRIPTION:Please email join@slimradio.co.uk if you would like to take this slot
URL:https://wseo.digital/event/vacant-show-tues-10pm-12am/2026-08-04/
ATTACH;FMTTYPE=image/webp:https://wseo.digital/wp-content/uploads/2025/11/slim-radio-show-1.webp
LOCATION:
END:VEVENT
BEGIN:VEVENT
DTSTART;TZID=Europe/London:20260805T080000
DTEND;TZID=Europe/London:20260805T100000
DTSTAMP:20260423T113044
CREATED:20251228T170806Z
LAST-MODIFIED:20251228T170806Z
UID:10022166-1785916800-1785924000@wseo.digital
SUMMARY:DJ Heath (starting 07/01/26)
DESCRIPTION:
URL:https://wseo.digital/event/dj-heath-starting-07-01-26/2026-08-05/
ATTACH;FMTTYPE=image/webp:https://wseo.digital/wp-content/uploads/2025/11/slim-radio-show-1.webp
LOCATION:
END:VEVENT
BEGIN:VEVENT
DTSTART;TZID=Europe/London:20260805T100000
DTEND;TZID=Europe/London:20260805T120000
DTSTAMP:20260423T113044
CREATED:20251113T133103Z
LAST-MODIFIED:20251228T171059Z
UID:10015024-1785924000-1785931200@wseo.digital
SUMMARY:Slim Bot 10am - 12pm
DESCRIPTION:Please email join@slimradio.co.uk if you would like to take this slot
URL:https://wseo.digital/event/vacant-show-wed-10am-12pm/2026-08-05/
ATTACH;FMTTYPE=image/jpeg:https://wseo.digital/wp-content/uploads/2025/12/Slimbot.jpg
LOCATION:
END:VEVENT
BEGIN:VEVENT
DTSTART;TZID=Europe/London:20260805T120000
DTEND;TZID=Europe/London:20260805T140000
DTSTAMP:20260423T113044
CREATED:20251113T133256Z
LAST-MODIFIED:20251228T171446Z
UID:10015286-1785931200-1785938400@wseo.digital
SUMMARY:Slim Bot Wed 12pm - 2pm
DESCRIPTION:Please email join@slimradio.co.uk if you would like to take this slot
URL:https://wseo.digital/event/vacant-show-wed-12pm-2pm/2026-08-05/
ATTACH;FMTTYPE=image/jpeg:https://wseo.digital/wp-content/uploads/2025/12/Slimbot.jpg
LOCATION:
END:VEVENT
END:VCALENDAR