BEGIN:VCALENDAR
VERSION:2.0
PRODID:-//wseodigital - ECPv6.15.13//NONSGML v1.0//EN
CALSCALE:GREGORIAN
METHOD:PUBLISH
X-WR-CALNAME:wseodigital
X-ORIGINAL-URL:https://wseo.digital
X-WR-CALDESC:Events for wseodigital
REFRESH-INTERVAL;VALUE=DURATION:PT1H
X-Robots-Tag:noindex
X-PUBLISHED-TTL:PT1H
BEGIN:VTIMEZONE
TZID:Europe/London
BEGIN:DAYLIGHT
TZOFFSETFROM:+0000
TZOFFSETTO:+0100
TZNAME:BST
DTSTART:20250330T010000
END:DAYLIGHT
BEGIN:STANDARD
TZOFFSETFROM:+0100
TZOFFSETTO:+0000
TZNAME:GMT
DTSTART:20251026T010000
END:STANDARD
BEGIN:DAYLIGHT
TZOFFSETFROM:+0000
TZOFFSETTO:+0100
TZNAME:BST
DTSTART:20260329T010000
END:DAYLIGHT
BEGIN:STANDARD
TZOFFSETFROM:+0100
TZOFFSETTO:+0000
TZNAME:GMT
DTSTART:20261025T010000
END:STANDARD
BEGIN:DAYLIGHT
TZOFFSETFROM:+0000
TZOFFSETTO:+0100
TZNAME:BST
DTSTART:20270328T010000
END:DAYLIGHT
BEGIN:STANDARD
TZOFFSETFROM:+0100
TZOFFSETTO:+0000
TZNAME:GMT
DTSTART:20271031T010000
END:STANDARD
END:VTIMEZONE
BEGIN:VEVENT
DTSTART;TZID=Europe/London:20261201T070000
DTEND;TZID=Europe/London:20261201T100000
DTSTAMP:20260423T173038
CREATED:20251228T165918Z
LAST-MODIFIED:20251228T165955Z
UID:10021911-1796108400-1796119200@wseo.digital
SUMMARY:Slim Bot Tues 7am – 10am
DESCRIPTION:Please email join@slimradio.co.uk if you would like to take this slot
URL:https://wseo.digital/event/slim-bot-tues-7am-10am/2026-12-01/
ATTACH;FMTTYPE=image/jpeg:https://wseo.digital/wp-content/uploads/2025/12/Slimbot.jpg
LOCATION:
END:VEVENT
BEGIN:VEVENT
DTSTART;TZID=Europe/London:20261201T100000
DTEND;TZID=Europe/London:20261201T120000
DTSTAMP:20260423T173038
CREATED:20251113T131912Z
LAST-MODIFIED:20251228T165607Z
UID:10013729-1796119200-1796126400@wseo.digital
SUMMARY:Slim Bot Tues 10am - 12am
DESCRIPTION:Please email join@slimradio.co.uk if you would like to take this slot
URL:https://wseo.digital/event/vacant-show-tues-10am-12pm/2026-12-01/
ATTACH;FMTTYPE=image/jpeg:https://wseo.digital/wp-content/uploads/2025/12/Slimbot.jpg
LOCATION:
END:VEVENT
BEGIN:VEVENT
DTSTART;TZID=Europe/London:20261201T120000
DTEND;TZID=Europe/London:20261201T140000
DTSTAMP:20260423T173038
CREATED:20251113T132142Z
LAST-MODIFIED:20251228T165721Z
UID:10013991-1796126400-1796133600@wseo.digital
SUMMARY:Slim Bot Tues 12pm – 2pm
DESCRIPTION:Please email join@slimradio.co.uk if you would like to take this slot
URL:https://wseo.digital/event/vacant-show-tues-12pm-2pm/2026-12-01/
ATTACH;FMTTYPE=image/jpeg:https://wseo.digital/wp-content/uploads/2025/12/Slimbot.jpg
LOCATION:
END:VEVENT
BEGIN:VEVENT
DTSTART;TZID=Europe/London:20261201T160000
DTEND;TZID=Europe/London:20261201T180000
DTSTAMP:20260423T173038
CREATED:20251113T143743Z
LAST-MODIFIED:20251228T170314Z
UID:10014254-1796140800-1796148000@wseo.digital
SUMMARY:Wellzee (Start 06/01/26)
DESCRIPTION:
URL:https://wseo.digital/event/vacant-show-tues-4pm-6pm-2/2026-12-01/
ATTACH;FMTTYPE=image/webp:https://wseo.digital/wp-content/uploads/2025/11/slim-radio-show-1.webp
LOCATION:
END:VEVENT
BEGIN:VEVENT
DTSTART;TZID=Europe/London:20261201T180000
DTEND;TZID=Europe/London:20261201T200000
DTSTAMP:20260423T173038
CREATED:20251113T131738Z
LAST-MODIFIED:20251113T131738Z
UID:10013467-1796148000-1796155200@wseo.digital
SUMMARY:Graeham Bamford
DESCRIPTION:
URL:https://wseo.digital/event/graeham-bamford-tues/2026-12-01/
ATTACH;FMTTYPE=image/jpeg:https://wseo.digital/wp-content/uploads/2025/11/Graeham-B-P.jpg
LOCATION:
END:VEVENT
BEGIN:VEVENT
DTSTART;TZID=Europe/London:20261201T200000
DTEND;TZID=Europe/London:20261201T220000
DTSTAMP:20260423T173038
CREATED:20251228T170430Z
LAST-MODIFIED:20251228T170430Z
UID:10014516-1796155200-1796162400@wseo.digital
SUMMARY:Fat Belly Co
DESCRIPTION:
URL:https://wseo.digital/event/vacant-show-tues-8pm-10pm-2/2026-12-01/
ATTACH;FMTTYPE=image/webp:https://wseo.digital/wp-content/uploads/2025/11/slim-radio-show-1.webp
LOCATION:
END:VEVENT
BEGIN:VEVENT
DTSTART;TZID=Europe/London:20261201T220000
DTEND;TZID=Europe/London:20261201T233000
DTSTAMP:20260423T173038
CREATED:20251113T132845Z
LAST-MODIFIED:20251113T144226Z
UID:10014779-1796162400-1796167800@wseo.digital
SUMMARY:Vacant Show
DESCRIPTION:Please email join@slimradio.co.uk if you would like to take this slot
URL:https://wseo.digital/event/vacant-show-tues-10pm-12am/2026-12-01/
ATTACH;FMTTYPE=image/webp:https://wseo.digital/wp-content/uploads/2025/11/slim-radio-show-1.webp
LOCATION:
END:VEVENT
BEGIN:VEVENT
DTSTART;TZID=Europe/London:20261202T080000
DTEND;TZID=Europe/London:20261202T100000
DTSTAMP:20260423T173038
CREATED:20251228T170806Z
LAST-MODIFIED:20251228T170806Z
UID:10022183-1796198400-1796205600@wseo.digital
SUMMARY:DJ Heath (starting 07/01/26)
DESCRIPTION:
URL:https://wseo.digital/event/dj-heath-starting-07-01-26/2026-12-02/
ATTACH;FMTTYPE=image/webp:https://wseo.digital/wp-content/uploads/2025/11/slim-radio-show-1.webp
LOCATION:
END:VEVENT
BEGIN:VEVENT
DTSTART;TZID=Europe/London:20261202T100000
DTEND;TZID=Europe/London:20261202T120000
DTSTAMP:20260423T173038
CREATED:20251113T133103Z
LAST-MODIFIED:20251228T171059Z
UID:10015041-1796205600-1796212800@wseo.digital
SUMMARY:Slim Bot 10am - 12pm
DESCRIPTION:Please email join@slimradio.co.uk if you would like to take this slot
URL:https://wseo.digital/event/vacant-show-wed-10am-12pm/2026-12-02/
ATTACH;FMTTYPE=image/jpeg:https://wseo.digital/wp-content/uploads/2025/12/Slimbot.jpg
LOCATION:
END:VEVENT
BEGIN:VEVENT
DTSTART;TZID=Europe/London:20261202T120000
DTEND;TZID=Europe/London:20261202T140000
DTSTAMP:20260423T173038
CREATED:20251113T133256Z
LAST-MODIFIED:20251228T171446Z
UID:10015303-1796212800-1796220000@wseo.digital
SUMMARY:Slim Bot Wed 12pm - 2pm
DESCRIPTION:Please email join@slimradio.co.uk if you would like to take this slot
URL:https://wseo.digital/event/vacant-show-wed-12pm-2pm/2026-12-02/
ATTACH;FMTTYPE=image/jpeg:https://wseo.digital/wp-content/uploads/2025/12/Slimbot.jpg
LOCATION:
END:VEVENT
BEGIN:VEVENT
DTSTART;TZID=Europe/London:20261202T140000
DTEND;TZID=Europe/London:20261202T160000
DTSTAMP:20260423T173038
CREATED:20251113T133451Z
LAST-MODIFIED:20251228T171344Z
UID:10015565-1796220000-1796227200@wseo.digital
SUMMARY:Slim Bot Wed 2pm - 4pm
DESCRIPTION:Please email join@slimradio.co.uk if you would like to take this slot
URL:https://wseo.digital/event/vacant-show-wed-2pm-4pm/2026-12-02/
ATTACH;FMTTYPE=image/jpeg:https://wseo.digital/wp-content/uploads/2025/12/Slimbot.jpg
LOCATION:
END:VEVENT
BEGIN:VEVENT
DTSTART;TZID=Europe/London:20261202T160000
DTEND;TZID=Europe/London:20261202T180000
DTSTAMP:20260423T173038
CREATED:20251113T133756Z
LAST-MODIFIED:20251228T171252Z
UID:10015827-1796227200-1796234400@wseo.digital
SUMMARY:Slim Bot Wed 4pm - 6pm
DESCRIPTION:Please email join@slimradio.co.uk if you would like to take this slot
URL:https://wseo.digital/event/vacant-show-wed-4pm-6pm/2026-12-02/
ATTACH;FMTTYPE=image/jpeg:https://wseo.digital/wp-content/uploads/2025/12/Slimbot.jpg
LOCATION:
END:VEVENT
BEGIN:VEVENT
DTSTART;TZID=Europe/London:20261202T180000
DTEND;TZID=Europe/London:20261202T200000
DTSTAMP:20260423T173038
CREATED:20251112T143608Z
LAST-MODIFIED:20251112T150636Z
UID:10010582-1796234400-1796241600@wseo.digital
SUMMARY:Mr Baylis
DESCRIPTION:
URL:https://wseo.digital/event/mr-baylis/2026-12-02/
ATTACH;FMTTYPE=image/jpeg:https://wseo.digital/wp-content/uploads/2025/11/Mr-Baylis-1.jpg
LOCATION:
END:VEVENT
BEGIN:VEVENT
DTSTART;TZID=Europe/London:20261202T200000
DTEND;TZID=Europe/London:20261202T220000
DTSTAMP:20260423T173038
CREATED:20251228T171732Z
LAST-MODIFIED:20251228T171732Z
UID:10022473-1796241600-1796248800@wseo.digital
SUMMARY:Jon E C  (Start 14/1/26)
DESCRIPTION:
URL:https://wseo.digital/event/jon-e-c-start-14-1-26/2026-12-02/
ATTACH;FMTTYPE=image/webp:https://wseo.digital/wp-content/uploads/2025/11/slim-radio-show-1.webp
LOCATION:
END:VEVENT
BEGIN:VEVENT
DTSTART;TZID=Europe/London:20261202T220000
DTEND;TZID=Europe/London:20261202T233000
DTSTAMP:20260423T173038
CREATED:20251228T195709Z
LAST-MODIFIED:20251228T195709Z
UID:10016351-1796248800-1796254200@wseo.digital
SUMMARY:Slim Bot Wed 10pm -12am
DESCRIPTION:Please email join@slimradio.co.uk if you would like to take this slot
URL:https://wseo.digital/event/vacant-show-wed-10pm-12am-2/2026-12-02/
ATTACH;FMTTYPE=image/jpeg:https://wseo.digital/wp-content/uploads/2025/12/Slimbot.jpg
LOCATION:
END:VEVENT
BEGIN:VEVENT
DTSTART;TZID=Europe/London:20261203T100000
DTEND;TZID=Europe/London:20261203T120000
DTSTAMP:20260423T173038
CREATED:20251113T134340Z
LAST-MODIFIED:20251228T185349Z
UID:10016613-1796292000-1796299200@wseo.digital
SUMMARY:Slim Bot Thurs 10am - 12pm
DESCRIPTION:Please email join@slimradio.co.uk if you would like to take this slot
URL:https://wseo.digital/event/vacant-show-thurs-10am-12pm/2026-12-03/
ATTACH;FMTTYPE=image/jpeg:https://wseo.digital/wp-content/uploads/2025/12/Slimbot.jpg
LOCATION:
END:VEVENT
BEGIN:VEVENT
DTSTART;TZID=Europe/London:20261203T120000
DTEND;TZID=Europe/London:20261203T140000
DTSTAMP:20260423T173038
CREATED:20251113T135216Z
LAST-MODIFIED:20251228T190012Z
UID:10017135-1796299200-1796306400@wseo.digital
SUMMARY:Slim Bot Thurs 10am – 12pm
DESCRIPTION:Please email join@slimradio.co.uk if you would like to take this slot
URL:https://wseo.digital/event/vacant-show-thurs-12pm-2pm/2026-12-03/
ATTACH;FMTTYPE=image/jpeg:https://wseo.digital/wp-content/uploads/2025/12/Slimbot.jpg
LOCATION:
END:VEVENT
BEGIN:VEVENT
DTSTART;TZID=Europe/London:20261203T140000
DTEND;TZID=Europe/London:20261203T160000
DTSTAMP:20260423T173038
CREATED:20251113T135345Z
LAST-MODIFIED:20251228T190201Z
UID:10017396-1796306400-1796313600@wseo.digital
SUMMARY:Slim Bot Thurs 2pm – 4pm
DESCRIPTION:Please email join@slimradio.co.uk if you would like to take this slot
URL:https://wseo.digital/event/vacant-show-thurs-2pm-4pm/2026-12-03/
ATTACH;FMTTYPE=image/jpeg:https://wseo.digital/wp-content/uploads/2025/12/Slimbot.jpg
LOCATION:
END:VEVENT
BEGIN:VEVENT
DTSTART;TZID=Europe/London:20261203T160000
DTEND;TZID=Europe/London:20261203T180000
DTSTAMP:20260423T173038
CREATED:20251113T135533Z
LAST-MODIFIED:20251228T190709Z
UID:10017657-1796313600-1796320800@wseo.digital
SUMMARY:Charlie B
DESCRIPTION:
URL:https://wseo.digital/event/vacant-show-thurs-4pm-6pm/2026-12-03/
ATTACH;FMTTYPE=image/webp:https://wseo.digital/wp-content/uploads/2025/11/slim-radio-show-1.webp
LOCATION:
END:VEVENT
BEGIN:VEVENT
DTSTART;TZID=Europe/London:20261203T180000
DTEND;TZID=Europe/London:20261203T200000
DTSTAMP:20260423T173038
CREATED:20251228T190929Z
LAST-MODIFIED:20251228T190929Z
UID:10016874-1796320800-1796328000@wseo.digital
SUMMARY:Jamie S
DESCRIPTION:
URL:https://wseo.digital/event/chris-saunders-thurs-2/2026-12-03/
ATTACH;FMTTYPE=image/webp:https://wseo.digital/wp-content/uploads/2025/11/slim-radio-show-1.webp
LOCATION:
END:VEVENT
BEGIN:VEVENT
DTSTART;TZID=Europe/London:20261203T200000
DTEND;TZID=Europe/London:20261203T220000
DTSTAMP:20260423T173038
CREATED:20251228T191046Z
LAST-MODIFIED:20251228T191046Z
UID:10017918-1796328000-1796335200@wseo.digital
SUMMARY:Mark Ruston
DESCRIPTION:
URL:https://wseo.digital/event/vacant-show-thurs-8pm-10pm-2/2026-12-03/
ATTACH;FMTTYPE=image/webp:https://wseo.digital/wp-content/uploads/2025/11/slim-radio-show-1.webp
END:VEVENT
BEGIN:VEVENT
DTSTART;TZID=Europe/London:20261203T220000
DTEND;TZID=Europe/London:20261203T233000
DTSTAMP:20260423T173038
CREATED:20251228T191231Z
LAST-MODIFIED:20251228T191637Z
UID:10018179-1796335200-1796340600@wseo.digital
SUMMARY:Acid Neil
DESCRIPTION:Please email join@slimradio.co.uk if you would like to take this slot
URL:https://wseo.digital/event/vacant-show-thurs-10pm-12am-2/2026-12-03/
ATTACH;FMTTYPE=image/webp:https://wseo.digital/wp-content/uploads/2025/11/slim-radio-show-1.webp
LOCATION:
END:VEVENT
BEGIN:VEVENT
DTSTART;TZID=Europe/London:20261204T100000
DTEND;TZID=Europe/London:20261204T120000
DTSTAMP:20260423T173038
CREATED:20251228T192236Z
LAST-MODIFIED:20251228T192236Z
UID:10018440-1796378400-1796385600@wseo.digital
SUMMARY:Slim Bot Fri 10am – 12pm
DESCRIPTION:Please email join@slimradio.co.uk if you would like to take this slot
URL:https://wseo.digital/event/vacant-show-fri-10am-12pm-2/2026-12-04/
ATTACH;FMTTYPE=image/jpeg:https://wseo.digital/wp-content/uploads/2025/12/Slimbot.jpg
LOCATION:
END:VEVENT
BEGIN:VEVENT
DTSTART;TZID=Europe/London:20261204T120000
DTEND;TZID=Europe/London:20261204T140000
DTSTAMP:20260423T173038
CREATED:20251113T140213Z
LAST-MODIFIED:20251228T192546Z
UID:10018701-1796385600-1796392800@wseo.digital
SUMMARY:Slim Bot Fri 10am – 12pm
DESCRIPTION:Please email join@slimradio.co.uk if you would like to take this slot
URL:https://wseo.digital/event/vacant-show-fri-12pm-2pm/2026-12-04/
ATTACH;FMTTYPE=image/jpeg:https://wseo.digital/wp-content/uploads/2025/12/Slimbot.jpg
LOCATION:
END:VEVENT
BEGIN:VEVENT
DTSTART;TZID=Europe/London:20261204T140000
DTEND;TZID=Europe/London:20261204T160000
DTSTAMP:20260423T173038
CREATED:20251113T140347Z
LAST-MODIFIED:20251228T192716Z
UID:10018962-1796392800-1796400000@wseo.digital
SUMMARY:Slim Bot 2pm - 4pm
DESCRIPTION:Please email join@slimradio.co.uk if you would like to take this slot
URL:https://wseo.digital/event/vacant-show-fri-2pm-4pm/2026-12-04/
ATTACH;FMTTYPE=image/jpeg:https://wseo.digital/wp-content/uploads/2025/12/Slimbot.jpg
LOCATION:
END:VEVENT
BEGIN:VEVENT
DTSTART;TZID=Europe/London:20261204T160000
DTEND;TZID=Europe/London:20261204T180000
DTSTAMP:20260423T173038
CREATED:20251112T141954Z
LAST-MODIFIED:20251112T150434Z
UID:10010060-1796400000-1796407200@wseo.digital
SUMMARY:Ross P
DESCRIPTION:
URL:https://wseo.digital/event/ross-p/2026-12-04/
ATTACH;FMTTYPE=image/webp:https://wseo.digital/wp-content/uploads/2025/11/slim-radio-show-1.webp
LOCATION:
END:VEVENT
BEGIN:VEVENT
DTSTART;TZID=Europe/London:20261204T180000
DTEND;TZID=Europe/London:20261204T200000
DTSTAMP:20260423T173038
CREATED:20251112T141522Z
LAST-MODIFIED:20251112T150559Z
UID:10009538-1796407200-1796414400@wseo.digital
SUMMARY:Peter Johnson
DESCRIPTION:
URL:https://wseo.digital/event/peter-johnson/2026-12-04/
ATTACH;FMTTYPE=image/jpeg:https://wseo.digital/wp-content/uploads/2025/11/Peter-Johnston.jpg
LOCATION:
END:VEVENT
BEGIN:VEVENT
DTSTART;TZID=Europe/London:20261204T200000
DTEND;TZID=Europe/London:20261204T220000
DTSTAMP:20260423T173038
CREATED:20251112T141718Z
LAST-MODIFIED:20251112T150611Z
UID:10009799-1796414400-1796421600@wseo.digital
SUMMARY:Adam McGowan
DESCRIPTION:
URL:https://wseo.digital/event/adam-mcgowan/2026-12-04/
ATTACH;FMTTYPE=image/jpeg:https://wseo.digital/wp-content/uploads/2025/11/Mr-Adz.jpg
LOCATION:
END:VEVENT
BEGIN:VEVENT
DTSTART;TZID=Europe/London:20261204T220000
DTEND;TZID=Europe/London:20261204T233000
DTSTAMP:20260423T173038
CREATED:20251113T140531Z
LAST-MODIFIED:20251228T192127Z
UID:10019224-1796421600-1796427000@wseo.digital
SUMMARY:Slim Bot Fri 10pm - 12am
DESCRIPTION:Please email join@slimradio.co.uk if you would like to take this slot
URL:https://wseo.digital/event/vacant-show-fri-10pm-12am/2026-12-04/
ATTACH;FMTTYPE=image/jpeg:https://wseo.digital/wp-content/uploads/2025/12/Slimbot.jpg
LOCATION:
END:VEVENT
BEGIN:VEVENT
DTSTART;TZID=Europe/London:20261205T070000
DTEND;TZID=Europe/London:20261205T100000
DTSTAMP:20260423T173038
CREATED:20251222T170949Z
LAST-MODIFIED:20251228T192851Z
UID:10020791-1796454000-1796464800@wseo.digital
SUMMARY:Slim Bot Sat 8am – 10pm
DESCRIPTION:Please email join@slimradio.co.uk if you would like to take this slot
URL:https://wseo.digital/event/vacant-show-sat-8am-10am-2/2026-12-05/
ATTACH;FMTTYPE=image/jpeg:https://wseo.digital/wp-content/uploads/2025/12/Slimbot.jpg
LOCATION:
END:VEVENT
END:VCALENDAR