BEGIN:VCALENDAR
VERSION:2.0
PRODID:-//wseodigital - ECPv6.15.13//NONSGML v1.0//EN
CALSCALE:GREGORIAN
METHOD:PUBLISH
X-ORIGINAL-URL:https://wseo.digital
X-WR-CALDESC:Events for wseodigital
REFRESH-INTERVAL;VALUE=DURATION:PT1H
X-Robots-Tag:noindex
X-PUBLISHED-TTL:PT1H
BEGIN:VTIMEZONE
TZID:Europe/London
BEGIN:DAYLIGHT
TZOFFSETFROM:+0000
TZOFFSETTO:+0100
TZNAME:BST
DTSTART:20260329T010000
END:DAYLIGHT
BEGIN:STANDARD
TZOFFSETFROM:+0100
TZOFFSETTO:+0000
TZNAME:GMT
DTSTART:20261025T010000
END:STANDARD
BEGIN:DAYLIGHT
TZOFFSETFROM:+0000
TZOFFSETTO:+0100
TZNAME:BST
DTSTART:20270328T010000
END:DAYLIGHT
BEGIN:STANDARD
TZOFFSETFROM:+0100
TZOFFSETTO:+0000
TZNAME:GMT
DTSTART:20271031T010000
END:STANDARD
BEGIN:DAYLIGHT
TZOFFSETFROM:+0000
TZOFFSETTO:+0100
TZNAME:BST
DTSTART:20280326T010000
END:DAYLIGHT
BEGIN:STANDARD
TZOFFSETFROM:+0100
TZOFFSETTO:+0000
TZNAME:GMT
DTSTART:20281029T010000
END:STANDARD
END:VTIMEZONE
BEGIN:VEVENT
DTSTART;TZID=Europe/London:20270101T100000
DTEND;TZID=Europe/London:20270101T120000
DTSTAMP:20260423T190836
CREATED:20251228T192236Z
LAST-MODIFIED:20251228T192236Z
UID:10018444-1798797600-1798804800@wseo.digital
SUMMARY:Slim Bot Fri 10am – 12pm
DESCRIPTION:Please email join@slimradio.co.uk if you would like to take this slot
URL:https://wseo.digital/event/vacant-show-fri-10am-12pm-2/2027-01-01/
ATTACH;FMTTYPE=image/jpeg:https://wseo.digital/wp-content/uploads/2025/12/Slimbot.jpg
LOCATION:
END:VEVENT
BEGIN:VEVENT
DTSTART;TZID=Europe/London:20270101T120000
DTEND;TZID=Europe/London:20270101T140000
DTSTAMP:20260423T190836
CREATED:20251113T140213Z
LAST-MODIFIED:20251228T192546Z
UID:10018705-1798804800-1798812000@wseo.digital
SUMMARY:Slim Bot Fri 10am – 12pm
DESCRIPTION:Please email join@slimradio.co.uk if you would like to take this slot
URL:https://wseo.digital/event/vacant-show-fri-12pm-2pm/2027-01-01/
ATTACH;FMTTYPE=image/jpeg:https://wseo.digital/wp-content/uploads/2025/12/Slimbot.jpg
LOCATION:
END:VEVENT
BEGIN:VEVENT
DTSTART;TZID=Europe/London:20270101T140000
DTEND;TZID=Europe/London:20270101T160000
DTSTAMP:20260423T190836
CREATED:20251113T140347Z
LAST-MODIFIED:20251228T192716Z
UID:10018966-1798812000-1798819200@wseo.digital
SUMMARY:Slim Bot 2pm - 4pm
DESCRIPTION:Please email join@slimradio.co.uk if you would like to take this slot
URL:https://wseo.digital/event/vacant-show-fri-2pm-4pm/2027-01-01/
ATTACH;FMTTYPE=image/jpeg:https://wseo.digital/wp-content/uploads/2025/12/Slimbot.jpg
LOCATION:
END:VEVENT
BEGIN:VEVENT
DTSTART;TZID=Europe/London:20270101T160000
DTEND;TZID=Europe/London:20270101T180000
DTSTAMP:20260423T190836
CREATED:20251112T141954Z
LAST-MODIFIED:20251112T150434Z
UID:10010064-1798819200-1798826400@wseo.digital
SUMMARY:Ross P
DESCRIPTION:
URL:https://wseo.digital/event/ross-p/2027-01-01/
ATTACH;FMTTYPE=image/webp:https://wseo.digital/wp-content/uploads/2025/11/slim-radio-show-1.webp
LOCATION:
END:VEVENT
BEGIN:VEVENT
DTSTART;TZID=Europe/London:20270101T180000
DTEND;TZID=Europe/London:20270101T200000
DTSTAMP:20260423T190836
CREATED:20251112T141522Z
LAST-MODIFIED:20251112T150559Z
UID:10009542-1798826400-1798833600@wseo.digital
SUMMARY:Peter Johnson
DESCRIPTION:
URL:https://wseo.digital/event/peter-johnson/2027-01-01/
ATTACH;FMTTYPE=image/jpeg:https://wseo.digital/wp-content/uploads/2025/11/Peter-Johnston.jpg
LOCATION:
END:VEVENT
BEGIN:VEVENT
DTSTART;TZID=Europe/London:20270101T200000
DTEND;TZID=Europe/London:20270101T220000
DTSTAMP:20260423T190836
CREATED:20251112T141718Z
LAST-MODIFIED:20251112T150611Z
UID:10009803-1798833600-1798840800@wseo.digital
SUMMARY:Adam McGowan
DESCRIPTION:
URL:https://wseo.digital/event/adam-mcgowan/2027-01-01/
ATTACH;FMTTYPE=image/jpeg:https://wseo.digital/wp-content/uploads/2025/11/Mr-Adz.jpg
LOCATION:
END:VEVENT
BEGIN:VEVENT
DTSTART;TZID=Europe/London:20270101T220000
DTEND;TZID=Europe/London:20270101T233000
DTSTAMP:20260423T190836
CREATED:20251113T140531Z
LAST-MODIFIED:20251228T192127Z
UID:10019228-1798840800-1798846200@wseo.digital
SUMMARY:Slim Bot Fri 10pm - 12am
DESCRIPTION:Please email join@slimradio.co.uk if you would like to take this slot
URL:https://wseo.digital/event/vacant-show-fri-10pm-12am/2027-01-01/
ATTACH;FMTTYPE=image/jpeg:https://wseo.digital/wp-content/uploads/2025/12/Slimbot.jpg
LOCATION:
END:VEVENT
BEGIN:VEVENT
DTSTART;TZID=Europe/London:20270102T070000
DTEND;TZID=Europe/London:20270102T100000
DTSTAMP:20260423T190836
CREATED:20251222T170949Z
LAST-MODIFIED:20251228T192851Z
UID:10020795-1798873200-1798884000@wseo.digital
SUMMARY:Slim Bot Sat 8am – 10pm
DESCRIPTION:Please email join@slimradio.co.uk if you would like to take this slot
URL:https://wseo.digital/event/vacant-show-sat-8am-10am-2/2027-01-02/
ATTACH;FMTTYPE=image/jpeg:https://wseo.digital/wp-content/uploads/2025/12/Slimbot.jpg
LOCATION:
END:VEVENT
BEGIN:VEVENT
DTSTART;TZID=Europe/London:20270102T120000
DTEND;TZID=Europe/London:20270102T140000
DTSTAMP:20260423T190836
CREATED:20251112T143438Z
LAST-MODIFIED:20251112T150145Z
UID:10010325-1798891200-1798898400@wseo.digital
SUMMARY:Graeham Bamford
DESCRIPTION:
URL:https://wseo.digital/event/graeham-b-p/2027-01-02/
ATTACH;FMTTYPE=image/jpeg:https://wseo.digital/wp-content/uploads/2025/11/Graeham-B-P.jpg
LOCATION:
END:VEVENT
BEGIN:VEVENT
DTSTART;TZID=Europe/London:20270102T140000
DTEND;TZID=Europe/London:20270102T160000
DTSTAMP:20260423T190836
CREATED:20251112T150308Z
LAST-MODIFIED:20251112T150508Z
UID:10011372-1798898400-1798905600@wseo.digital
SUMMARY:Katie Wild
DESCRIPTION:
URL:https://wseo.digital/event/katie-wild/2027-01-02/
ATTACH;FMTTYPE=image/jpeg:https://wseo.digital/wp-content/uploads/2025/11/Katie-Wild.jpg
LOCATION:
END:VEVENT
BEGIN:VEVENT
DTSTART;TZID=Europe/London:20270102T160000
DTEND;TZID=Europe/London:20270102T180000
DTSTAMP:20260423T190836
CREATED:20251228T193126Z
LAST-MODIFIED:20251228T193126Z
UID:10020011-1798905600-1798912800@wseo.digital
SUMMARY:Luis Perez
DESCRIPTION:Please email join@slimradio.co.uk if you would like to take this slot
URL:https://wseo.digital/event/vacant-show-sat-4pm-6pm-2/2027-01-02/
ATTACH;FMTTYPE=image/webp:https://wseo.digital/wp-content/uploads/2025/11/slim-radio-show-1.webp
LOCATION:
END:VEVENT
BEGIN:VEVENT
DTSTART;TZID=Europe/London:20270102T200000
DTEND;TZID=Europe/London:20270102T220000
DTSTAMP:20260423T190836
CREATED:20251228T193244Z
LAST-MODIFIED:20251228T193244Z
UID:10020534-1798920000-1798927200@wseo.digital
SUMMARY:Lewis Rew
DESCRIPTION:Please email join@slimradio.co.uk if you would like to take this slot
URL:https://wseo.digital/event/vacant-show-sat-8pm-10pm-2/2027-01-02/
ATTACH;FMTTYPE=image/webp:https://wseo.digital/wp-content/uploads/2025/11/slim-radio-show-1.webp
END:VEVENT
BEGIN:VEVENT
DTSTART;TZID=Europe/London:20270102T220000
DTEND;TZID=Europe/London:20270102T233000
DTSTAMP:20260423T190836
CREATED:20251228T193000Z
LAST-MODIFIED:20251228T193001Z
UID:10020273-1798927200-1798932600@wseo.digital
SUMMARY:Cornie Smart
DESCRIPTION:Please email join@slimradio.co.uk if you would like to take this slot
URL:https://wseo.digital/event/vacant-show-sat-10pm-12am-2/2027-01-02/
LOCATION:
END:VEVENT
BEGIN:VEVENT
DTSTART;TZID=Europe/London:20270103T080000
DTEND;TZID=Europe/London:20270103T100000
DTSTAMP:20260423T190836
CREATED:20251228T193623Z
LAST-MODIFIED:20251228T193623Z
UID:10006690-1798963200-1798970400@wseo.digital
SUMMARY:DJ Jonah
DESCRIPTION:Please email join@slimradio.co.uk if you would like to take this slot
URL:https://wseo.digital/event/vacant-show-sun-8am-10am-2/2027-01-03/
ATTACH;FMTTYPE=image/webp:https://wseo.digital/wp-content/uploads/2025/11/slim-radio-show-1.webp
LOCATION:
END:VEVENT
BEGIN:VEVENT
DTSTART;TZID=Europe/London:20270103T100000
DTEND;TZID=Europe/London:20270103T120000
DTSTAMP:20260423T190836
CREATED:20251111T162428Z
LAST-MODIFIED:20251111T164533Z
UID:10006951-1798970400-1798977600@wseo.digital
SUMMARY:DJ Slim - The Sunday Jukebox
DESCRIPTION:
URL:https://wseo.digital/event/dj-slim-the-sunday-jukebox/2027-01-03/
ATTACH;FMTTYPE=image/jpeg:https://wseo.digital/wp-content/uploads/2025/11/DJ-Slim-Sunday-Morning-Brunch.jpg
LOCATION:
END:VEVENT
BEGIN:VEVENT
DTSTART;TZID=Europe/London:20270103T120000
DTEND;TZID=Europe/London:20270103T140000
DTSTAMP:20260423T190836
CREATED:20251111T135116Z
LAST-MODIFIED:20251111T164517Z
UID:10003817-1798977600-1798984800@wseo.digital
SUMMARY:Adam Wynn
DESCRIPTION:
URL:https://wseo.digital/event/adam-wynn/2027-01-03/
ATTACH;FMTTYPE=image/jpeg:https://wseo.digital/wp-content/uploads/2025/11/WhatsApp-Image-2025-10-30-at-09.15.37-1.jpeg
LOCATION:
END:VEVENT
BEGIN:VEVENT
DTSTART;TZID=Europe/London:20270103T140000
DTEND;TZID=Europe/London:20270103T160000
DTSTAMP:20260423T190836
CREATED:20251111T160629Z
LAST-MODIFIED:20251111T164438Z
UID:10005646-1798984800-1798992000@wseo.digital
SUMMARY:Chris Lambert
DESCRIPTION:
URL:https://wseo.digital/event/chris-lambert/2027-01-03/
ATTACH;FMTTYPE=image/jpeg:https://wseo.digital/wp-content/uploads/2025/11/Chris-Lambert.jpg
LOCATION:
END:VEVENT
BEGIN:VEVENT
DTSTART;TZID=Europe/London:20270103T160000
DTEND;TZID=Europe/London:20270103T180000
DTSTAMP:20260423T190836
CREATED:20251111T160816Z
LAST-MODIFIED:20251112T150014Z
UID:10005907-1798992000-1798999200@wseo.digital
SUMMARY:Ross P
DESCRIPTION:
URL:https://wseo.digital/event/ross-p-2/2027-01-03/
ATTACH;FMTTYPE=image/webp:https://wseo.digital/wp-content/uploads/2025/11/slim-radio-show-1.webp
LOCATION:
END:VEVENT
BEGIN:VEVENT
DTSTART;TZID=Europe/London:20270103T180000
DTEND;TZID=Europe/London:20270103T200000
DTSTAMP:20260423T190836
CREATED:20251111T161103Z
LAST-MODIFIED:20251111T164456Z
UID:10006168-1798999200-1799006400@wseo.digital
SUMMARY:Chris Saunders
DESCRIPTION:
URL:https://wseo.digital/event/chris-saunders/2027-01-03/
ATTACH;FMTTYPE=image/webp:https://wseo.digital/wp-content/uploads/2025/11/slim-radio-show-1.webp
LOCATION:
END:VEVENT
BEGIN:VEVENT
DTSTART;TZID=Europe/London:20270103T200000
DTEND;TZID=Europe/London:20270103T220000
DTSTAMP:20260423T190836
CREATED:20251111T161452Z
LAST-MODIFIED:20251111T164356Z
UID:10006429-1799006400-1799013600@wseo.digital
SUMMARY:Rob & Si with The Back To Ours Show
DESCRIPTION:
URL:https://wseo.digital/event/rob-si-with-the-back-to-ours-show/2027-01-03/
ATTACH;FMTTYPE=image/jpeg:https://wseo.digital/wp-content/uploads/2025/11/RobSi.jpg
LOCATION:
END:VEVENT
BEGIN:VEVENT
DTSTART;TZID=Europe/London:20270104T000000
DTEND;TZID=Europe/London:20270104T000000
DTSTAMP:20260423T190836
CREATED:20251228T163231Z
LAST-MODIFIED:20251228T165028Z
UID:10021096-1799020800-1799020800@wseo.digital
SUMMARY:Slim Bot Mon 10pm -12am
DESCRIPTION:Please email join@slimradio.co.uk if you would like to take this slot
URL:https://wseo.digital/event/vacant-show-mon-10am-12pm-2/2027-01-04/
ATTACH;FMTTYPE=image/webp:https://wseo.digital/wp-content/uploads/2025/11/slim-radio-show-1.webp
LOCATION:
END:VEVENT
BEGIN:VEVENT
DTSTART;TZID=Europe/London:20270104T070000
DTEND;TZID=Europe/London:20270104T100000
DTSTAMP:20260423T190836
CREATED:20251112T145525Z
LAST-MODIFIED:20251228T165338Z
UID:10021382-1799046000-1799056800@wseo.digital
SUMMARY:Slim Bot Mon 7am -10am
DESCRIPTION:Please email join@slimradio.co.uk if you would like to take this slot
URL:https://wseo.digital/event/wally-walton/2027-01-04/
ATTACH;FMTTYPE=image/jpeg:https://wseo.digital/wp-content/uploads/2025/12/Slimbot.jpg
LOCATION:
END:VEVENT
BEGIN:VEVENT
DTSTART;TZID=Europe/London:20270104T120000
DTEND;TZID=Europe/London:20270104T140000
DTSTAMP:20260423T190836
CREATED:20251113T125512Z
LAST-MODIFIED:20251228T162617Z
UID:10011897-1799064000-1799071200@wseo.digital
SUMMARY:Slim Bot - Mon 12pm-2pm
DESCRIPTION:Please email join@slimradio.co.uk if you would like to take this slot
URL:https://wseo.digital/event/vacant-show-mon-12pm-2pm-2/2027-01-04/
ATTACH;FMTTYPE=image/jpeg:https://wseo.digital/wp-content/uploads/2025/12/Slimbot.jpg
LOCATION:
END:VEVENT
BEGIN:VEVENT
DTSTART;TZID=Europe/London:20270104T140000
DTEND;TZID=Europe/London:20270104T160000
DTSTAMP:20260423T190836
CREATED:20251113T125724Z
LAST-MODIFIED:20251228T163801Z
UID:10012159-1799071200-1799078400@wseo.digital
SUMMARY:Slim Bot – Mon 12pm-2pm
DESCRIPTION:Please email join@slimradio.co.uk if you would like to take this slot
URL:https://wseo.digital/event/vacant-show-mon-2pm-4pm/2027-01-04/
ATTACH;FMTTYPE=image/jpeg:https://wseo.digital/wp-content/uploads/2025/12/Slimbot.jpg
LOCATION:
END:VEVENT
BEGIN:VEVENT
DTSTART;TZID=Europe/London:20270104T180000
DTEND;TZID=Europe/London:20270104T200000
DTSTAMP:20260423T190836
CREATED:20251228T163939Z
LAST-MODIFIED:20251228T165441Z
UID:10010848-1799085600-1799092800@wseo.digital
SUMMARY:Wally Walton Drive Time (Start Date TBC)
DESCRIPTION:
URL:https://wseo.digital/event/gareth-morgan-2-2/2027-01-04/
ATTACH;FMTTYPE=image/jpeg:https://wseo.digital/wp-content/uploads/2025/11/Wally-Walton.jpg
LOCATION:
END:VEVENT
BEGIN:VEVENT
DTSTART;TZID=Europe/London:20270104T200000
DTEND;TZID=Europe/London:20270104T220000
DTSTAMP:20260423T190836
CREATED:20251228T164043Z
LAST-MODIFIED:20251228T164043Z
UID:10012421-1799092800-1799100000@wseo.digital
SUMMARY:DJ TBC (01/02/26)
DESCRIPTION:DJ TBC (01/02/26)
URL:https://wseo.digital/event/vacant-show-mon-8pm-10pm-2/2027-01-04/
ATTACH;FMTTYPE=image/webp:https://wseo.digital/wp-content/uploads/2025/11/slim-radio-show-1.webp
LOCATION:
END:VEVENT
BEGIN:VEVENT
DTSTART;TZID=Europe/London:20270104T220000
DTEND;TZID=Europe/London:20270104T233000
DTSTAMP:20260423T190836
CREATED:20251228T162812Z
LAST-MODIFIED:20251228T163651Z
UID:10012683-1799100000-1799105400@wseo.digital
SUMMARY:Slim Bot Mon 10pm -12am
DESCRIPTION:Please email join@slimradio.co.uk if you would like to take this slot
URL:https://wseo.digital/event/vacant-show-mon-10pm-12am-2/2027-01-04/
ATTACH;FMTTYPE=image/jpeg:https://wseo.digital/wp-content/uploads/2025/12/Slimbot.jpg
LOCATION:
END:VEVENT
BEGIN:VEVENT
DTSTART;TZID=Europe/London:20270105T070000
DTEND;TZID=Europe/London:20270105T100000
DTSTAMP:20260423T190836
CREATED:20251228T165918Z
LAST-MODIFIED:20251228T165955Z
UID:10021916-1799132400-1799143200@wseo.digital
SUMMARY:Slim Bot Tues 7am – 10am
DESCRIPTION:Please email join@slimradio.co.uk if you would like to take this slot
URL:https://wseo.digital/event/slim-bot-tues-7am-10am/2027-01-05/
ATTACH;FMTTYPE=image/jpeg:https://wseo.digital/wp-content/uploads/2025/12/Slimbot.jpg
LOCATION:
END:VEVENT
BEGIN:VEVENT
DTSTART;TZID=Europe/London:20270105T100000
DTEND;TZID=Europe/London:20270105T120000
DTSTAMP:20260423T190836
CREATED:20251113T131912Z
LAST-MODIFIED:20251228T165607Z
UID:10013734-1799143200-1799150400@wseo.digital
SUMMARY:Slim Bot Tues 10am - 12am
DESCRIPTION:Please email join@slimradio.co.uk if you would like to take this slot
URL:https://wseo.digital/event/vacant-show-tues-10am-12pm/2027-01-05/
ATTACH;FMTTYPE=image/jpeg:https://wseo.digital/wp-content/uploads/2025/12/Slimbot.jpg
LOCATION:
END:VEVENT
BEGIN:VEVENT
DTSTART;TZID=Europe/London:20270105T120000
DTEND;TZID=Europe/London:20270105T140000
DTSTAMP:20260423T190836
CREATED:20251113T132142Z
LAST-MODIFIED:20251228T165721Z
UID:10013996-1799150400-1799157600@wseo.digital
SUMMARY:Slim Bot Tues 12pm – 2pm
DESCRIPTION:Please email join@slimradio.co.uk if you would like to take this slot
URL:https://wseo.digital/event/vacant-show-tues-12pm-2pm/2027-01-05/
ATTACH;FMTTYPE=image/jpeg:https://wseo.digital/wp-content/uploads/2025/12/Slimbot.jpg
LOCATION:
END:VEVENT
END:VCALENDAR