BEGIN:VCALENDAR
VERSION:2.0
PRODID:-//wseodigital - ECPv6.15.13//NONSGML v1.0//EN
CALSCALE:GREGORIAN
METHOD:PUBLISH
X-ORIGINAL-URL:https://wseo.digital
X-WR-CALDESC:Events for wseodigital
REFRESH-INTERVAL;VALUE=DURATION:PT1H
X-Robots-Tag:noindex
X-PUBLISHED-TTL:PT1H
BEGIN:VTIMEZONE
TZID:Europe/London
BEGIN:DAYLIGHT
TZOFFSETFROM:+0000
TZOFFSETTO:+0100
TZNAME:BST
DTSTART:20260329T010000
END:DAYLIGHT
BEGIN:STANDARD
TZOFFSETFROM:+0100
TZOFFSETTO:+0000
TZNAME:GMT
DTSTART:20261025T010000
END:STANDARD
BEGIN:DAYLIGHT
TZOFFSETFROM:+0000
TZOFFSETTO:+0100
TZNAME:BST
DTSTART:20270328T010000
END:DAYLIGHT
BEGIN:STANDARD
TZOFFSETFROM:+0100
TZOFFSETTO:+0000
TZNAME:GMT
DTSTART:20271031T010000
END:STANDARD
BEGIN:DAYLIGHT
TZOFFSETFROM:+0000
TZOFFSETTO:+0100
TZNAME:BST
DTSTART:20280326T010000
END:DAYLIGHT
BEGIN:STANDARD
TZOFFSETFROM:+0100
TZOFFSETTO:+0000
TZNAME:GMT
DTSTART:20281029T010000
END:STANDARD
END:VTIMEZONE
BEGIN:VEVENT
DTSTART;TZID=Europe/London:20270601T070000
DTEND;TZID=Europe/London:20270601T100000
DTSTAMP:20260424T023239
CREATED:20251228T165918Z
LAST-MODIFIED:20251228T165955Z
UID:10021937-1811833200-1811844000@wseo.digital
SUMMARY:Slim Bot Tues 7am – 10am
DESCRIPTION:Please email join@slimradio.co.uk if you would like to take this slot
URL:https://wseo.digital/event/slim-bot-tues-7am-10am/2027-06-01/
ATTACH;FMTTYPE=image/jpeg:https://wseo.digital/wp-content/uploads/2025/12/Slimbot.jpg
LOCATION:
END:VEVENT
BEGIN:VEVENT
DTSTART;TZID=Europe/London:20270601T100000
DTEND;TZID=Europe/London:20270601T120000
DTSTAMP:20260424T023239
CREATED:20251113T131912Z
LAST-MODIFIED:20251228T165607Z
UID:10013755-1811844000-1811851200@wseo.digital
SUMMARY:Slim Bot Tues 10am - 12am
DESCRIPTION:Please email join@slimradio.co.uk if you would like to take this slot
URL:https://wseo.digital/event/vacant-show-tues-10am-12pm/2027-06-01/
ATTACH;FMTTYPE=image/jpeg:https://wseo.digital/wp-content/uploads/2025/12/Slimbot.jpg
LOCATION:
END:VEVENT
BEGIN:VEVENT
DTSTART;TZID=Europe/London:20270601T120000
DTEND;TZID=Europe/London:20270601T140000
DTSTAMP:20260424T023239
CREATED:20251113T132142Z
LAST-MODIFIED:20251228T165721Z
UID:10014017-1811851200-1811858400@wseo.digital
SUMMARY:Slim Bot Tues 12pm – 2pm
DESCRIPTION:Please email join@slimradio.co.uk if you would like to take this slot
URL:https://wseo.digital/event/vacant-show-tues-12pm-2pm/2027-06-01/
ATTACH;FMTTYPE=image/jpeg:https://wseo.digital/wp-content/uploads/2025/12/Slimbot.jpg
LOCATION:
END:VEVENT
BEGIN:VEVENT
DTSTART;TZID=Europe/London:20270601T160000
DTEND;TZID=Europe/London:20270601T180000
DTSTAMP:20260424T023239
CREATED:20251113T143743Z
LAST-MODIFIED:20251228T170314Z
UID:10014280-1811865600-1811872800@wseo.digital
SUMMARY:Wellzee (Start 06/01/26)
DESCRIPTION:
URL:https://wseo.digital/event/vacant-show-tues-4pm-6pm-2/2027-06-01/
ATTACH;FMTTYPE=image/webp:https://wseo.digital/wp-content/uploads/2025/11/slim-radio-show-1.webp
LOCATION:
END:VEVENT
BEGIN:VEVENT
DTSTART;TZID=Europe/London:20270601T180000
DTEND;TZID=Europe/London:20270601T200000
DTSTAMP:20260424T023239
CREATED:20251113T131738Z
LAST-MODIFIED:20251113T131738Z
UID:10013493-1811872800-1811880000@wseo.digital
SUMMARY:Graeham Bamford
DESCRIPTION:
URL:https://wseo.digital/event/graeham-bamford-tues/2027-06-01/
ATTACH;FMTTYPE=image/jpeg:https://wseo.digital/wp-content/uploads/2025/11/Graeham-B-P.jpg
LOCATION:
END:VEVENT
BEGIN:VEVENT
DTSTART;TZID=Europe/London:20270601T200000
DTEND;TZID=Europe/London:20270601T220000
DTSTAMP:20260424T023239
CREATED:20251228T170430Z
LAST-MODIFIED:20251228T170430Z
UID:10014542-1811880000-1811887200@wseo.digital
SUMMARY:Fat Belly Co
DESCRIPTION:
URL:https://wseo.digital/event/vacant-show-tues-8pm-10pm-2/2027-06-01/
ATTACH;FMTTYPE=image/webp:https://wseo.digital/wp-content/uploads/2025/11/slim-radio-show-1.webp
LOCATION:
END:VEVENT
BEGIN:VEVENT
DTSTART;TZID=Europe/London:20270601T220000
DTEND;TZID=Europe/London:20270601T233000
DTSTAMP:20260424T023239
CREATED:20251113T132845Z
LAST-MODIFIED:20251113T144226Z
UID:10014805-1811887200-1811892600@wseo.digital
SUMMARY:Vacant Show
DESCRIPTION:Please email join@slimradio.co.uk if you would like to take this slot
URL:https://wseo.digital/event/vacant-show-tues-10pm-12am/2027-06-01/
ATTACH;FMTTYPE=image/webp:https://wseo.digital/wp-content/uploads/2025/11/slim-radio-show-1.webp
LOCATION:
END:VEVENT
BEGIN:VEVENT
DTSTART;TZID=Europe/London:20270602T080000
DTEND;TZID=Europe/London:20270602T100000
DTSTAMP:20260424T023239
CREATED:20251228T170806Z
LAST-MODIFIED:20251228T170806Z
UID:10022209-1811923200-1811930400@wseo.digital
SUMMARY:DJ Heath (starting 07/01/26)
DESCRIPTION:
URL:https://wseo.digital/event/dj-heath-starting-07-01-26/2027-06-02/
ATTACH;FMTTYPE=image/webp:https://wseo.digital/wp-content/uploads/2025/11/slim-radio-show-1.webp
LOCATION:
END:VEVENT
BEGIN:VEVENT
DTSTART;TZID=Europe/London:20270602T100000
DTEND;TZID=Europe/London:20270602T120000
DTSTAMP:20260424T023239
CREATED:20251113T133103Z
LAST-MODIFIED:20251228T171059Z
UID:10015067-1811930400-1811937600@wseo.digital
SUMMARY:Slim Bot 10am - 12pm
DESCRIPTION:Please email join@slimradio.co.uk if you would like to take this slot
URL:https://wseo.digital/event/vacant-show-wed-10am-12pm/2027-06-02/
ATTACH;FMTTYPE=image/jpeg:https://wseo.digital/wp-content/uploads/2025/12/Slimbot.jpg
LOCATION:
END:VEVENT
BEGIN:VEVENT
DTSTART;TZID=Europe/London:20270602T120000
DTEND;TZID=Europe/London:20270602T140000
DTSTAMP:20260424T023239
CREATED:20251113T133256Z
LAST-MODIFIED:20251228T171446Z
UID:10015329-1811937600-1811944800@wseo.digital
SUMMARY:Slim Bot Wed 12pm - 2pm
DESCRIPTION:Please email join@slimradio.co.uk if you would like to take this slot
URL:https://wseo.digital/event/vacant-show-wed-12pm-2pm/2027-06-02/
ATTACH;FMTTYPE=image/jpeg:https://wseo.digital/wp-content/uploads/2025/12/Slimbot.jpg
LOCATION:
END:VEVENT
BEGIN:VEVENT
DTSTART;TZID=Europe/London:20270602T140000
DTEND;TZID=Europe/London:20270602T160000
DTSTAMP:20260424T023239
CREATED:20251113T133451Z
LAST-MODIFIED:20251228T171344Z
UID:10015591-1811944800-1811952000@wseo.digital
SUMMARY:Slim Bot Wed 2pm - 4pm
DESCRIPTION:Please email join@slimradio.co.uk if you would like to take this slot
URL:https://wseo.digital/event/vacant-show-wed-2pm-4pm/2027-06-02/
ATTACH;FMTTYPE=image/jpeg:https://wseo.digital/wp-content/uploads/2025/12/Slimbot.jpg
LOCATION:
END:VEVENT
BEGIN:VEVENT
DTSTART;TZID=Europe/London:20270602T160000
DTEND;TZID=Europe/London:20270602T180000
DTSTAMP:20260424T023239
CREATED:20251113T133756Z
LAST-MODIFIED:20251228T171252Z
UID:10015853-1811952000-1811959200@wseo.digital
SUMMARY:Slim Bot Wed 4pm - 6pm
DESCRIPTION:Please email join@slimradio.co.uk if you would like to take this slot
URL:https://wseo.digital/event/vacant-show-wed-4pm-6pm/2027-06-02/
ATTACH;FMTTYPE=image/jpeg:https://wseo.digital/wp-content/uploads/2025/12/Slimbot.jpg
LOCATION:
END:VEVENT
BEGIN:VEVENT
DTSTART;TZID=Europe/London:20270602T180000
DTEND;TZID=Europe/London:20270602T200000
DTSTAMP:20260424T023239
CREATED:20251112T143608Z
LAST-MODIFIED:20251112T150636Z
UID:10010608-1811959200-1811966400@wseo.digital
SUMMARY:Mr Baylis
DESCRIPTION:
URL:https://wseo.digital/event/mr-baylis/2027-06-02/
ATTACH;FMTTYPE=image/jpeg:https://wseo.digital/wp-content/uploads/2025/11/Mr-Baylis-1.jpg
LOCATION:
END:VEVENT
BEGIN:VEVENT
DTSTART;TZID=Europe/London:20270602T200000
DTEND;TZID=Europe/London:20270602T220000
DTSTAMP:20260424T023239
CREATED:20251228T171732Z
LAST-MODIFIED:20251228T171732Z
UID:10022499-1811966400-1811973600@wseo.digital
SUMMARY:Jon E C  (Start 14/1/26)
DESCRIPTION:
URL:https://wseo.digital/event/jon-e-c-start-14-1-26/2027-06-02/
ATTACH;FMTTYPE=image/webp:https://wseo.digital/wp-content/uploads/2025/11/slim-radio-show-1.webp
LOCATION:
END:VEVENT
BEGIN:VEVENT
DTSTART;TZID=Europe/London:20270602T220000
DTEND;TZID=Europe/London:20270602T233000
DTSTAMP:20260424T023239
CREATED:20251228T195709Z
LAST-MODIFIED:20251228T195709Z
UID:10016377-1811973600-1811979000@wseo.digital
SUMMARY:Slim Bot Wed 10pm -12am
DESCRIPTION:Please email join@slimradio.co.uk if you would like to take this slot
URL:https://wseo.digital/event/vacant-show-wed-10pm-12am-2/2027-06-02/
ATTACH;FMTTYPE=image/jpeg:https://wseo.digital/wp-content/uploads/2025/12/Slimbot.jpg
LOCATION:
END:VEVENT
BEGIN:VEVENT
DTSTART;TZID=Europe/London:20270603T100000
DTEND;TZID=Europe/London:20270603T120000
DTSTAMP:20260424T023239
CREATED:20251113T134340Z
LAST-MODIFIED:20251228T185349Z
UID:10016639-1812016800-1812024000@wseo.digital
SUMMARY:Slim Bot Thurs 10am - 12pm
DESCRIPTION:Please email join@slimradio.co.uk if you would like to take this slot
URL:https://wseo.digital/event/vacant-show-thurs-10am-12pm/2027-06-03/
ATTACH;FMTTYPE=image/jpeg:https://wseo.digital/wp-content/uploads/2025/12/Slimbot.jpg
LOCATION:
END:VEVENT
BEGIN:VEVENT
DTSTART;TZID=Europe/London:20270603T120000
DTEND;TZID=Europe/London:20270603T140000
DTSTAMP:20260424T023239
CREATED:20251113T135216Z
LAST-MODIFIED:20251228T190012Z
UID:10017161-1812024000-1812031200@wseo.digital
SUMMARY:Slim Bot Thurs 10am – 12pm
DESCRIPTION:Please email join@slimradio.co.uk if you would like to take this slot
URL:https://wseo.digital/event/vacant-show-thurs-12pm-2pm/2027-06-03/
ATTACH;FMTTYPE=image/jpeg:https://wseo.digital/wp-content/uploads/2025/12/Slimbot.jpg
LOCATION:
END:VEVENT
BEGIN:VEVENT
DTSTART;TZID=Europe/London:20270603T140000
DTEND;TZID=Europe/London:20270603T160000
DTSTAMP:20260424T023239
CREATED:20251113T135345Z
LAST-MODIFIED:20251228T190201Z
UID:10017422-1812031200-1812038400@wseo.digital
SUMMARY:Slim Bot Thurs 2pm – 4pm
DESCRIPTION:Please email join@slimradio.co.uk if you would like to take this slot
URL:https://wseo.digital/event/vacant-show-thurs-2pm-4pm/2027-06-03/
ATTACH;FMTTYPE=image/jpeg:https://wseo.digital/wp-content/uploads/2025/12/Slimbot.jpg
LOCATION:
END:VEVENT
BEGIN:VEVENT
DTSTART;TZID=Europe/London:20270603T160000
DTEND;TZID=Europe/London:20270603T180000
DTSTAMP:20260424T023239
CREATED:20251113T135533Z
LAST-MODIFIED:20251228T190709Z
UID:10017683-1812038400-1812045600@wseo.digital
SUMMARY:Charlie B
DESCRIPTION:
URL:https://wseo.digital/event/vacant-show-thurs-4pm-6pm/2027-06-03/
ATTACH;FMTTYPE=image/webp:https://wseo.digital/wp-content/uploads/2025/11/slim-radio-show-1.webp
LOCATION:
END:VEVENT
BEGIN:VEVENT
DTSTART;TZID=Europe/London:20270603T180000
DTEND;TZID=Europe/London:20270603T200000
DTSTAMP:20260424T023239
CREATED:20251228T190929Z
LAST-MODIFIED:20251228T190929Z
UID:10016900-1812045600-1812052800@wseo.digital
SUMMARY:Jamie S
DESCRIPTION:
URL:https://wseo.digital/event/chris-saunders-thurs-2/2027-06-03/
ATTACH;FMTTYPE=image/webp:https://wseo.digital/wp-content/uploads/2025/11/slim-radio-show-1.webp
LOCATION:
END:VEVENT
BEGIN:VEVENT
DTSTART;TZID=Europe/London:20270603T200000
DTEND;TZID=Europe/London:20270603T220000
DTSTAMP:20260424T023239
CREATED:20251228T191046Z
LAST-MODIFIED:20251228T191046Z
UID:10017944-1812052800-1812060000@wseo.digital
SUMMARY:Mark Ruston
DESCRIPTION:
URL:https://wseo.digital/event/vacant-show-thurs-8pm-10pm-2/2027-06-03/
ATTACH;FMTTYPE=image/webp:https://wseo.digital/wp-content/uploads/2025/11/slim-radio-show-1.webp
END:VEVENT
BEGIN:VEVENT
DTSTART;TZID=Europe/London:20270603T220000
DTEND;TZID=Europe/London:20270603T233000
DTSTAMP:20260424T023239
CREATED:20251228T191231Z
LAST-MODIFIED:20251228T191637Z
UID:10018205-1812060000-1812065400@wseo.digital
SUMMARY:Acid Neil
DESCRIPTION:Please email join@slimradio.co.uk if you would like to take this slot
URL:https://wseo.digital/event/vacant-show-thurs-10pm-12am-2/2027-06-03/
ATTACH;FMTTYPE=image/webp:https://wseo.digital/wp-content/uploads/2025/11/slim-radio-show-1.webp
LOCATION:
END:VEVENT
BEGIN:VEVENT
DTSTART;TZID=Europe/London:20270604T100000
DTEND;TZID=Europe/London:20270604T120000
DTSTAMP:20260424T023239
CREATED:20251228T192236Z
LAST-MODIFIED:20251228T192236Z
UID:10018466-1812103200-1812110400@wseo.digital
SUMMARY:Slim Bot Fri 10am – 12pm
DESCRIPTION:Please email join@slimradio.co.uk if you would like to take this slot
URL:https://wseo.digital/event/vacant-show-fri-10am-12pm-2/2027-06-04/
ATTACH;FMTTYPE=image/jpeg:https://wseo.digital/wp-content/uploads/2025/12/Slimbot.jpg
LOCATION:
END:VEVENT
BEGIN:VEVENT
DTSTART;TZID=Europe/London:20270604T120000
DTEND;TZID=Europe/London:20270604T140000
DTSTAMP:20260424T023239
CREATED:20251113T140213Z
LAST-MODIFIED:20251228T192546Z
UID:10018727-1812110400-1812117600@wseo.digital
SUMMARY:Slim Bot Fri 10am – 12pm
DESCRIPTION:Please email join@slimradio.co.uk if you would like to take this slot
URL:https://wseo.digital/event/vacant-show-fri-12pm-2pm/2027-06-04/
ATTACH;FMTTYPE=image/jpeg:https://wseo.digital/wp-content/uploads/2025/12/Slimbot.jpg
LOCATION:
END:VEVENT
BEGIN:VEVENT
DTSTART;TZID=Europe/London:20270604T140000
DTEND;TZID=Europe/London:20270604T160000
DTSTAMP:20260424T023239
CREATED:20251113T140347Z
LAST-MODIFIED:20251228T192716Z
UID:10018988-1812117600-1812124800@wseo.digital
SUMMARY:Slim Bot 2pm - 4pm
DESCRIPTION:Please email join@slimradio.co.uk if you would like to take this slot
URL:https://wseo.digital/event/vacant-show-fri-2pm-4pm/2027-06-04/
ATTACH;FMTTYPE=image/jpeg:https://wseo.digital/wp-content/uploads/2025/12/Slimbot.jpg
LOCATION:
END:VEVENT
BEGIN:VEVENT
DTSTART;TZID=Europe/London:20270604T160000
DTEND;TZID=Europe/London:20270604T180000
DTSTAMP:20260424T023239
CREATED:20251112T141954Z
LAST-MODIFIED:20251112T150434Z
UID:10010086-1812124800-1812132000@wseo.digital
SUMMARY:Ross P
DESCRIPTION:
URL:https://wseo.digital/event/ross-p/2027-06-04/
ATTACH;FMTTYPE=image/webp:https://wseo.digital/wp-content/uploads/2025/11/slim-radio-show-1.webp
LOCATION:
END:VEVENT
BEGIN:VEVENT
DTSTART;TZID=Europe/London:20270604T180000
DTEND;TZID=Europe/London:20270604T200000
DTSTAMP:20260424T023239
CREATED:20251112T141522Z
LAST-MODIFIED:20251112T150559Z
UID:10009564-1812132000-1812139200@wseo.digital
SUMMARY:Peter Johnson
DESCRIPTION:
URL:https://wseo.digital/event/peter-johnson/2027-06-04/
ATTACH;FMTTYPE=image/jpeg:https://wseo.digital/wp-content/uploads/2025/11/Peter-Johnston.jpg
LOCATION:
END:VEVENT
BEGIN:VEVENT
DTSTART;TZID=Europe/London:20270604T200000
DTEND;TZID=Europe/London:20270604T220000
DTSTAMP:20260424T023239
CREATED:20251112T141718Z
LAST-MODIFIED:20251112T150611Z
UID:10009825-1812139200-1812146400@wseo.digital
SUMMARY:Adam McGowan
DESCRIPTION:
URL:https://wseo.digital/event/adam-mcgowan/2027-06-04/
ATTACH;FMTTYPE=image/jpeg:https://wseo.digital/wp-content/uploads/2025/11/Mr-Adz.jpg
LOCATION:
END:VEVENT
BEGIN:VEVENT
DTSTART;TZID=Europe/London:20270604T220000
DTEND;TZID=Europe/London:20270604T233000
DTSTAMP:20260424T023239
CREATED:20251113T140531Z
LAST-MODIFIED:20251228T192127Z
UID:10019250-1812146400-1812151800@wseo.digital
SUMMARY:Slim Bot Fri 10pm - 12am
DESCRIPTION:Please email join@slimradio.co.uk if you would like to take this slot
URL:https://wseo.digital/event/vacant-show-fri-10pm-12am/2027-06-04/
ATTACH;FMTTYPE=image/jpeg:https://wseo.digital/wp-content/uploads/2025/12/Slimbot.jpg
LOCATION:
END:VEVENT
BEGIN:VEVENT
DTSTART;TZID=Europe/London:20270605T070000
DTEND;TZID=Europe/London:20270605T100000
DTSTAMP:20260424T023239
CREATED:20251222T170949Z
LAST-MODIFIED:20251228T192851Z
UID:10020817-1812178800-1812189600@wseo.digital
SUMMARY:Slim Bot Sat 8am – 10pm
DESCRIPTION:Please email join@slimradio.co.uk if you would like to take this slot
URL:https://wseo.digital/event/vacant-show-sat-8am-10am-2/2027-06-05/
ATTACH;FMTTYPE=image/jpeg:https://wseo.digital/wp-content/uploads/2025/12/Slimbot.jpg
LOCATION:
END:VEVENT
END:VCALENDAR