BEGIN:VCALENDAR
VERSION:2.0
PRODID:-//wseodigital - ECPv6.15.13//NONSGML v1.0//EN
CALSCALE:GREGORIAN
METHOD:PUBLISH
X-WR-CALNAME:wseodigital
X-ORIGINAL-URL:https://wseo.digital
X-WR-CALDESC:Events for wseodigital
REFRESH-INTERVAL;VALUE=DURATION:PT1H
X-Robots-Tag:noindex
X-PUBLISHED-TTL:PT1H
BEGIN:VTIMEZONE
TZID:Europe/London
BEGIN:DAYLIGHT
TZOFFSETFROM:+0000
TZOFFSETTO:+0100
TZNAME:BST
DTSTART:20250330T010000
END:DAYLIGHT
BEGIN:STANDARD
TZOFFSETFROM:+0100
TZOFFSETTO:+0000
TZNAME:GMT
DTSTART:20251026T010000
END:STANDARD
BEGIN:DAYLIGHT
TZOFFSETFROM:+0000
TZOFFSETTO:+0100
TZNAME:BST
DTSTART:20260329T010000
END:DAYLIGHT
BEGIN:STANDARD
TZOFFSETFROM:+0100
TZOFFSETTO:+0000
TZNAME:GMT
DTSTART:20261025T010000
END:STANDARD
BEGIN:DAYLIGHT
TZOFFSETFROM:+0000
TZOFFSETTO:+0100
TZNAME:BST
DTSTART:20270328T010000
END:DAYLIGHT
BEGIN:STANDARD
TZOFFSETFROM:+0100
TZOFFSETTO:+0000
TZNAME:GMT
DTSTART:20271031T010000
END:STANDARD
END:VTIMEZONE
BEGIN:VEVENT
DTSTART;TZID=Europe/London:20260421T070000
DTEND;TZID=Europe/London:20260421T100000
DTSTAMP:20260421T135313
CREATED:20251228T165918Z
LAST-MODIFIED:20251228T165955Z
UID:10021879-1776754800-1776765600@wseo.digital
SUMMARY:Slim Bot Tues 7am – 10am
DESCRIPTION:Please email join@slimradio.co.uk if you would like to take this slot
URL:https://wseo.digital/event/slim-bot-tues-7am-10am/2026-04-21/
ATTACH;FMTTYPE=image/jpeg:https://wseo.digital/wp-content/uploads/2025/12/Slimbot.jpg
LOCATION:
END:VEVENT
BEGIN:VEVENT
DTSTART;TZID=Europe/London:20260421T100000
DTEND;TZID=Europe/London:20260421T120000
DTSTAMP:20260421T135313
CREATED:20251113T131912Z
LAST-MODIFIED:20251228T165607Z
UID:10013697-1776765600-1776772800@wseo.digital
SUMMARY:Slim Bot Tues 10am - 12am
DESCRIPTION:Please email join@slimradio.co.uk if you would like to take this slot
URL:https://wseo.digital/event/vacant-show-tues-10am-12pm/2026-04-21/
ATTACH;FMTTYPE=image/jpeg:https://wseo.digital/wp-content/uploads/2025/12/Slimbot.jpg
LOCATION:
END:VEVENT
BEGIN:VEVENT
DTSTART;TZID=Europe/London:20260421T120000
DTEND;TZID=Europe/London:20260421T140000
DTSTAMP:20260421T135313
CREATED:20251113T132142Z
LAST-MODIFIED:20251228T165721Z
UID:10013959-1776772800-1776780000@wseo.digital
SUMMARY:Slim Bot Tues 12pm – 2pm
DESCRIPTION:Please email join@slimradio.co.uk if you would like to take this slot
URL:https://wseo.digital/event/vacant-show-tues-12pm-2pm/2026-04-21/
ATTACH;FMTTYPE=image/jpeg:https://wseo.digital/wp-content/uploads/2025/12/Slimbot.jpg
LOCATION:
END:VEVENT
BEGIN:VEVENT
DTSTART;TZID=Europe/London:20260421T160000
DTEND;TZID=Europe/London:20260421T180000
DTSTAMP:20260421T135313
CREATED:20251113T143743Z
LAST-MODIFIED:20251228T170314Z
UID:10014222-1776787200-1776794400@wseo.digital
SUMMARY:Wellzee (Start 06/01/26)
DESCRIPTION:
URL:https://wseo.digital/event/vacant-show-tues-4pm-6pm-2/2026-04-21/
ATTACH;FMTTYPE=image/webp:https://wseo.digital/wp-content/uploads/2025/11/slim-radio-show-1.webp
LOCATION:
END:VEVENT
BEGIN:VEVENT
DTSTART;TZID=Europe/London:20260421T180000
DTEND;TZID=Europe/London:20260421T200000
DTSTAMP:20260421T135313
CREATED:20251113T131738Z
LAST-MODIFIED:20251113T131738Z
UID:10013435-1776794400-1776801600@wseo.digital
SUMMARY:Graeham Bamford
DESCRIPTION:
URL:https://wseo.digital/event/graeham-bamford-tues/2026-04-21/
ATTACH;FMTTYPE=image/jpeg:https://wseo.digital/wp-content/uploads/2025/11/Graeham-B-P.jpg
LOCATION:
END:VEVENT
BEGIN:VEVENT
DTSTART;TZID=Europe/London:20260421T200000
DTEND;TZID=Europe/London:20260421T220000
DTSTAMP:20260421T135313
CREATED:20251228T170430Z
LAST-MODIFIED:20251228T170430Z
UID:10014484-1776801600-1776808800@wseo.digital
SUMMARY:Fat Belly Co
DESCRIPTION:
URL:https://wseo.digital/event/vacant-show-tues-8pm-10pm-2/2026-04-21/
ATTACH;FMTTYPE=image/webp:https://wseo.digital/wp-content/uploads/2025/11/slim-radio-show-1.webp
LOCATION:
END:VEVENT
BEGIN:VEVENT
DTSTART;TZID=Europe/London:20260421T220000
DTEND;TZID=Europe/London:20260421T233000
DTSTAMP:20260421T135313
CREATED:20251113T132845Z
LAST-MODIFIED:20251113T144226Z
UID:10014747-1776808800-1776814200@wseo.digital
SUMMARY:Vacant Show
DESCRIPTION:Please email join@slimradio.co.uk if you would like to take this slot
URL:https://wseo.digital/event/vacant-show-tues-10pm-12am/2026-04-21/
ATTACH;FMTTYPE=image/webp:https://wseo.digital/wp-content/uploads/2025/11/slim-radio-show-1.webp
LOCATION:
END:VEVENT
BEGIN:VEVENT
DTSTART;TZID=Europe/London:20260422T080000
DTEND;TZID=Europe/London:20260422T100000
DTSTAMP:20260421T135313
CREATED:20251228T170806Z
LAST-MODIFIED:20251228T170806Z
UID:10022151-1776844800-1776852000@wseo.digital
SUMMARY:DJ Heath (starting 07/01/26)
DESCRIPTION:
URL:https://wseo.digital/event/dj-heath-starting-07-01-26/2026-04-22/
ATTACH;FMTTYPE=image/webp:https://wseo.digital/wp-content/uploads/2025/11/slim-radio-show-1.webp
LOCATION:
END:VEVENT
BEGIN:VEVENT
DTSTART;TZID=Europe/London:20260422T100000
DTEND;TZID=Europe/London:20260422T120000
DTSTAMP:20260421T135313
CREATED:20251113T133103Z
LAST-MODIFIED:20251228T171059Z
UID:10015009-1776852000-1776859200@wseo.digital
SUMMARY:Slim Bot 10am - 12pm
DESCRIPTION:Please email join@slimradio.co.uk if you would like to take this slot
URL:https://wseo.digital/event/vacant-show-wed-10am-12pm/2026-04-22/
ATTACH;FMTTYPE=image/jpeg:https://wseo.digital/wp-content/uploads/2025/12/Slimbot.jpg
LOCATION:
END:VEVENT
BEGIN:VEVENT
DTSTART;TZID=Europe/London:20260422T120000
DTEND;TZID=Europe/London:20260422T140000
DTSTAMP:20260421T135313
CREATED:20251113T133256Z
LAST-MODIFIED:20251228T171446Z
UID:10015271-1776859200-1776866400@wseo.digital
SUMMARY:Slim Bot Wed 12pm - 2pm
DESCRIPTION:Please email join@slimradio.co.uk if you would like to take this slot
URL:https://wseo.digital/event/vacant-show-wed-12pm-2pm/2026-04-22/
ATTACH;FMTTYPE=image/jpeg:https://wseo.digital/wp-content/uploads/2025/12/Slimbot.jpg
LOCATION:
END:VEVENT
BEGIN:VEVENT
DTSTART;TZID=Europe/London:20260422T140000
DTEND;TZID=Europe/London:20260422T160000
DTSTAMP:20260421T135313
CREATED:20251113T133451Z
LAST-MODIFIED:20251228T171344Z
UID:10015533-1776866400-1776873600@wseo.digital
SUMMARY:Slim Bot Wed 2pm - 4pm
DESCRIPTION:Please email join@slimradio.co.uk if you would like to take this slot
URL:https://wseo.digital/event/vacant-show-wed-2pm-4pm/2026-04-22/
ATTACH;FMTTYPE=image/jpeg:https://wseo.digital/wp-content/uploads/2025/12/Slimbot.jpg
LOCATION:
END:VEVENT
BEGIN:VEVENT
DTSTART;TZID=Europe/London:20260422T160000
DTEND;TZID=Europe/London:20260422T180000
DTSTAMP:20260421T135313
CREATED:20251113T133756Z
LAST-MODIFIED:20251228T171252Z
UID:10015795-1776873600-1776880800@wseo.digital
SUMMARY:Slim Bot Wed 4pm - 6pm
DESCRIPTION:Please email join@slimradio.co.uk if you would like to take this slot
URL:https://wseo.digital/event/vacant-show-wed-4pm-6pm/2026-04-22/
ATTACH;FMTTYPE=image/jpeg:https://wseo.digital/wp-content/uploads/2025/12/Slimbot.jpg
LOCATION:
END:VEVENT
BEGIN:VEVENT
DTSTART;TZID=Europe/London:20260422T180000
DTEND;TZID=Europe/London:20260422T200000
DTSTAMP:20260421T135313
CREATED:20251112T143608Z
LAST-MODIFIED:20251112T150636Z
UID:10010550-1776880800-1776888000@wseo.digital
SUMMARY:Mr Baylis
DESCRIPTION:
URL:https://wseo.digital/event/mr-baylis/2026-04-22/
ATTACH;FMTTYPE=image/jpeg:https://wseo.digital/wp-content/uploads/2025/11/Mr-Baylis-1.jpg
LOCATION:
END:VEVENT
BEGIN:VEVENT
DTSTART;TZID=Europe/London:20260422T200000
DTEND;TZID=Europe/London:20260422T220000
DTSTAMP:20260421T135313
CREATED:20251228T171732Z
LAST-MODIFIED:20251228T171732Z
UID:10022441-1776888000-1776895200@wseo.digital
SUMMARY:Jon E C  (Start 14/1/26)
DESCRIPTION:
URL:https://wseo.digital/event/jon-e-c-start-14-1-26/2026-04-22/
ATTACH;FMTTYPE=image/webp:https://wseo.digital/wp-content/uploads/2025/11/slim-radio-show-1.webp
LOCATION:
END:VEVENT
BEGIN:VEVENT
DTSTART;TZID=Europe/London:20260422T220000
DTEND;TZID=Europe/London:20260422T233000
DTSTAMP:20260421T135313
CREATED:20251228T195709Z
LAST-MODIFIED:20251228T195709Z
UID:10016319-1776895200-1776900600@wseo.digital
SUMMARY:Slim Bot Wed 10pm -12am
DESCRIPTION:Please email join@slimradio.co.uk if you would like to take this slot
URL:https://wseo.digital/event/vacant-show-wed-10pm-12am-2/2026-04-22/
ATTACH;FMTTYPE=image/jpeg:https://wseo.digital/wp-content/uploads/2025/12/Slimbot.jpg
LOCATION:
END:VEVENT
BEGIN:VEVENT
DTSTART;TZID=Europe/London:20260423T100000
DTEND;TZID=Europe/London:20260423T120000
DTSTAMP:20260421T135313
CREATED:20251113T134340Z
LAST-MODIFIED:20251228T185349Z
UID:10016581-1776938400-1776945600@wseo.digital
SUMMARY:Slim Bot Thurs 10am - 12pm
DESCRIPTION:Please email join@slimradio.co.uk if you would like to take this slot
URL:https://wseo.digital/event/vacant-show-thurs-10am-12pm/2026-04-23/
ATTACH;FMTTYPE=image/jpeg:https://wseo.digital/wp-content/uploads/2025/12/Slimbot.jpg
LOCATION:
END:VEVENT
BEGIN:VEVENT
DTSTART;TZID=Europe/London:20260423T120000
DTEND;TZID=Europe/London:20260423T140000
DTSTAMP:20260421T135313
CREATED:20251113T135216Z
LAST-MODIFIED:20251228T190012Z
UID:10017103-1776945600-1776952800@wseo.digital
SUMMARY:Slim Bot Thurs 10am – 12pm
DESCRIPTION:Please email join@slimradio.co.uk if you would like to take this slot
URL:https://wseo.digital/event/vacant-show-thurs-12pm-2pm/2026-04-23/
ATTACH;FMTTYPE=image/jpeg:https://wseo.digital/wp-content/uploads/2025/12/Slimbot.jpg
LOCATION:
END:VEVENT
BEGIN:VEVENT
DTSTART;TZID=Europe/London:20260423T140000
DTEND;TZID=Europe/London:20260423T160000
DTSTAMP:20260421T135313
CREATED:20251113T135345Z
LAST-MODIFIED:20251228T190201Z
UID:10017364-1776952800-1776960000@wseo.digital
SUMMARY:Slim Bot Thurs 2pm – 4pm
DESCRIPTION:Please email join@slimradio.co.uk if you would like to take this slot
URL:https://wseo.digital/event/vacant-show-thurs-2pm-4pm/2026-04-23/
ATTACH;FMTTYPE=image/jpeg:https://wseo.digital/wp-content/uploads/2025/12/Slimbot.jpg
LOCATION:
END:VEVENT
BEGIN:VEVENT
DTSTART;TZID=Europe/London:20260423T160000
DTEND;TZID=Europe/London:20260423T180000
DTSTAMP:20260421T135313
CREATED:20251113T135533Z
LAST-MODIFIED:20251228T190709Z
UID:10017625-1776960000-1776967200@wseo.digital
SUMMARY:Charlie B
DESCRIPTION:
URL:https://wseo.digital/event/vacant-show-thurs-4pm-6pm/2026-04-23/
ATTACH;FMTTYPE=image/webp:https://wseo.digital/wp-content/uploads/2025/11/slim-radio-show-1.webp
LOCATION:
END:VEVENT
BEGIN:VEVENT
DTSTART;TZID=Europe/London:20260423T180000
DTEND;TZID=Europe/London:20260423T200000
DTSTAMP:20260421T135313
CREATED:20251228T190929Z
LAST-MODIFIED:20251228T190929Z
UID:10016842-1776967200-1776974400@wseo.digital
SUMMARY:Jamie S
DESCRIPTION:
URL:https://wseo.digital/event/chris-saunders-thurs-2/2026-04-23/
ATTACH;FMTTYPE=image/webp:https://wseo.digital/wp-content/uploads/2025/11/slim-radio-show-1.webp
LOCATION:
END:VEVENT
BEGIN:VEVENT
DTSTART;TZID=Europe/London:20260423T200000
DTEND;TZID=Europe/London:20260423T220000
DTSTAMP:20260421T135313
CREATED:20251228T191046Z
LAST-MODIFIED:20251228T191046Z
UID:10017886-1776974400-1776981600@wseo.digital
SUMMARY:Mark Ruston
DESCRIPTION:
URL:https://wseo.digital/event/vacant-show-thurs-8pm-10pm-2/2026-04-23/
ATTACH;FMTTYPE=image/webp:https://wseo.digital/wp-content/uploads/2025/11/slim-radio-show-1.webp
END:VEVENT
BEGIN:VEVENT
DTSTART;TZID=Europe/London:20260423T220000
DTEND;TZID=Europe/London:20260423T233000
DTSTAMP:20260421T135313
CREATED:20251228T191231Z
LAST-MODIFIED:20251228T191637Z
UID:10018147-1776981600-1776987000@wseo.digital
SUMMARY:Acid Neil
DESCRIPTION:Please email join@slimradio.co.uk if you would like to take this slot
URL:https://wseo.digital/event/vacant-show-thurs-10pm-12am-2/2026-04-23/
ATTACH;FMTTYPE=image/webp:https://wseo.digital/wp-content/uploads/2025/11/slim-radio-show-1.webp
LOCATION:
END:VEVENT
BEGIN:VEVENT
DTSTART;TZID=Europe/London:20260424T100000
DTEND;TZID=Europe/London:20260424T120000
DTSTAMP:20260421T135313
CREATED:20251228T192236Z
LAST-MODIFIED:20251228T192236Z
UID:10018408-1777024800-1777032000@wseo.digital
SUMMARY:Slim Bot Fri 10am – 12pm
DESCRIPTION:Please email join@slimradio.co.uk if you would like to take this slot
URL:https://wseo.digital/event/vacant-show-fri-10am-12pm-2/2026-04-24/
ATTACH;FMTTYPE=image/jpeg:https://wseo.digital/wp-content/uploads/2025/12/Slimbot.jpg
LOCATION:
END:VEVENT
BEGIN:VEVENT
DTSTART;TZID=Europe/London:20260424T120000
DTEND;TZID=Europe/London:20260424T140000
DTSTAMP:20260421T135313
CREATED:20251113T140213Z
LAST-MODIFIED:20251228T192546Z
UID:10018669-1777032000-1777039200@wseo.digital
SUMMARY:Slim Bot Fri 10am – 12pm
DESCRIPTION:Please email join@slimradio.co.uk if you would like to take this slot
URL:https://wseo.digital/event/vacant-show-fri-12pm-2pm/2026-04-24/
ATTACH;FMTTYPE=image/jpeg:https://wseo.digital/wp-content/uploads/2025/12/Slimbot.jpg
LOCATION:
END:VEVENT
BEGIN:VEVENT
DTSTART;TZID=Europe/London:20260424T140000
DTEND;TZID=Europe/London:20260424T160000
DTSTAMP:20260421T135313
CREATED:20251113T140347Z
LAST-MODIFIED:20251228T192716Z
UID:10018930-1777039200-1777046400@wseo.digital
SUMMARY:Slim Bot 2pm - 4pm
DESCRIPTION:Please email join@slimradio.co.uk if you would like to take this slot
URL:https://wseo.digital/event/vacant-show-fri-2pm-4pm/2026-04-24/
ATTACH;FMTTYPE=image/jpeg:https://wseo.digital/wp-content/uploads/2025/12/Slimbot.jpg
LOCATION:
END:VEVENT
BEGIN:VEVENT
DTSTART;TZID=Europe/London:20260424T160000
DTEND;TZID=Europe/London:20260424T180000
DTSTAMP:20260421T135313
CREATED:20251112T141954Z
LAST-MODIFIED:20251112T150434Z
UID:10010028-1777046400-1777053600@wseo.digital
SUMMARY:Ross P
DESCRIPTION:
URL:https://wseo.digital/event/ross-p/2026-04-24/
ATTACH;FMTTYPE=image/webp:https://wseo.digital/wp-content/uploads/2025/11/slim-radio-show-1.webp
LOCATION:
END:VEVENT
BEGIN:VEVENT
DTSTART;TZID=Europe/London:20260424T180000
DTEND;TZID=Europe/London:20260424T200000
DTSTAMP:20260421T135313
CREATED:20251112T141522Z
LAST-MODIFIED:20251112T150559Z
UID:10009506-1777053600-1777060800@wseo.digital
SUMMARY:Peter Johnson
DESCRIPTION:
URL:https://wseo.digital/event/peter-johnson/2026-04-24/
ATTACH;FMTTYPE=image/jpeg:https://wseo.digital/wp-content/uploads/2025/11/Peter-Johnston.jpg
LOCATION:
END:VEVENT
BEGIN:VEVENT
DTSTART;TZID=Europe/London:20260424T200000
DTEND;TZID=Europe/London:20260424T220000
DTSTAMP:20260421T135313
CREATED:20251112T141718Z
LAST-MODIFIED:20251112T150611Z
UID:10009767-1777060800-1777068000@wseo.digital
SUMMARY:Adam McGowan
DESCRIPTION:
URL:https://wseo.digital/event/adam-mcgowan/2026-04-24/
ATTACH;FMTTYPE=image/jpeg:https://wseo.digital/wp-content/uploads/2025/11/Mr-Adz.jpg
LOCATION:
END:VEVENT
BEGIN:VEVENT
DTSTART;TZID=Europe/London:20260424T220000
DTEND;TZID=Europe/London:20260424T233000
DTSTAMP:20260421T135313
CREATED:20251113T140531Z
LAST-MODIFIED:20251228T192127Z
UID:10019192-1777068000-1777073400@wseo.digital
SUMMARY:Slim Bot Fri 10pm - 12am
DESCRIPTION:Please email join@slimradio.co.uk if you would like to take this slot
URL:https://wseo.digital/event/vacant-show-fri-10pm-12am/2026-04-24/
ATTACH;FMTTYPE=image/jpeg:https://wseo.digital/wp-content/uploads/2025/12/Slimbot.jpg
LOCATION:
END:VEVENT
BEGIN:VEVENT
DTSTART;TZID=Europe/London:20260425T070000
DTEND;TZID=Europe/London:20260425T100000
DTSTAMP:20260421T135313
CREATED:20251222T170949Z
LAST-MODIFIED:20251228T192851Z
UID:10020759-1777100400-1777111200@wseo.digital
SUMMARY:Slim Bot Sat 8am – 10pm
DESCRIPTION:Please email join@slimradio.co.uk if you would like to take this slot
URL:https://wseo.digital/event/vacant-show-sat-8am-10am-2/2026-04-25/
ATTACH;FMTTYPE=image/jpeg:https://wseo.digital/wp-content/uploads/2025/12/Slimbot.jpg
LOCATION:
END:VEVENT
END:VCALENDAR