BEGIN:VCALENDAR
VERSION:2.0
PRODID:-//wseodigital - ECPv6.15.13//NONSGML v1.0//EN
CALSCALE:GREGORIAN
METHOD:PUBLISH
X-WR-CALNAME:wseodigital
X-ORIGINAL-URL:https://wseo.digital
X-WR-CALDESC:Events for wseodigital
REFRESH-INTERVAL;VALUE=DURATION:PT1H
X-Robots-Tag:noindex
X-PUBLISHED-TTL:PT1H
BEGIN:VTIMEZONE
TZID:Europe/London
BEGIN:DAYLIGHT
TZOFFSETFROM:+0000
TZOFFSETTO:+0100
TZNAME:BST
DTSTART:20250330T010000
END:DAYLIGHT
BEGIN:STANDARD
TZOFFSETFROM:+0100
TZOFFSETTO:+0000
TZNAME:GMT
DTSTART:20251026T010000
END:STANDARD
BEGIN:DAYLIGHT
TZOFFSETFROM:+0000
TZOFFSETTO:+0100
TZNAME:BST
DTSTART:20260329T010000
END:DAYLIGHT
BEGIN:STANDARD
TZOFFSETFROM:+0100
TZOFFSETTO:+0000
TZNAME:GMT
DTSTART:20261025T010000
END:STANDARD
BEGIN:DAYLIGHT
TZOFFSETFROM:+0000
TZOFFSETTO:+0100
TZNAME:BST
DTSTART:20270328T010000
END:DAYLIGHT
BEGIN:STANDARD
TZOFFSETFROM:+0100
TZOFFSETTO:+0000
TZNAME:GMT
DTSTART:20271031T010000
END:STANDARD
END:VTIMEZONE
BEGIN:VEVENT
DTSTART;TZID=Europe/London:20260425T140000
DTEND;TZID=Europe/London:20260425T160000
DTSTAMP:20260421T152551
CREATED:20251112T150308Z
LAST-MODIFIED:20251112T150508Z
UID:10011336-1777125600-1777132800@wseo.digital
SUMMARY:Katie Wild
DESCRIPTION:
URL:https://wseo.digital/event/katie-wild/2026-04-25/
ATTACH;FMTTYPE=image/jpeg:https://wseo.digital/wp-content/uploads/2025/11/Katie-Wild.jpg
LOCATION:
END:VEVENT
BEGIN:VEVENT
DTSTART;TZID=Europe/London:20260502T140000
DTEND;TZID=Europe/London:20260502T160000
DTSTAMP:20260421T152551
CREATED:20251112T150308Z
LAST-MODIFIED:20251112T150508Z
UID:10011337-1777730400-1777737600@wseo.digital
SUMMARY:Katie Wild
DESCRIPTION:
URL:https://wseo.digital/event/katie-wild/2026-05-02/
ATTACH;FMTTYPE=image/jpeg:https://wseo.digital/wp-content/uploads/2025/11/Katie-Wild.jpg
LOCATION:
END:VEVENT
BEGIN:VEVENT
DTSTART;TZID=Europe/London:20260509T140000
DTEND;TZID=Europe/London:20260509T160000
DTSTAMP:20260421T152551
CREATED:20251112T150308Z
LAST-MODIFIED:20251112T150508Z
UID:10011338-1778335200-1778342400@wseo.digital
SUMMARY:Katie Wild
DESCRIPTION:
URL:https://wseo.digital/event/katie-wild/2026-05-09/
ATTACH;FMTTYPE=image/jpeg:https://wseo.digital/wp-content/uploads/2025/11/Katie-Wild.jpg
LOCATION:
END:VEVENT
BEGIN:VEVENT
DTSTART;TZID=Europe/London:20260516T140000
DTEND;TZID=Europe/London:20260516T160000
DTSTAMP:20260421T152551
CREATED:20251112T150308Z
LAST-MODIFIED:20251112T150508Z
UID:10011339-1778940000-1778947200@wseo.digital
SUMMARY:Katie Wild
DESCRIPTION:
URL:https://wseo.digital/event/katie-wild/2026-05-16/
ATTACH;FMTTYPE=image/jpeg:https://wseo.digital/wp-content/uploads/2025/11/Katie-Wild.jpg
LOCATION:
END:VEVENT
BEGIN:VEVENT
DTSTART;TZID=Europe/London:20260523T140000
DTEND;TZID=Europe/London:20260523T160000
DTSTAMP:20260421T152551
CREATED:20251112T150308Z
LAST-MODIFIED:20251112T150508Z
UID:10011340-1779544800-1779552000@wseo.digital
SUMMARY:Katie Wild
DESCRIPTION:
URL:https://wseo.digital/event/katie-wild/2026-05-23/
ATTACH;FMTTYPE=image/jpeg:https://wseo.digital/wp-content/uploads/2025/11/Katie-Wild.jpg
LOCATION:
END:VEVENT
BEGIN:VEVENT
DTSTART;TZID=Europe/London:20260530T140000
DTEND;TZID=Europe/London:20260530T160000
DTSTAMP:20260421T152551
CREATED:20251112T150308Z
LAST-MODIFIED:20251112T150508Z
UID:10011341-1780149600-1780156800@wseo.digital
SUMMARY:Katie Wild
DESCRIPTION:
URL:https://wseo.digital/event/katie-wild/2026-05-30/
ATTACH;FMTTYPE=image/jpeg:https://wseo.digital/wp-content/uploads/2025/11/Katie-Wild.jpg
LOCATION:
END:VEVENT
BEGIN:VEVENT
DTSTART;TZID=Europe/London:20260606T140000
DTEND;TZID=Europe/London:20260606T160000
DTSTAMP:20260421T152551
CREATED:20251112T150308Z
LAST-MODIFIED:20251112T150508Z
UID:10011342-1780754400-1780761600@wseo.digital
SUMMARY:Katie Wild
DESCRIPTION:
URL:https://wseo.digital/event/katie-wild/2026-06-06/
ATTACH;FMTTYPE=image/jpeg:https://wseo.digital/wp-content/uploads/2025/11/Katie-Wild.jpg
LOCATION:
END:VEVENT
BEGIN:VEVENT
DTSTART;TZID=Europe/London:20260613T140000
DTEND;TZID=Europe/London:20260613T160000
DTSTAMP:20260421T152551
CREATED:20251112T150308Z
LAST-MODIFIED:20251112T150508Z
UID:10011343-1781359200-1781366400@wseo.digital
SUMMARY:Katie Wild
DESCRIPTION:
URL:https://wseo.digital/event/katie-wild/2026-06-13/
ATTACH;FMTTYPE=image/jpeg:https://wseo.digital/wp-content/uploads/2025/11/Katie-Wild.jpg
LOCATION:
END:VEVENT
BEGIN:VEVENT
DTSTART;TZID=Europe/London:20260620T140000
DTEND;TZID=Europe/London:20260620T160000
DTSTAMP:20260421T152551
CREATED:20251112T150308Z
LAST-MODIFIED:20251112T150508Z
UID:10011344-1781964000-1781971200@wseo.digital
SUMMARY:Katie Wild
DESCRIPTION:
URL:https://wseo.digital/event/katie-wild/2026-06-20/
ATTACH;FMTTYPE=image/jpeg:https://wseo.digital/wp-content/uploads/2025/11/Katie-Wild.jpg
LOCATION:
END:VEVENT
BEGIN:VEVENT
DTSTART;TZID=Europe/London:20260627T140000
DTEND;TZID=Europe/London:20260627T160000
DTSTAMP:20260421T152551
CREATED:20251112T150308Z
LAST-MODIFIED:20251112T150508Z
UID:10011345-1782568800-1782576000@wseo.digital
SUMMARY:Katie Wild
DESCRIPTION:
URL:https://wseo.digital/event/katie-wild/2026-06-27/
ATTACH;FMTTYPE=image/jpeg:https://wseo.digital/wp-content/uploads/2025/11/Katie-Wild.jpg
LOCATION:
END:VEVENT
BEGIN:VEVENT
DTSTART;TZID=Europe/London:20260704T140000
DTEND;TZID=Europe/London:20260704T160000
DTSTAMP:20260421T152551
CREATED:20251112T150308Z
LAST-MODIFIED:20251112T150508Z
UID:10011346-1783173600-1783180800@wseo.digital
SUMMARY:Katie Wild
DESCRIPTION:
URL:https://wseo.digital/event/katie-wild/2026-07-04/
ATTACH;FMTTYPE=image/jpeg:https://wseo.digital/wp-content/uploads/2025/11/Katie-Wild.jpg
LOCATION:
END:VEVENT
BEGIN:VEVENT
DTSTART;TZID=Europe/London:20260711T140000
DTEND;TZID=Europe/London:20260711T160000
DTSTAMP:20260421T152551
CREATED:20251112T150308Z
LAST-MODIFIED:20251112T150508Z
UID:10011347-1783778400-1783785600@wseo.digital
SUMMARY:Katie Wild
DESCRIPTION:
URL:https://wseo.digital/event/katie-wild/2026-07-11/
ATTACH;FMTTYPE=image/jpeg:https://wseo.digital/wp-content/uploads/2025/11/Katie-Wild.jpg
LOCATION:
END:VEVENT
BEGIN:VEVENT
DTSTART;TZID=Europe/London:20260718T140000
DTEND;TZID=Europe/London:20260718T160000
DTSTAMP:20260421T152551
CREATED:20251112T150308Z
LAST-MODIFIED:20251112T150508Z
UID:10011348-1784383200-1784390400@wseo.digital
SUMMARY:Katie Wild
DESCRIPTION:
URL:https://wseo.digital/event/katie-wild/2026-07-18/
ATTACH;FMTTYPE=image/jpeg:https://wseo.digital/wp-content/uploads/2025/11/Katie-Wild.jpg
LOCATION:
END:VEVENT
BEGIN:VEVENT
DTSTART;TZID=Europe/London:20260725T140000
DTEND;TZID=Europe/London:20260725T160000
DTSTAMP:20260421T152551
CREATED:20251112T150308Z
LAST-MODIFIED:20251112T150508Z
UID:10011349-1784988000-1784995200@wseo.digital
SUMMARY:Katie Wild
DESCRIPTION:
URL:https://wseo.digital/event/katie-wild/2026-07-25/
ATTACH;FMTTYPE=image/jpeg:https://wseo.digital/wp-content/uploads/2025/11/Katie-Wild.jpg
LOCATION:
END:VEVENT
BEGIN:VEVENT
DTSTART;TZID=Europe/London:20260801T140000
DTEND;TZID=Europe/London:20260801T160000
DTSTAMP:20260421T152551
CREATED:20251112T150308Z
LAST-MODIFIED:20251112T150508Z
UID:10011350-1785592800-1785600000@wseo.digital
SUMMARY:Katie Wild
DESCRIPTION:
URL:https://wseo.digital/event/katie-wild/2026-08-01/
ATTACH;FMTTYPE=image/jpeg:https://wseo.digital/wp-content/uploads/2025/11/Katie-Wild.jpg
LOCATION:
END:VEVENT
BEGIN:VEVENT
DTSTART;TZID=Europe/London:20260808T140000
DTEND;TZID=Europe/London:20260808T160000
DTSTAMP:20260421T152551
CREATED:20251112T150308Z
LAST-MODIFIED:20251112T150508Z
UID:10011351-1786197600-1786204800@wseo.digital
SUMMARY:Katie Wild
DESCRIPTION:
URL:https://wseo.digital/event/katie-wild/2026-08-08/
ATTACH;FMTTYPE=image/jpeg:https://wseo.digital/wp-content/uploads/2025/11/Katie-Wild.jpg
LOCATION:
END:VEVENT
BEGIN:VEVENT
DTSTART;TZID=Europe/London:20260815T140000
DTEND;TZID=Europe/London:20260815T160000
DTSTAMP:20260421T152551
CREATED:20251112T150308Z
LAST-MODIFIED:20251112T150508Z
UID:10011352-1786802400-1786809600@wseo.digital
SUMMARY:Katie Wild
DESCRIPTION:
URL:https://wseo.digital/event/katie-wild/2026-08-15/
ATTACH;FMTTYPE=image/jpeg:https://wseo.digital/wp-content/uploads/2025/11/Katie-Wild.jpg
LOCATION:
END:VEVENT
BEGIN:VEVENT
DTSTART;TZID=Europe/London:20260822T140000
DTEND;TZID=Europe/London:20260822T160000
DTSTAMP:20260421T152551
CREATED:20251112T150308Z
LAST-MODIFIED:20251112T150508Z
UID:10011353-1787407200-1787414400@wseo.digital
SUMMARY:Katie Wild
DESCRIPTION:
URL:https://wseo.digital/event/katie-wild/2026-08-22/
ATTACH;FMTTYPE=image/jpeg:https://wseo.digital/wp-content/uploads/2025/11/Katie-Wild.jpg
LOCATION:
END:VEVENT
BEGIN:VEVENT
DTSTART;TZID=Europe/London:20260829T140000
DTEND;TZID=Europe/London:20260829T160000
DTSTAMP:20260421T152551
CREATED:20251112T150308Z
LAST-MODIFIED:20251112T150508Z
UID:10011354-1788012000-1788019200@wseo.digital
SUMMARY:Katie Wild
DESCRIPTION:
URL:https://wseo.digital/event/katie-wild/2026-08-29/
ATTACH;FMTTYPE=image/jpeg:https://wseo.digital/wp-content/uploads/2025/11/Katie-Wild.jpg
LOCATION:
END:VEVENT
BEGIN:VEVENT
DTSTART;TZID=Europe/London:20260905T140000
DTEND;TZID=Europe/London:20260905T160000
DTSTAMP:20260421T152551
CREATED:20251112T150308Z
LAST-MODIFIED:20251112T150508Z
UID:10011355-1788616800-1788624000@wseo.digital
SUMMARY:Katie Wild
DESCRIPTION:
URL:https://wseo.digital/event/katie-wild/2026-09-05/
ATTACH;FMTTYPE=image/jpeg:https://wseo.digital/wp-content/uploads/2025/11/Katie-Wild.jpg
LOCATION:
END:VEVENT
BEGIN:VEVENT
DTSTART;TZID=Europe/London:20260912T140000
DTEND;TZID=Europe/London:20260912T160000
DTSTAMP:20260421T152551
CREATED:20251112T150308Z
LAST-MODIFIED:20251112T150508Z
UID:10011356-1789221600-1789228800@wseo.digital
SUMMARY:Katie Wild
DESCRIPTION:
URL:https://wseo.digital/event/katie-wild/2026-09-12/
ATTACH;FMTTYPE=image/jpeg:https://wseo.digital/wp-content/uploads/2025/11/Katie-Wild.jpg
LOCATION:
END:VEVENT
BEGIN:VEVENT
DTSTART;TZID=Europe/London:20260919T140000
DTEND;TZID=Europe/London:20260919T160000
DTSTAMP:20260421T152551
CREATED:20251112T150308Z
LAST-MODIFIED:20251112T150508Z
UID:10011357-1789826400-1789833600@wseo.digital
SUMMARY:Katie Wild
DESCRIPTION:
URL:https://wseo.digital/event/katie-wild/2026-09-19/
ATTACH;FMTTYPE=image/jpeg:https://wseo.digital/wp-content/uploads/2025/11/Katie-Wild.jpg
LOCATION:
END:VEVENT
BEGIN:VEVENT
DTSTART;TZID=Europe/London:20260926T140000
DTEND;TZID=Europe/London:20260926T160000
DTSTAMP:20260421T152551
CREATED:20251112T150308Z
LAST-MODIFIED:20251112T150508Z
UID:10011358-1790431200-1790438400@wseo.digital
SUMMARY:Katie Wild
DESCRIPTION:
URL:https://wseo.digital/event/katie-wild/2026-09-26/
ATTACH;FMTTYPE=image/jpeg:https://wseo.digital/wp-content/uploads/2025/11/Katie-Wild.jpg
LOCATION:
END:VEVENT
BEGIN:VEVENT
DTSTART;TZID=Europe/London:20261003T140000
DTEND;TZID=Europe/London:20261003T160000
DTSTAMP:20260421T152551
CREATED:20251112T150308Z
LAST-MODIFIED:20251112T150508Z
UID:10011359-1791036000-1791043200@wseo.digital
SUMMARY:Katie Wild
DESCRIPTION:
URL:https://wseo.digital/event/katie-wild/2026-10-03/
ATTACH;FMTTYPE=image/jpeg:https://wseo.digital/wp-content/uploads/2025/11/Katie-Wild.jpg
LOCATION:
END:VEVENT
BEGIN:VEVENT
DTSTART;TZID=Europe/London:20261010T140000
DTEND;TZID=Europe/London:20261010T160000
DTSTAMP:20260421T152551
CREATED:20251112T150308Z
LAST-MODIFIED:20251112T150508Z
UID:10011360-1791640800-1791648000@wseo.digital
SUMMARY:Katie Wild
DESCRIPTION:
URL:https://wseo.digital/event/katie-wild/2026-10-10/
ATTACH;FMTTYPE=image/jpeg:https://wseo.digital/wp-content/uploads/2025/11/Katie-Wild.jpg
LOCATION:
END:VEVENT
BEGIN:VEVENT
DTSTART;TZID=Europe/London:20261017T140000
DTEND;TZID=Europe/London:20261017T160000
DTSTAMP:20260421T152551
CREATED:20251112T150308Z
LAST-MODIFIED:20251112T150508Z
UID:10011361-1792245600-1792252800@wseo.digital
SUMMARY:Katie Wild
DESCRIPTION:
URL:https://wseo.digital/event/katie-wild/2026-10-17/
ATTACH;FMTTYPE=image/jpeg:https://wseo.digital/wp-content/uploads/2025/11/Katie-Wild.jpg
LOCATION:
END:VEVENT
BEGIN:VEVENT
DTSTART;TZID=Europe/London:20261024T140000
DTEND;TZID=Europe/London:20261024T160000
DTSTAMP:20260421T152551
CREATED:20251112T150308Z
LAST-MODIFIED:20251112T150508Z
UID:10011362-1792850400-1792857600@wseo.digital
SUMMARY:Katie Wild
DESCRIPTION:
URL:https://wseo.digital/event/katie-wild/2026-10-24/
ATTACH;FMTTYPE=image/jpeg:https://wseo.digital/wp-content/uploads/2025/11/Katie-Wild.jpg
LOCATION:
END:VEVENT
BEGIN:VEVENT
DTSTART;TZID=Europe/London:20261031T140000
DTEND;TZID=Europe/London:20261031T160000
DTSTAMP:20260421T152551
CREATED:20251112T150308Z
LAST-MODIFIED:20251112T150508Z
UID:10011363-1793455200-1793462400@wseo.digital
SUMMARY:Katie Wild
DESCRIPTION:
URL:https://wseo.digital/event/katie-wild/2026-10-31/
ATTACH;FMTTYPE=image/jpeg:https://wseo.digital/wp-content/uploads/2025/11/Katie-Wild.jpg
LOCATION:
END:VEVENT
BEGIN:VEVENT
DTSTART;TZID=Europe/London:20261107T140000
DTEND;TZID=Europe/London:20261107T160000
DTSTAMP:20260421T152551
CREATED:20251112T150308Z
LAST-MODIFIED:20251112T150508Z
UID:10011364-1794060000-1794067200@wseo.digital
SUMMARY:Katie Wild
DESCRIPTION:
URL:https://wseo.digital/event/katie-wild/2026-11-07/
ATTACH;FMTTYPE=image/jpeg:https://wseo.digital/wp-content/uploads/2025/11/Katie-Wild.jpg
LOCATION:
END:VEVENT
BEGIN:VEVENT
DTSTART;TZID=Europe/London:20261114T140000
DTEND;TZID=Europe/London:20261114T160000
DTSTAMP:20260421T152551
CREATED:20251112T150308Z
LAST-MODIFIED:20251112T150508Z
UID:10011365-1794664800-1794672000@wseo.digital
SUMMARY:Katie Wild
DESCRIPTION:
URL:https://wseo.digital/event/katie-wild/2026-11-14/
ATTACH;FMTTYPE=image/jpeg:https://wseo.digital/wp-content/uploads/2025/11/Katie-Wild.jpg
LOCATION:
END:VEVENT
END:VCALENDAR