BEGIN:VCALENDAR
VERSION:2.0
PRODID:-//wseodigital - ECPv6.15.13//NONSGML v1.0//EN
CALSCALE:GREGORIAN
METHOD:PUBLISH
X-WR-CALNAME:wseodigital
X-ORIGINAL-URL:https://wseo.digital
X-WR-CALDESC:Events for wseodigital
REFRESH-INTERVAL;VALUE=DURATION:PT1H
X-Robots-Tag:noindex
X-PUBLISHED-TTL:PT1H
BEGIN:VTIMEZONE
TZID:Europe/London
BEGIN:DAYLIGHT
TZOFFSETFROM:+0000
TZOFFSETTO:+0100
TZNAME:BST
DTSTART:20250330T010000
END:DAYLIGHT
BEGIN:STANDARD
TZOFFSETFROM:+0100
TZOFFSETTO:+0000
TZNAME:GMT
DTSTART:20251026T010000
END:STANDARD
BEGIN:DAYLIGHT
TZOFFSETFROM:+0000
TZOFFSETTO:+0100
TZNAME:BST
DTSTART:20260329T010000
END:DAYLIGHT
BEGIN:STANDARD
TZOFFSETFROM:+0100
TZOFFSETTO:+0000
TZNAME:GMT
DTSTART:20261025T010000
END:STANDARD
BEGIN:DAYLIGHT
TZOFFSETFROM:+0000
TZOFFSETTO:+0100
TZNAME:BST
DTSTART:20270328T010000
END:DAYLIGHT
BEGIN:STANDARD
TZOFFSETFROM:+0100
TZOFFSETTO:+0000
TZNAME:GMT
DTSTART:20271031T010000
END:STANDARD
END:VTIMEZONE
BEGIN:VEVENT
DTSTART;TZID=Europe/London:20260426T180000
DTEND;TZID=Europe/London:20260426T200000
DTSTAMP:20260421T165216
CREATED:20251111T161103Z
LAST-MODIFIED:20251111T164456Z
UID:10006132-1777226400-1777233600@wseo.digital
SUMMARY:Chris Saunders
DESCRIPTION:
URL:https://wseo.digital/event/chris-saunders/2026-04-26/
ATTACH;FMTTYPE=image/webp:https://wseo.digital/wp-content/uploads/2025/11/slim-radio-show-1.webp
LOCATION:
END:VEVENT
BEGIN:VEVENT
DTSTART;TZID=Europe/London:20260503T180000
DTEND;TZID=Europe/London:20260503T200000
DTSTAMP:20260421T165216
CREATED:20251111T161103Z
LAST-MODIFIED:20251111T164456Z
UID:10006133-1777831200-1777838400@wseo.digital
SUMMARY:Chris Saunders
DESCRIPTION:
URL:https://wseo.digital/event/chris-saunders/2026-05-03/
ATTACH;FMTTYPE=image/webp:https://wseo.digital/wp-content/uploads/2025/11/slim-radio-show-1.webp
LOCATION:
END:VEVENT
BEGIN:VEVENT
DTSTART;TZID=Europe/London:20260510T180000
DTEND;TZID=Europe/London:20260510T200000
DTSTAMP:20260421T165216
CREATED:20251111T161103Z
LAST-MODIFIED:20251111T164456Z
UID:10006134-1778436000-1778443200@wseo.digital
SUMMARY:Chris Saunders
DESCRIPTION:
URL:https://wseo.digital/event/chris-saunders/2026-05-10/
ATTACH;FMTTYPE=image/webp:https://wseo.digital/wp-content/uploads/2025/11/slim-radio-show-1.webp
LOCATION:
END:VEVENT
BEGIN:VEVENT
DTSTART;TZID=Europe/London:20260517T180000
DTEND;TZID=Europe/London:20260517T200000
DTSTAMP:20260421T165216
CREATED:20251111T161103Z
LAST-MODIFIED:20251111T164456Z
UID:10006135-1779040800-1779048000@wseo.digital
SUMMARY:Chris Saunders
DESCRIPTION:
URL:https://wseo.digital/event/chris-saunders/2026-05-17/
ATTACH;FMTTYPE=image/webp:https://wseo.digital/wp-content/uploads/2025/11/slim-radio-show-1.webp
LOCATION:
END:VEVENT
BEGIN:VEVENT
DTSTART;TZID=Europe/London:20260524T180000
DTEND;TZID=Europe/London:20260524T200000
DTSTAMP:20260421T165216
CREATED:20251111T161103Z
LAST-MODIFIED:20251111T164456Z
UID:10006136-1779645600-1779652800@wseo.digital
SUMMARY:Chris Saunders
DESCRIPTION:
URL:https://wseo.digital/event/chris-saunders/2026-05-24/
ATTACH;FMTTYPE=image/webp:https://wseo.digital/wp-content/uploads/2025/11/slim-radio-show-1.webp
LOCATION:
END:VEVENT
BEGIN:VEVENT
DTSTART;TZID=Europe/London:20260531T180000
DTEND;TZID=Europe/London:20260531T200000
DTSTAMP:20260421T165216
CREATED:20251111T161103Z
LAST-MODIFIED:20251111T164456Z
UID:10006137-1780250400-1780257600@wseo.digital
SUMMARY:Chris Saunders
DESCRIPTION:
URL:https://wseo.digital/event/chris-saunders/2026-05-31/
ATTACH;FMTTYPE=image/webp:https://wseo.digital/wp-content/uploads/2025/11/slim-radio-show-1.webp
LOCATION:
END:VEVENT
BEGIN:VEVENT
DTSTART;TZID=Europe/London:20260607T180000
DTEND;TZID=Europe/London:20260607T200000
DTSTAMP:20260421T165216
CREATED:20251111T161103Z
LAST-MODIFIED:20251111T164456Z
UID:10006138-1780855200-1780862400@wseo.digital
SUMMARY:Chris Saunders
DESCRIPTION:
URL:https://wseo.digital/event/chris-saunders/2026-06-07/
ATTACH;FMTTYPE=image/webp:https://wseo.digital/wp-content/uploads/2025/11/slim-radio-show-1.webp
LOCATION:
END:VEVENT
BEGIN:VEVENT
DTSTART;TZID=Europe/London:20260614T180000
DTEND;TZID=Europe/London:20260614T200000
DTSTAMP:20260421T165216
CREATED:20251111T161103Z
LAST-MODIFIED:20251111T164456Z
UID:10006139-1781460000-1781467200@wseo.digital
SUMMARY:Chris Saunders
DESCRIPTION:
URL:https://wseo.digital/event/chris-saunders/2026-06-14/
ATTACH;FMTTYPE=image/webp:https://wseo.digital/wp-content/uploads/2025/11/slim-radio-show-1.webp
LOCATION:
END:VEVENT
BEGIN:VEVENT
DTSTART;TZID=Europe/London:20260621T180000
DTEND;TZID=Europe/London:20260621T200000
DTSTAMP:20260421T165216
CREATED:20251111T161103Z
LAST-MODIFIED:20251111T164456Z
UID:10006140-1782064800-1782072000@wseo.digital
SUMMARY:Chris Saunders
DESCRIPTION:
URL:https://wseo.digital/event/chris-saunders/2026-06-21/
ATTACH;FMTTYPE=image/webp:https://wseo.digital/wp-content/uploads/2025/11/slim-radio-show-1.webp
LOCATION:
END:VEVENT
BEGIN:VEVENT
DTSTART;TZID=Europe/London:20260628T180000
DTEND;TZID=Europe/London:20260628T200000
DTSTAMP:20260421T165216
CREATED:20251111T161103Z
LAST-MODIFIED:20251111T164456Z
UID:10006141-1782669600-1782676800@wseo.digital
SUMMARY:Chris Saunders
DESCRIPTION:
URL:https://wseo.digital/event/chris-saunders/2026-06-28/
ATTACH;FMTTYPE=image/webp:https://wseo.digital/wp-content/uploads/2025/11/slim-radio-show-1.webp
LOCATION:
END:VEVENT
BEGIN:VEVENT
DTSTART;TZID=Europe/London:20260705T180000
DTEND;TZID=Europe/London:20260705T200000
DTSTAMP:20260421T165216
CREATED:20251111T161103Z
LAST-MODIFIED:20251111T164456Z
UID:10006142-1783274400-1783281600@wseo.digital
SUMMARY:Chris Saunders
DESCRIPTION:
URL:https://wseo.digital/event/chris-saunders/2026-07-05/
ATTACH;FMTTYPE=image/webp:https://wseo.digital/wp-content/uploads/2025/11/slim-radio-show-1.webp
LOCATION:
END:VEVENT
BEGIN:VEVENT
DTSTART;TZID=Europe/London:20260712T180000
DTEND;TZID=Europe/London:20260712T200000
DTSTAMP:20260421T165216
CREATED:20251111T161103Z
LAST-MODIFIED:20251111T164456Z
UID:10006143-1783879200-1783886400@wseo.digital
SUMMARY:Chris Saunders
DESCRIPTION:
URL:https://wseo.digital/event/chris-saunders/2026-07-12/
ATTACH;FMTTYPE=image/webp:https://wseo.digital/wp-content/uploads/2025/11/slim-radio-show-1.webp
LOCATION:
END:VEVENT
BEGIN:VEVENT
DTSTART;TZID=Europe/London:20260719T180000
DTEND;TZID=Europe/London:20260719T200000
DTSTAMP:20260421T165216
CREATED:20251111T161103Z
LAST-MODIFIED:20251111T164456Z
UID:10006144-1784484000-1784491200@wseo.digital
SUMMARY:Chris Saunders
DESCRIPTION:
URL:https://wseo.digital/event/chris-saunders/2026-07-19/
ATTACH;FMTTYPE=image/webp:https://wseo.digital/wp-content/uploads/2025/11/slim-radio-show-1.webp
LOCATION:
END:VEVENT
BEGIN:VEVENT
DTSTART;TZID=Europe/London:20260726T180000
DTEND;TZID=Europe/London:20260726T200000
DTSTAMP:20260421T165216
CREATED:20251111T161103Z
LAST-MODIFIED:20251111T164456Z
UID:10006145-1785088800-1785096000@wseo.digital
SUMMARY:Chris Saunders
DESCRIPTION:
URL:https://wseo.digital/event/chris-saunders/2026-07-26/
ATTACH;FMTTYPE=image/webp:https://wseo.digital/wp-content/uploads/2025/11/slim-radio-show-1.webp
LOCATION:
END:VEVENT
BEGIN:VEVENT
DTSTART;TZID=Europe/London:20260802T180000
DTEND;TZID=Europe/London:20260802T200000
DTSTAMP:20260421T165216
CREATED:20251111T161103Z
LAST-MODIFIED:20251111T164456Z
UID:10006146-1785693600-1785700800@wseo.digital
SUMMARY:Chris Saunders
DESCRIPTION:
URL:https://wseo.digital/event/chris-saunders/2026-08-02/
ATTACH;FMTTYPE=image/webp:https://wseo.digital/wp-content/uploads/2025/11/slim-radio-show-1.webp
LOCATION:
END:VEVENT
BEGIN:VEVENT
DTSTART;TZID=Europe/London:20260809T180000
DTEND;TZID=Europe/London:20260809T200000
DTSTAMP:20260421T165216
CREATED:20251111T161103Z
LAST-MODIFIED:20251111T164456Z
UID:10006147-1786298400-1786305600@wseo.digital
SUMMARY:Chris Saunders
DESCRIPTION:
URL:https://wseo.digital/event/chris-saunders/2026-08-09/
ATTACH;FMTTYPE=image/webp:https://wseo.digital/wp-content/uploads/2025/11/slim-radio-show-1.webp
LOCATION:
END:VEVENT
BEGIN:VEVENT
DTSTART;TZID=Europe/London:20260816T180000
DTEND;TZID=Europe/London:20260816T200000
DTSTAMP:20260421T165216
CREATED:20251111T161103Z
LAST-MODIFIED:20251111T164456Z
UID:10006148-1786903200-1786910400@wseo.digital
SUMMARY:Chris Saunders
DESCRIPTION:
URL:https://wseo.digital/event/chris-saunders/2026-08-16/
ATTACH;FMTTYPE=image/webp:https://wseo.digital/wp-content/uploads/2025/11/slim-radio-show-1.webp
LOCATION:
END:VEVENT
BEGIN:VEVENT
DTSTART;TZID=Europe/London:20260823T180000
DTEND;TZID=Europe/London:20260823T200000
DTSTAMP:20260421T165216
CREATED:20251111T161103Z
LAST-MODIFIED:20251111T164456Z
UID:10006149-1787508000-1787515200@wseo.digital
SUMMARY:Chris Saunders
DESCRIPTION:
URL:https://wseo.digital/event/chris-saunders/2026-08-23/
ATTACH;FMTTYPE=image/webp:https://wseo.digital/wp-content/uploads/2025/11/slim-radio-show-1.webp
LOCATION:
END:VEVENT
BEGIN:VEVENT
DTSTART;TZID=Europe/London:20260830T180000
DTEND;TZID=Europe/London:20260830T200000
DTSTAMP:20260421T165216
CREATED:20251111T161103Z
LAST-MODIFIED:20251111T164456Z
UID:10006150-1788112800-1788120000@wseo.digital
SUMMARY:Chris Saunders
DESCRIPTION:
URL:https://wseo.digital/event/chris-saunders/2026-08-30/
ATTACH;FMTTYPE=image/webp:https://wseo.digital/wp-content/uploads/2025/11/slim-radio-show-1.webp
LOCATION:
END:VEVENT
BEGIN:VEVENT
DTSTART;TZID=Europe/London:20260906T180000
DTEND;TZID=Europe/London:20260906T200000
DTSTAMP:20260421T165216
CREATED:20251111T161103Z
LAST-MODIFIED:20251111T164456Z
UID:10006151-1788717600-1788724800@wseo.digital
SUMMARY:Chris Saunders
DESCRIPTION:
URL:https://wseo.digital/event/chris-saunders/2026-09-06/
ATTACH;FMTTYPE=image/webp:https://wseo.digital/wp-content/uploads/2025/11/slim-radio-show-1.webp
LOCATION:
END:VEVENT
BEGIN:VEVENT
DTSTART;TZID=Europe/London:20260913T180000
DTEND;TZID=Europe/London:20260913T200000
DTSTAMP:20260421T165216
CREATED:20251111T161103Z
LAST-MODIFIED:20251111T164456Z
UID:10006152-1789322400-1789329600@wseo.digital
SUMMARY:Chris Saunders
DESCRIPTION:
URL:https://wseo.digital/event/chris-saunders/2026-09-13/
ATTACH;FMTTYPE=image/webp:https://wseo.digital/wp-content/uploads/2025/11/slim-radio-show-1.webp
LOCATION:
END:VEVENT
BEGIN:VEVENT
DTSTART;TZID=Europe/London:20260920T180000
DTEND;TZID=Europe/London:20260920T200000
DTSTAMP:20260421T165216
CREATED:20251111T161103Z
LAST-MODIFIED:20251111T164456Z
UID:10006153-1789927200-1789934400@wseo.digital
SUMMARY:Chris Saunders
DESCRIPTION:
URL:https://wseo.digital/event/chris-saunders/2026-09-20/
ATTACH;FMTTYPE=image/webp:https://wseo.digital/wp-content/uploads/2025/11/slim-radio-show-1.webp
LOCATION:
END:VEVENT
BEGIN:VEVENT
DTSTART;TZID=Europe/London:20260927T180000
DTEND;TZID=Europe/London:20260927T200000
DTSTAMP:20260421T165216
CREATED:20251111T161103Z
LAST-MODIFIED:20251111T164456Z
UID:10006154-1790532000-1790539200@wseo.digital
SUMMARY:Chris Saunders
DESCRIPTION:
URL:https://wseo.digital/event/chris-saunders/2026-09-27/
ATTACH;FMTTYPE=image/webp:https://wseo.digital/wp-content/uploads/2025/11/slim-radio-show-1.webp
LOCATION:
END:VEVENT
BEGIN:VEVENT
DTSTART;TZID=Europe/London:20261004T180000
DTEND;TZID=Europe/London:20261004T200000
DTSTAMP:20260421T165216
CREATED:20251111T161103Z
LAST-MODIFIED:20251111T164456Z
UID:10006155-1791136800-1791144000@wseo.digital
SUMMARY:Chris Saunders
DESCRIPTION:
URL:https://wseo.digital/event/chris-saunders/2026-10-04/
ATTACH;FMTTYPE=image/webp:https://wseo.digital/wp-content/uploads/2025/11/slim-radio-show-1.webp
LOCATION:
END:VEVENT
BEGIN:VEVENT
DTSTART;TZID=Europe/London:20261011T180000
DTEND;TZID=Europe/London:20261011T200000
DTSTAMP:20260421T165216
CREATED:20251111T161103Z
LAST-MODIFIED:20251111T164456Z
UID:10006156-1791741600-1791748800@wseo.digital
SUMMARY:Chris Saunders
DESCRIPTION:
URL:https://wseo.digital/event/chris-saunders/2026-10-11/
ATTACH;FMTTYPE=image/webp:https://wseo.digital/wp-content/uploads/2025/11/slim-radio-show-1.webp
LOCATION:
END:VEVENT
BEGIN:VEVENT
DTSTART;TZID=Europe/London:20261018T180000
DTEND;TZID=Europe/London:20261018T200000
DTSTAMP:20260421T165216
CREATED:20251111T161103Z
LAST-MODIFIED:20251111T164456Z
UID:10006157-1792346400-1792353600@wseo.digital
SUMMARY:Chris Saunders
DESCRIPTION:
URL:https://wseo.digital/event/chris-saunders/2026-10-18/
ATTACH;FMTTYPE=image/webp:https://wseo.digital/wp-content/uploads/2025/11/slim-radio-show-1.webp
LOCATION:
END:VEVENT
BEGIN:VEVENT
DTSTART;TZID=Europe/London:20261025T180000
DTEND;TZID=Europe/London:20261025T200000
DTSTAMP:20260421T165216
CREATED:20251111T161103Z
LAST-MODIFIED:20251111T164456Z
UID:10006158-1792951200-1792958400@wseo.digital
SUMMARY:Chris Saunders
DESCRIPTION:
URL:https://wseo.digital/event/chris-saunders/2026-10-25/
ATTACH;FMTTYPE=image/webp:https://wseo.digital/wp-content/uploads/2025/11/slim-radio-show-1.webp
LOCATION:
END:VEVENT
BEGIN:VEVENT
DTSTART;TZID=Europe/London:20261101T180000
DTEND;TZID=Europe/London:20261101T200000
DTSTAMP:20260421T165216
CREATED:20251111T161103Z
LAST-MODIFIED:20251111T164456Z
UID:10006159-1793556000-1793563200@wseo.digital
SUMMARY:Chris Saunders
DESCRIPTION:
URL:https://wseo.digital/event/chris-saunders/2026-11-01/
ATTACH;FMTTYPE=image/webp:https://wseo.digital/wp-content/uploads/2025/11/slim-radio-show-1.webp
LOCATION:
END:VEVENT
BEGIN:VEVENT
DTSTART;TZID=Europe/London:20261108T180000
DTEND;TZID=Europe/London:20261108T200000
DTSTAMP:20260421T165216
CREATED:20251111T161103Z
LAST-MODIFIED:20251111T164456Z
UID:10006160-1794160800-1794168000@wseo.digital
SUMMARY:Chris Saunders
DESCRIPTION:
URL:https://wseo.digital/event/chris-saunders/2026-11-08/
ATTACH;FMTTYPE=image/webp:https://wseo.digital/wp-content/uploads/2025/11/slim-radio-show-1.webp
LOCATION:
END:VEVENT
BEGIN:VEVENT
DTSTART;TZID=Europe/London:20261115T180000
DTEND;TZID=Europe/London:20261115T200000
DTSTAMP:20260421T165216
CREATED:20251111T161103Z
LAST-MODIFIED:20251111T164456Z
UID:10006161-1794765600-1794772800@wseo.digital
SUMMARY:Chris Saunders
DESCRIPTION:
URL:https://wseo.digital/event/chris-saunders/2026-11-15/
ATTACH;FMTTYPE=image/webp:https://wseo.digital/wp-content/uploads/2025/11/slim-radio-show-1.webp
LOCATION:
END:VEVENT
END:VCALENDAR