BEGIN:VCALENDAR
VERSION:2.0
PRODID:-//wseodigital - ECPv6.15.13//NONSGML v1.0//EN
CALSCALE:GREGORIAN
METHOD:PUBLISH
X-WR-CALNAME:wseodigital
X-ORIGINAL-URL:https://wseo.digital
X-WR-CALDESC:Events for wseodigital
REFRESH-INTERVAL;VALUE=DURATION:PT1H
X-Robots-Tag:noindex
X-PUBLISHED-TTL:PT1H
BEGIN:VTIMEZONE
TZID:Europe/London
BEGIN:DAYLIGHT
TZOFFSETFROM:+0000
TZOFFSETTO:+0100
TZNAME:BST
DTSTART:20250330T010000
END:DAYLIGHT
BEGIN:STANDARD
TZOFFSETFROM:+0100
TZOFFSETTO:+0000
TZNAME:GMT
DTSTART:20251026T010000
END:STANDARD
BEGIN:DAYLIGHT
TZOFFSETFROM:+0000
TZOFFSETTO:+0100
TZNAME:BST
DTSTART:20260329T010000
END:DAYLIGHT
BEGIN:STANDARD
TZOFFSETFROM:+0100
TZOFFSETTO:+0000
TZNAME:GMT
DTSTART:20261025T010000
END:STANDARD
BEGIN:DAYLIGHT
TZOFFSETFROM:+0000
TZOFFSETTO:+0100
TZNAME:BST
DTSTART:20270328T010000
END:DAYLIGHT
BEGIN:STANDARD
TZOFFSETFROM:+0100
TZOFFSETTO:+0000
TZNAME:GMT
DTSTART:20271031T010000
END:STANDARD
END:VTIMEZONE
BEGIN:VEVENT
DTSTART;TZID=Europe/London:20260426T100000
DTEND;TZID=Europe/London:20260426T120000
DTSTAMP:20260421T153632
CREATED:20251111T162428Z
LAST-MODIFIED:20251111T164533Z
UID:10006915-1777197600-1777204800@wseo.digital
SUMMARY:DJ Slim - The Sunday Jukebox
DESCRIPTION:
URL:https://wseo.digital/event/dj-slim-the-sunday-jukebox/2026-04-26/
ATTACH;FMTTYPE=image/jpeg:https://wseo.digital/wp-content/uploads/2025/11/DJ-Slim-Sunday-Morning-Brunch.jpg
LOCATION:
END:VEVENT
BEGIN:VEVENT
DTSTART;TZID=Europe/London:20260503T100000
DTEND;TZID=Europe/London:20260503T120000
DTSTAMP:20260421T153632
CREATED:20251111T162428Z
LAST-MODIFIED:20251111T164533Z
UID:10006916-1777802400-1777809600@wseo.digital
SUMMARY:DJ Slim - The Sunday Jukebox
DESCRIPTION:
URL:https://wseo.digital/event/dj-slim-the-sunday-jukebox/2026-05-03/
ATTACH;FMTTYPE=image/jpeg:https://wseo.digital/wp-content/uploads/2025/11/DJ-Slim-Sunday-Morning-Brunch.jpg
LOCATION:
END:VEVENT
BEGIN:VEVENT
DTSTART;TZID=Europe/London:20260510T100000
DTEND;TZID=Europe/London:20260510T120000
DTSTAMP:20260421T153632
CREATED:20251111T162428Z
LAST-MODIFIED:20251111T164533Z
UID:10006917-1778407200-1778414400@wseo.digital
SUMMARY:DJ Slim - The Sunday Jukebox
DESCRIPTION:
URL:https://wseo.digital/event/dj-slim-the-sunday-jukebox/2026-05-10/
ATTACH;FMTTYPE=image/jpeg:https://wseo.digital/wp-content/uploads/2025/11/DJ-Slim-Sunday-Morning-Brunch.jpg
LOCATION:
END:VEVENT
BEGIN:VEVENT
DTSTART;TZID=Europe/London:20260517T100000
DTEND;TZID=Europe/London:20260517T120000
DTSTAMP:20260421T153632
CREATED:20251111T162428Z
LAST-MODIFIED:20251111T164533Z
UID:10006918-1779012000-1779019200@wseo.digital
SUMMARY:DJ Slim - The Sunday Jukebox
DESCRIPTION:
URL:https://wseo.digital/event/dj-slim-the-sunday-jukebox/2026-05-17/
ATTACH;FMTTYPE=image/jpeg:https://wseo.digital/wp-content/uploads/2025/11/DJ-Slim-Sunday-Morning-Brunch.jpg
LOCATION:
END:VEVENT
BEGIN:VEVENT
DTSTART;TZID=Europe/London:20260524T100000
DTEND;TZID=Europe/London:20260524T120000
DTSTAMP:20260421T153632
CREATED:20251111T162428Z
LAST-MODIFIED:20251111T164533Z
UID:10006919-1779616800-1779624000@wseo.digital
SUMMARY:DJ Slim - The Sunday Jukebox
DESCRIPTION:
URL:https://wseo.digital/event/dj-slim-the-sunday-jukebox/2026-05-24/
ATTACH;FMTTYPE=image/jpeg:https://wseo.digital/wp-content/uploads/2025/11/DJ-Slim-Sunday-Morning-Brunch.jpg
LOCATION:
END:VEVENT
BEGIN:VEVENT
DTSTART;TZID=Europe/London:20260531T100000
DTEND;TZID=Europe/London:20260531T120000
DTSTAMP:20260421T153632
CREATED:20251111T162428Z
LAST-MODIFIED:20251111T164533Z
UID:10006920-1780221600-1780228800@wseo.digital
SUMMARY:DJ Slim - The Sunday Jukebox
DESCRIPTION:
URL:https://wseo.digital/event/dj-slim-the-sunday-jukebox/2026-05-31/
ATTACH;FMTTYPE=image/jpeg:https://wseo.digital/wp-content/uploads/2025/11/DJ-Slim-Sunday-Morning-Brunch.jpg
LOCATION:
END:VEVENT
BEGIN:VEVENT
DTSTART;TZID=Europe/London:20260607T100000
DTEND;TZID=Europe/London:20260607T120000
DTSTAMP:20260421T153632
CREATED:20251111T162428Z
LAST-MODIFIED:20251111T164533Z
UID:10006921-1780826400-1780833600@wseo.digital
SUMMARY:DJ Slim - The Sunday Jukebox
DESCRIPTION:
URL:https://wseo.digital/event/dj-slim-the-sunday-jukebox/2026-06-07/
ATTACH;FMTTYPE=image/jpeg:https://wseo.digital/wp-content/uploads/2025/11/DJ-Slim-Sunday-Morning-Brunch.jpg
LOCATION:
END:VEVENT
BEGIN:VEVENT
DTSTART;TZID=Europe/London:20260614T100000
DTEND;TZID=Europe/London:20260614T120000
DTSTAMP:20260421T153632
CREATED:20251111T162428Z
LAST-MODIFIED:20251111T164533Z
UID:10006922-1781431200-1781438400@wseo.digital
SUMMARY:DJ Slim - The Sunday Jukebox
DESCRIPTION:
URL:https://wseo.digital/event/dj-slim-the-sunday-jukebox/2026-06-14/
ATTACH;FMTTYPE=image/jpeg:https://wseo.digital/wp-content/uploads/2025/11/DJ-Slim-Sunday-Morning-Brunch.jpg
LOCATION:
END:VEVENT
BEGIN:VEVENT
DTSTART;TZID=Europe/London:20260621T100000
DTEND;TZID=Europe/London:20260621T120000
DTSTAMP:20260421T153632
CREATED:20251111T162428Z
LAST-MODIFIED:20251111T164533Z
UID:10006923-1782036000-1782043200@wseo.digital
SUMMARY:DJ Slim - The Sunday Jukebox
DESCRIPTION:
URL:https://wseo.digital/event/dj-slim-the-sunday-jukebox/2026-06-21/
ATTACH;FMTTYPE=image/jpeg:https://wseo.digital/wp-content/uploads/2025/11/DJ-Slim-Sunday-Morning-Brunch.jpg
LOCATION:
END:VEVENT
BEGIN:VEVENT
DTSTART;TZID=Europe/London:20260628T100000
DTEND;TZID=Europe/London:20260628T120000
DTSTAMP:20260421T153632
CREATED:20251111T162428Z
LAST-MODIFIED:20251111T164533Z
UID:10006924-1782640800-1782648000@wseo.digital
SUMMARY:DJ Slim - The Sunday Jukebox
DESCRIPTION:
URL:https://wseo.digital/event/dj-slim-the-sunday-jukebox/2026-06-28/
ATTACH;FMTTYPE=image/jpeg:https://wseo.digital/wp-content/uploads/2025/11/DJ-Slim-Sunday-Morning-Brunch.jpg
LOCATION:
END:VEVENT
BEGIN:VEVENT
DTSTART;TZID=Europe/London:20260705T100000
DTEND;TZID=Europe/London:20260705T120000
DTSTAMP:20260421T153632
CREATED:20251111T162428Z
LAST-MODIFIED:20251111T164533Z
UID:10006925-1783245600-1783252800@wseo.digital
SUMMARY:DJ Slim - The Sunday Jukebox
DESCRIPTION:
URL:https://wseo.digital/event/dj-slim-the-sunday-jukebox/2026-07-05/
ATTACH;FMTTYPE=image/jpeg:https://wseo.digital/wp-content/uploads/2025/11/DJ-Slim-Sunday-Morning-Brunch.jpg
LOCATION:
END:VEVENT
BEGIN:VEVENT
DTSTART;TZID=Europe/London:20260712T100000
DTEND;TZID=Europe/London:20260712T120000
DTSTAMP:20260421T153632
CREATED:20251111T162428Z
LAST-MODIFIED:20251111T164533Z
UID:10006926-1783850400-1783857600@wseo.digital
SUMMARY:DJ Slim - The Sunday Jukebox
DESCRIPTION:
URL:https://wseo.digital/event/dj-slim-the-sunday-jukebox/2026-07-12/
ATTACH;FMTTYPE=image/jpeg:https://wseo.digital/wp-content/uploads/2025/11/DJ-Slim-Sunday-Morning-Brunch.jpg
LOCATION:
END:VEVENT
BEGIN:VEVENT
DTSTART;TZID=Europe/London:20260719T100000
DTEND;TZID=Europe/London:20260719T120000
DTSTAMP:20260421T153632
CREATED:20251111T162428Z
LAST-MODIFIED:20251111T164533Z
UID:10006927-1784455200-1784462400@wseo.digital
SUMMARY:DJ Slim - The Sunday Jukebox
DESCRIPTION:
URL:https://wseo.digital/event/dj-slim-the-sunday-jukebox/2026-07-19/
ATTACH;FMTTYPE=image/jpeg:https://wseo.digital/wp-content/uploads/2025/11/DJ-Slim-Sunday-Morning-Brunch.jpg
LOCATION:
END:VEVENT
BEGIN:VEVENT
DTSTART;TZID=Europe/London:20260726T100000
DTEND;TZID=Europe/London:20260726T120000
DTSTAMP:20260421T153632
CREATED:20251111T162428Z
LAST-MODIFIED:20251111T164533Z
UID:10006928-1785060000-1785067200@wseo.digital
SUMMARY:DJ Slim - The Sunday Jukebox
DESCRIPTION:
URL:https://wseo.digital/event/dj-slim-the-sunday-jukebox/2026-07-26/
ATTACH;FMTTYPE=image/jpeg:https://wseo.digital/wp-content/uploads/2025/11/DJ-Slim-Sunday-Morning-Brunch.jpg
LOCATION:
END:VEVENT
BEGIN:VEVENT
DTSTART;TZID=Europe/London:20260802T100000
DTEND;TZID=Europe/London:20260802T120000
DTSTAMP:20260421T153632
CREATED:20251111T162428Z
LAST-MODIFIED:20251111T164533Z
UID:10006929-1785664800-1785672000@wseo.digital
SUMMARY:DJ Slim - The Sunday Jukebox
DESCRIPTION:
URL:https://wseo.digital/event/dj-slim-the-sunday-jukebox/2026-08-02/
ATTACH;FMTTYPE=image/jpeg:https://wseo.digital/wp-content/uploads/2025/11/DJ-Slim-Sunday-Morning-Brunch.jpg
LOCATION:
END:VEVENT
BEGIN:VEVENT
DTSTART;TZID=Europe/London:20260809T100000
DTEND;TZID=Europe/London:20260809T120000
DTSTAMP:20260421T153632
CREATED:20251111T162428Z
LAST-MODIFIED:20251111T164533Z
UID:10006930-1786269600-1786276800@wseo.digital
SUMMARY:DJ Slim - The Sunday Jukebox
DESCRIPTION:
URL:https://wseo.digital/event/dj-slim-the-sunday-jukebox/2026-08-09/
ATTACH;FMTTYPE=image/jpeg:https://wseo.digital/wp-content/uploads/2025/11/DJ-Slim-Sunday-Morning-Brunch.jpg
LOCATION:
END:VEVENT
BEGIN:VEVENT
DTSTART;TZID=Europe/London:20260816T100000
DTEND;TZID=Europe/London:20260816T120000
DTSTAMP:20260421T153632
CREATED:20251111T162428Z
LAST-MODIFIED:20251111T164533Z
UID:10006931-1786874400-1786881600@wseo.digital
SUMMARY:DJ Slim - The Sunday Jukebox
DESCRIPTION:
URL:https://wseo.digital/event/dj-slim-the-sunday-jukebox/2026-08-16/
ATTACH;FMTTYPE=image/jpeg:https://wseo.digital/wp-content/uploads/2025/11/DJ-Slim-Sunday-Morning-Brunch.jpg
LOCATION:
END:VEVENT
BEGIN:VEVENT
DTSTART;TZID=Europe/London:20260823T100000
DTEND;TZID=Europe/London:20260823T120000
DTSTAMP:20260421T153632
CREATED:20251111T162428Z
LAST-MODIFIED:20251111T164533Z
UID:10006932-1787479200-1787486400@wseo.digital
SUMMARY:DJ Slim - The Sunday Jukebox
DESCRIPTION:
URL:https://wseo.digital/event/dj-slim-the-sunday-jukebox/2026-08-23/
ATTACH;FMTTYPE=image/jpeg:https://wseo.digital/wp-content/uploads/2025/11/DJ-Slim-Sunday-Morning-Brunch.jpg
LOCATION:
END:VEVENT
BEGIN:VEVENT
DTSTART;TZID=Europe/London:20260830T100000
DTEND;TZID=Europe/London:20260830T120000
DTSTAMP:20260421T153632
CREATED:20251111T162428Z
LAST-MODIFIED:20251111T164533Z
UID:10006933-1788084000-1788091200@wseo.digital
SUMMARY:DJ Slim - The Sunday Jukebox
DESCRIPTION:
URL:https://wseo.digital/event/dj-slim-the-sunday-jukebox/2026-08-30/
ATTACH;FMTTYPE=image/jpeg:https://wseo.digital/wp-content/uploads/2025/11/DJ-Slim-Sunday-Morning-Brunch.jpg
LOCATION:
END:VEVENT
BEGIN:VEVENT
DTSTART;TZID=Europe/London:20260906T100000
DTEND;TZID=Europe/London:20260906T120000
DTSTAMP:20260421T153632
CREATED:20251111T162428Z
LAST-MODIFIED:20251111T164533Z
UID:10006934-1788688800-1788696000@wseo.digital
SUMMARY:DJ Slim - The Sunday Jukebox
DESCRIPTION:
URL:https://wseo.digital/event/dj-slim-the-sunday-jukebox/2026-09-06/
ATTACH;FMTTYPE=image/jpeg:https://wseo.digital/wp-content/uploads/2025/11/DJ-Slim-Sunday-Morning-Brunch.jpg
LOCATION:
END:VEVENT
BEGIN:VEVENT
DTSTART;TZID=Europe/London:20260913T100000
DTEND;TZID=Europe/London:20260913T120000
DTSTAMP:20260421T153632
CREATED:20251111T162428Z
LAST-MODIFIED:20251111T164533Z
UID:10006935-1789293600-1789300800@wseo.digital
SUMMARY:DJ Slim - The Sunday Jukebox
DESCRIPTION:
URL:https://wseo.digital/event/dj-slim-the-sunday-jukebox/2026-09-13/
ATTACH;FMTTYPE=image/jpeg:https://wseo.digital/wp-content/uploads/2025/11/DJ-Slim-Sunday-Morning-Brunch.jpg
LOCATION:
END:VEVENT
BEGIN:VEVENT
DTSTART;TZID=Europe/London:20260920T100000
DTEND;TZID=Europe/London:20260920T120000
DTSTAMP:20260421T153632
CREATED:20251111T162428Z
LAST-MODIFIED:20251111T164533Z
UID:10006936-1789898400-1789905600@wseo.digital
SUMMARY:DJ Slim - The Sunday Jukebox
DESCRIPTION:
URL:https://wseo.digital/event/dj-slim-the-sunday-jukebox/2026-09-20/
ATTACH;FMTTYPE=image/jpeg:https://wseo.digital/wp-content/uploads/2025/11/DJ-Slim-Sunday-Morning-Brunch.jpg
LOCATION:
END:VEVENT
BEGIN:VEVENT
DTSTART;TZID=Europe/London:20260927T100000
DTEND;TZID=Europe/London:20260927T120000
DTSTAMP:20260421T153632
CREATED:20251111T162428Z
LAST-MODIFIED:20251111T164533Z
UID:10006937-1790503200-1790510400@wseo.digital
SUMMARY:DJ Slim - The Sunday Jukebox
DESCRIPTION:
URL:https://wseo.digital/event/dj-slim-the-sunday-jukebox/2026-09-27/
ATTACH;FMTTYPE=image/jpeg:https://wseo.digital/wp-content/uploads/2025/11/DJ-Slim-Sunday-Morning-Brunch.jpg
LOCATION:
END:VEVENT
BEGIN:VEVENT
DTSTART;TZID=Europe/London:20261004T100000
DTEND;TZID=Europe/London:20261004T120000
DTSTAMP:20260421T153632
CREATED:20251111T162428Z
LAST-MODIFIED:20251111T164533Z
UID:10006938-1791108000-1791115200@wseo.digital
SUMMARY:DJ Slim - The Sunday Jukebox
DESCRIPTION:
URL:https://wseo.digital/event/dj-slim-the-sunday-jukebox/2026-10-04/
ATTACH;FMTTYPE=image/jpeg:https://wseo.digital/wp-content/uploads/2025/11/DJ-Slim-Sunday-Morning-Brunch.jpg
LOCATION:
END:VEVENT
BEGIN:VEVENT
DTSTART;TZID=Europe/London:20261011T100000
DTEND;TZID=Europe/London:20261011T120000
DTSTAMP:20260421T153632
CREATED:20251111T162428Z
LAST-MODIFIED:20251111T164533Z
UID:10006939-1791712800-1791720000@wseo.digital
SUMMARY:DJ Slim - The Sunday Jukebox
DESCRIPTION:
URL:https://wseo.digital/event/dj-slim-the-sunday-jukebox/2026-10-11/
ATTACH;FMTTYPE=image/jpeg:https://wseo.digital/wp-content/uploads/2025/11/DJ-Slim-Sunday-Morning-Brunch.jpg
LOCATION:
END:VEVENT
BEGIN:VEVENT
DTSTART;TZID=Europe/London:20261018T100000
DTEND;TZID=Europe/London:20261018T120000
DTSTAMP:20260421T153632
CREATED:20251111T162428Z
LAST-MODIFIED:20251111T164533Z
UID:10006940-1792317600-1792324800@wseo.digital
SUMMARY:DJ Slim - The Sunday Jukebox
DESCRIPTION:
URL:https://wseo.digital/event/dj-slim-the-sunday-jukebox/2026-10-18/
ATTACH;FMTTYPE=image/jpeg:https://wseo.digital/wp-content/uploads/2025/11/DJ-Slim-Sunday-Morning-Brunch.jpg
LOCATION:
END:VEVENT
BEGIN:VEVENT
DTSTART;TZID=Europe/London:20261025T100000
DTEND;TZID=Europe/London:20261025T120000
DTSTAMP:20260421T153632
CREATED:20251111T162428Z
LAST-MODIFIED:20251111T164533Z
UID:10006941-1792922400-1792929600@wseo.digital
SUMMARY:DJ Slim - The Sunday Jukebox
DESCRIPTION:
URL:https://wseo.digital/event/dj-slim-the-sunday-jukebox/2026-10-25/
ATTACH;FMTTYPE=image/jpeg:https://wseo.digital/wp-content/uploads/2025/11/DJ-Slim-Sunday-Morning-Brunch.jpg
LOCATION:
END:VEVENT
BEGIN:VEVENT
DTSTART;TZID=Europe/London:20261101T100000
DTEND;TZID=Europe/London:20261101T120000
DTSTAMP:20260421T153632
CREATED:20251111T162428Z
LAST-MODIFIED:20251111T164533Z
UID:10006942-1793527200-1793534400@wseo.digital
SUMMARY:DJ Slim - The Sunday Jukebox
DESCRIPTION:
URL:https://wseo.digital/event/dj-slim-the-sunday-jukebox/2026-11-01/
ATTACH;FMTTYPE=image/jpeg:https://wseo.digital/wp-content/uploads/2025/11/DJ-Slim-Sunday-Morning-Brunch.jpg
LOCATION:
END:VEVENT
BEGIN:VEVENT
DTSTART;TZID=Europe/London:20261108T100000
DTEND;TZID=Europe/London:20261108T120000
DTSTAMP:20260421T153632
CREATED:20251111T162428Z
LAST-MODIFIED:20251111T164533Z
UID:10006943-1794132000-1794139200@wseo.digital
SUMMARY:DJ Slim - The Sunday Jukebox
DESCRIPTION:
URL:https://wseo.digital/event/dj-slim-the-sunday-jukebox/2026-11-08/
ATTACH;FMTTYPE=image/jpeg:https://wseo.digital/wp-content/uploads/2025/11/DJ-Slim-Sunday-Morning-Brunch.jpg
LOCATION:
END:VEVENT
BEGIN:VEVENT
DTSTART;TZID=Europe/London:20261115T100000
DTEND;TZID=Europe/London:20261115T120000
DTSTAMP:20260421T153632
CREATED:20251111T162428Z
LAST-MODIFIED:20251111T164533Z
UID:10006944-1794736800-1794744000@wseo.digital
SUMMARY:DJ Slim - The Sunday Jukebox
DESCRIPTION:
URL:https://wseo.digital/event/dj-slim-the-sunday-jukebox/2026-11-15/
ATTACH;FMTTYPE=image/jpeg:https://wseo.digital/wp-content/uploads/2025/11/DJ-Slim-Sunday-Morning-Brunch.jpg
LOCATION:
END:VEVENT
END:VCALENDAR