BEGIN:VCALENDAR
VERSION:2.0
PRODID:-//wseodigital - ECPv6.15.13//NONSGML v1.0//EN
CALSCALE:GREGORIAN
METHOD:PUBLISH
X-WR-CALNAME:wseodigital
X-ORIGINAL-URL:https://wseo.digital
X-WR-CALDESC:Events for wseodigital
REFRESH-INTERVAL;VALUE=DURATION:PT1H
X-Robots-Tag:noindex
X-PUBLISHED-TTL:PT1H
BEGIN:VTIMEZONE
TZID:Europe/London
BEGIN:DAYLIGHT
TZOFFSETFROM:+0000
TZOFFSETTO:+0100
TZNAME:BST
DTSTART:20250330T010000
END:DAYLIGHT
BEGIN:STANDARD
TZOFFSETFROM:+0100
TZOFFSETTO:+0000
TZNAME:GMT
DTSTART:20251026T010000
END:STANDARD
BEGIN:DAYLIGHT
TZOFFSETFROM:+0000
TZOFFSETTO:+0100
TZNAME:BST
DTSTART:20260329T010000
END:DAYLIGHT
BEGIN:STANDARD
TZOFFSETFROM:+0100
TZOFFSETTO:+0000
TZNAME:GMT
DTSTART:20261025T010000
END:STANDARD
BEGIN:DAYLIGHT
TZOFFSETFROM:+0000
TZOFFSETTO:+0100
TZNAME:BST
DTSTART:20270328T010000
END:DAYLIGHT
BEGIN:STANDARD
TZOFFSETFROM:+0100
TZOFFSETTO:+0000
TZNAME:GMT
DTSTART:20271031T010000
END:STANDARD
END:VTIMEZONE
BEGIN:VEVENT
DTSTART;TZID=Europe/London:20260424T200000
DTEND;TZID=Europe/London:20260424T220000
DTSTAMP:20260421T224518
CREATED:20251112T141718Z
LAST-MODIFIED:20251112T150611Z
UID:10009767-1777060800-1777068000@wseo.digital
SUMMARY:Adam McGowan
DESCRIPTION:
URL:https://wseo.digital/event/adam-mcgowan/2026-04-24/
ATTACH;FMTTYPE=image/jpeg:https://wseo.digital/wp-content/uploads/2025/11/Mr-Adz.jpg
LOCATION:
END:VEVENT
BEGIN:VEVENT
DTSTART;TZID=Europe/London:20260501T200000
DTEND;TZID=Europe/London:20260501T220000
DTSTAMP:20260421T224518
CREATED:20251112T141718Z
LAST-MODIFIED:20251112T150611Z
UID:10009768-1777665600-1777672800@wseo.digital
SUMMARY:Adam McGowan
DESCRIPTION:
URL:https://wseo.digital/event/adam-mcgowan/2026-05-01/
ATTACH;FMTTYPE=image/jpeg:https://wseo.digital/wp-content/uploads/2025/11/Mr-Adz.jpg
LOCATION:
END:VEVENT
BEGIN:VEVENT
DTSTART;TZID=Europe/London:20260508T200000
DTEND;TZID=Europe/London:20260508T220000
DTSTAMP:20260421T224518
CREATED:20251112T141718Z
LAST-MODIFIED:20251112T150611Z
UID:10009769-1778270400-1778277600@wseo.digital
SUMMARY:Adam McGowan
DESCRIPTION:
URL:https://wseo.digital/event/adam-mcgowan/2026-05-08/
ATTACH;FMTTYPE=image/jpeg:https://wseo.digital/wp-content/uploads/2025/11/Mr-Adz.jpg
LOCATION:
END:VEVENT
BEGIN:VEVENT
DTSTART;TZID=Europe/London:20260515T200000
DTEND;TZID=Europe/London:20260515T220000
DTSTAMP:20260421T224518
CREATED:20251112T141718Z
LAST-MODIFIED:20251112T150611Z
UID:10009770-1778875200-1778882400@wseo.digital
SUMMARY:Adam McGowan
DESCRIPTION:
URL:https://wseo.digital/event/adam-mcgowan/2026-05-15/
ATTACH;FMTTYPE=image/jpeg:https://wseo.digital/wp-content/uploads/2025/11/Mr-Adz.jpg
LOCATION:
END:VEVENT
BEGIN:VEVENT
DTSTART;TZID=Europe/London:20260522T200000
DTEND;TZID=Europe/London:20260522T220000
DTSTAMP:20260421T224518
CREATED:20251112T141718Z
LAST-MODIFIED:20251112T150611Z
UID:10009771-1779480000-1779487200@wseo.digital
SUMMARY:Adam McGowan
DESCRIPTION:
URL:https://wseo.digital/event/adam-mcgowan/2026-05-22/
ATTACH;FMTTYPE=image/jpeg:https://wseo.digital/wp-content/uploads/2025/11/Mr-Adz.jpg
LOCATION:
END:VEVENT
BEGIN:VEVENT
DTSTART;TZID=Europe/London:20260529T200000
DTEND;TZID=Europe/London:20260529T220000
DTSTAMP:20260421T224518
CREATED:20251112T141718Z
LAST-MODIFIED:20251112T150611Z
UID:10009772-1780084800-1780092000@wseo.digital
SUMMARY:Adam McGowan
DESCRIPTION:
URL:https://wseo.digital/event/adam-mcgowan/2026-05-29/
ATTACH;FMTTYPE=image/jpeg:https://wseo.digital/wp-content/uploads/2025/11/Mr-Adz.jpg
LOCATION:
END:VEVENT
BEGIN:VEVENT
DTSTART;TZID=Europe/London:20260605T200000
DTEND;TZID=Europe/London:20260605T220000
DTSTAMP:20260421T224518
CREATED:20251112T141718Z
LAST-MODIFIED:20251112T150611Z
UID:10009773-1780689600-1780696800@wseo.digital
SUMMARY:Adam McGowan
DESCRIPTION:
URL:https://wseo.digital/event/adam-mcgowan/2026-06-05/
ATTACH;FMTTYPE=image/jpeg:https://wseo.digital/wp-content/uploads/2025/11/Mr-Adz.jpg
LOCATION:
END:VEVENT
BEGIN:VEVENT
DTSTART;TZID=Europe/London:20260612T200000
DTEND;TZID=Europe/London:20260612T220000
DTSTAMP:20260421T224518
CREATED:20251112T141718Z
LAST-MODIFIED:20251112T150611Z
UID:10009774-1781294400-1781301600@wseo.digital
SUMMARY:Adam McGowan
DESCRIPTION:
URL:https://wseo.digital/event/adam-mcgowan/2026-06-12/
ATTACH;FMTTYPE=image/jpeg:https://wseo.digital/wp-content/uploads/2025/11/Mr-Adz.jpg
LOCATION:
END:VEVENT
BEGIN:VEVENT
DTSTART;TZID=Europe/London:20260619T200000
DTEND;TZID=Europe/London:20260619T220000
DTSTAMP:20260421T224518
CREATED:20251112T141718Z
LAST-MODIFIED:20251112T150611Z
UID:10009775-1781899200-1781906400@wseo.digital
SUMMARY:Adam McGowan
DESCRIPTION:
URL:https://wseo.digital/event/adam-mcgowan/2026-06-19/
ATTACH;FMTTYPE=image/jpeg:https://wseo.digital/wp-content/uploads/2025/11/Mr-Adz.jpg
LOCATION:
END:VEVENT
BEGIN:VEVENT
DTSTART;TZID=Europe/London:20260626T200000
DTEND;TZID=Europe/London:20260626T220000
DTSTAMP:20260421T224518
CREATED:20251112T141718Z
LAST-MODIFIED:20251112T150611Z
UID:10009776-1782504000-1782511200@wseo.digital
SUMMARY:Adam McGowan
DESCRIPTION:
URL:https://wseo.digital/event/adam-mcgowan/2026-06-26/
ATTACH;FMTTYPE=image/jpeg:https://wseo.digital/wp-content/uploads/2025/11/Mr-Adz.jpg
LOCATION:
END:VEVENT
BEGIN:VEVENT
DTSTART;TZID=Europe/London:20260703T200000
DTEND;TZID=Europe/London:20260703T220000
DTSTAMP:20260421T224518
CREATED:20251112T141718Z
LAST-MODIFIED:20251112T150611Z
UID:10009777-1783108800-1783116000@wseo.digital
SUMMARY:Adam McGowan
DESCRIPTION:
URL:https://wseo.digital/event/adam-mcgowan/2026-07-03/
ATTACH;FMTTYPE=image/jpeg:https://wseo.digital/wp-content/uploads/2025/11/Mr-Adz.jpg
LOCATION:
END:VEVENT
BEGIN:VEVENT
DTSTART;TZID=Europe/London:20260710T200000
DTEND;TZID=Europe/London:20260710T220000
DTSTAMP:20260421T224518
CREATED:20251112T141718Z
LAST-MODIFIED:20251112T150611Z
UID:10009778-1783713600-1783720800@wseo.digital
SUMMARY:Adam McGowan
DESCRIPTION:
URL:https://wseo.digital/event/adam-mcgowan/2026-07-10/
ATTACH;FMTTYPE=image/jpeg:https://wseo.digital/wp-content/uploads/2025/11/Mr-Adz.jpg
LOCATION:
END:VEVENT
BEGIN:VEVENT
DTSTART;TZID=Europe/London:20260717T200000
DTEND;TZID=Europe/London:20260717T220000
DTSTAMP:20260421T224518
CREATED:20251112T141718Z
LAST-MODIFIED:20251112T150611Z
UID:10009779-1784318400-1784325600@wseo.digital
SUMMARY:Adam McGowan
DESCRIPTION:
URL:https://wseo.digital/event/adam-mcgowan/2026-07-17/
ATTACH;FMTTYPE=image/jpeg:https://wseo.digital/wp-content/uploads/2025/11/Mr-Adz.jpg
LOCATION:
END:VEVENT
BEGIN:VEVENT
DTSTART;TZID=Europe/London:20260724T200000
DTEND;TZID=Europe/London:20260724T220000
DTSTAMP:20260421T224518
CREATED:20251112T141718Z
LAST-MODIFIED:20251112T150611Z
UID:10009780-1784923200-1784930400@wseo.digital
SUMMARY:Adam McGowan
DESCRIPTION:
URL:https://wseo.digital/event/adam-mcgowan/2026-07-24/
ATTACH;FMTTYPE=image/jpeg:https://wseo.digital/wp-content/uploads/2025/11/Mr-Adz.jpg
LOCATION:
END:VEVENT
BEGIN:VEVENT
DTSTART;TZID=Europe/London:20260731T200000
DTEND;TZID=Europe/London:20260731T220000
DTSTAMP:20260421T224518
CREATED:20251112T141718Z
LAST-MODIFIED:20251112T150611Z
UID:10009781-1785528000-1785535200@wseo.digital
SUMMARY:Adam McGowan
DESCRIPTION:
URL:https://wseo.digital/event/adam-mcgowan/2026-07-31/
ATTACH;FMTTYPE=image/jpeg:https://wseo.digital/wp-content/uploads/2025/11/Mr-Adz.jpg
LOCATION:
END:VEVENT
BEGIN:VEVENT
DTSTART;TZID=Europe/London:20260807T200000
DTEND;TZID=Europe/London:20260807T220000
DTSTAMP:20260421T224518
CREATED:20251112T141718Z
LAST-MODIFIED:20251112T150611Z
UID:10009782-1786132800-1786140000@wseo.digital
SUMMARY:Adam McGowan
DESCRIPTION:
URL:https://wseo.digital/event/adam-mcgowan/2026-08-07/
ATTACH;FMTTYPE=image/jpeg:https://wseo.digital/wp-content/uploads/2025/11/Mr-Adz.jpg
LOCATION:
END:VEVENT
BEGIN:VEVENT
DTSTART;TZID=Europe/London:20260814T200000
DTEND;TZID=Europe/London:20260814T220000
DTSTAMP:20260421T224518
CREATED:20251112T141718Z
LAST-MODIFIED:20251112T150611Z
UID:10009783-1786737600-1786744800@wseo.digital
SUMMARY:Adam McGowan
DESCRIPTION:
URL:https://wseo.digital/event/adam-mcgowan/2026-08-14/
ATTACH;FMTTYPE=image/jpeg:https://wseo.digital/wp-content/uploads/2025/11/Mr-Adz.jpg
LOCATION:
END:VEVENT
BEGIN:VEVENT
DTSTART;TZID=Europe/London:20260821T200000
DTEND;TZID=Europe/London:20260821T220000
DTSTAMP:20260421T224518
CREATED:20251112T141718Z
LAST-MODIFIED:20251112T150611Z
UID:10009784-1787342400-1787349600@wseo.digital
SUMMARY:Adam McGowan
DESCRIPTION:
URL:https://wseo.digital/event/adam-mcgowan/2026-08-21/
ATTACH;FMTTYPE=image/jpeg:https://wseo.digital/wp-content/uploads/2025/11/Mr-Adz.jpg
LOCATION:
END:VEVENT
BEGIN:VEVENT
DTSTART;TZID=Europe/London:20260828T200000
DTEND;TZID=Europe/London:20260828T220000
DTSTAMP:20260421T224518
CREATED:20251112T141718Z
LAST-MODIFIED:20251112T150611Z
UID:10009785-1787947200-1787954400@wseo.digital
SUMMARY:Adam McGowan
DESCRIPTION:
URL:https://wseo.digital/event/adam-mcgowan/2026-08-28/
ATTACH;FMTTYPE=image/jpeg:https://wseo.digital/wp-content/uploads/2025/11/Mr-Adz.jpg
LOCATION:
END:VEVENT
BEGIN:VEVENT
DTSTART;TZID=Europe/London:20260904T200000
DTEND;TZID=Europe/London:20260904T220000
DTSTAMP:20260421T224518
CREATED:20251112T141718Z
LAST-MODIFIED:20251112T150611Z
UID:10009786-1788552000-1788559200@wseo.digital
SUMMARY:Adam McGowan
DESCRIPTION:
URL:https://wseo.digital/event/adam-mcgowan/2026-09-04/
ATTACH;FMTTYPE=image/jpeg:https://wseo.digital/wp-content/uploads/2025/11/Mr-Adz.jpg
LOCATION:
END:VEVENT
BEGIN:VEVENT
DTSTART;TZID=Europe/London:20260911T200000
DTEND;TZID=Europe/London:20260911T220000
DTSTAMP:20260421T224518
CREATED:20251112T141718Z
LAST-MODIFIED:20251112T150611Z
UID:10009787-1789156800-1789164000@wseo.digital
SUMMARY:Adam McGowan
DESCRIPTION:
URL:https://wseo.digital/event/adam-mcgowan/2026-09-11/
ATTACH;FMTTYPE=image/jpeg:https://wseo.digital/wp-content/uploads/2025/11/Mr-Adz.jpg
LOCATION:
END:VEVENT
BEGIN:VEVENT
DTSTART;TZID=Europe/London:20260918T200000
DTEND;TZID=Europe/London:20260918T220000
DTSTAMP:20260421T224518
CREATED:20251112T141718Z
LAST-MODIFIED:20251112T150611Z
UID:10009788-1789761600-1789768800@wseo.digital
SUMMARY:Adam McGowan
DESCRIPTION:
URL:https://wseo.digital/event/adam-mcgowan/2026-09-18/
ATTACH;FMTTYPE=image/jpeg:https://wseo.digital/wp-content/uploads/2025/11/Mr-Adz.jpg
LOCATION:
END:VEVENT
BEGIN:VEVENT
DTSTART;TZID=Europe/London:20260925T200000
DTEND;TZID=Europe/London:20260925T220000
DTSTAMP:20260421T224518
CREATED:20251112T141718Z
LAST-MODIFIED:20251112T150611Z
UID:10009789-1790366400-1790373600@wseo.digital
SUMMARY:Adam McGowan
DESCRIPTION:
URL:https://wseo.digital/event/adam-mcgowan/2026-09-25/
ATTACH;FMTTYPE=image/jpeg:https://wseo.digital/wp-content/uploads/2025/11/Mr-Adz.jpg
LOCATION:
END:VEVENT
BEGIN:VEVENT
DTSTART;TZID=Europe/London:20261002T200000
DTEND;TZID=Europe/London:20261002T220000
DTSTAMP:20260421T224518
CREATED:20251112T141718Z
LAST-MODIFIED:20251112T150611Z
UID:10009790-1790971200-1790978400@wseo.digital
SUMMARY:Adam McGowan
DESCRIPTION:
URL:https://wseo.digital/event/adam-mcgowan/2026-10-02/
ATTACH;FMTTYPE=image/jpeg:https://wseo.digital/wp-content/uploads/2025/11/Mr-Adz.jpg
LOCATION:
END:VEVENT
BEGIN:VEVENT
DTSTART;TZID=Europe/London:20261009T200000
DTEND;TZID=Europe/London:20261009T220000
DTSTAMP:20260421T224518
CREATED:20251112T141718Z
LAST-MODIFIED:20251112T150611Z
UID:10009791-1791576000-1791583200@wseo.digital
SUMMARY:Adam McGowan
DESCRIPTION:
URL:https://wseo.digital/event/adam-mcgowan/2026-10-09/
ATTACH;FMTTYPE=image/jpeg:https://wseo.digital/wp-content/uploads/2025/11/Mr-Adz.jpg
LOCATION:
END:VEVENT
BEGIN:VEVENT
DTSTART;TZID=Europe/London:20261016T200000
DTEND;TZID=Europe/London:20261016T220000
DTSTAMP:20260421T224518
CREATED:20251112T141718Z
LAST-MODIFIED:20251112T150611Z
UID:10009792-1792180800-1792188000@wseo.digital
SUMMARY:Adam McGowan
DESCRIPTION:
URL:https://wseo.digital/event/adam-mcgowan/2026-10-16/
ATTACH;FMTTYPE=image/jpeg:https://wseo.digital/wp-content/uploads/2025/11/Mr-Adz.jpg
LOCATION:
END:VEVENT
BEGIN:VEVENT
DTSTART;TZID=Europe/London:20261023T200000
DTEND;TZID=Europe/London:20261023T220000
DTSTAMP:20260421T224518
CREATED:20251112T141718Z
LAST-MODIFIED:20251112T150611Z
UID:10009793-1792785600-1792792800@wseo.digital
SUMMARY:Adam McGowan
DESCRIPTION:
URL:https://wseo.digital/event/adam-mcgowan/2026-10-23/
ATTACH;FMTTYPE=image/jpeg:https://wseo.digital/wp-content/uploads/2025/11/Mr-Adz.jpg
LOCATION:
END:VEVENT
BEGIN:VEVENT
DTSTART;TZID=Europe/London:20261030T200000
DTEND;TZID=Europe/London:20261030T220000
DTSTAMP:20260421T224518
CREATED:20251112T141718Z
LAST-MODIFIED:20251112T150611Z
UID:10009794-1793390400-1793397600@wseo.digital
SUMMARY:Adam McGowan
DESCRIPTION:
URL:https://wseo.digital/event/adam-mcgowan/2026-10-30/
ATTACH;FMTTYPE=image/jpeg:https://wseo.digital/wp-content/uploads/2025/11/Mr-Adz.jpg
LOCATION:
END:VEVENT
BEGIN:VEVENT
DTSTART;TZID=Europe/London:20261106T200000
DTEND;TZID=Europe/London:20261106T220000
DTSTAMP:20260421T224518
CREATED:20251112T141718Z
LAST-MODIFIED:20251112T150611Z
UID:10009795-1793995200-1794002400@wseo.digital
SUMMARY:Adam McGowan
DESCRIPTION:
URL:https://wseo.digital/event/adam-mcgowan/2026-11-06/
ATTACH;FMTTYPE=image/jpeg:https://wseo.digital/wp-content/uploads/2025/11/Mr-Adz.jpg
LOCATION:
END:VEVENT
BEGIN:VEVENT
DTSTART;TZID=Europe/London:20261113T200000
DTEND;TZID=Europe/London:20261113T220000
DTSTAMP:20260421T224518
CREATED:20251112T141718Z
LAST-MODIFIED:20251112T150611Z
UID:10009796-1794600000-1794607200@wseo.digital
SUMMARY:Adam McGowan
DESCRIPTION:
URL:https://wseo.digital/event/adam-mcgowan/2026-11-13/
ATTACH;FMTTYPE=image/jpeg:https://wseo.digital/wp-content/uploads/2025/11/Mr-Adz.jpg
LOCATION:
END:VEVENT
END:VCALENDAR