BEGIN:VCALENDAR
VERSION:2.0
PRODID:-//wseodigital - ECPv6.15.13//NONSGML v1.0//EN
CALSCALE:GREGORIAN
METHOD:PUBLISH
X-WR-CALNAME:wseodigital
X-ORIGINAL-URL:https://wseo.digital
X-WR-CALDESC:Events for wseodigital
REFRESH-INTERVAL;VALUE=DURATION:PT1H
X-Robots-Tag:noindex
X-PUBLISHED-TTL:PT1H
BEGIN:VTIMEZONE
TZID:Europe/London
BEGIN:DAYLIGHT
TZOFFSETFROM:+0000
TZOFFSETTO:+0100
TZNAME:BST
DTSTART:20250330T010000
END:DAYLIGHT
BEGIN:STANDARD
TZOFFSETFROM:+0100
TZOFFSETTO:+0000
TZNAME:GMT
DTSTART:20251026T010000
END:STANDARD
BEGIN:DAYLIGHT
TZOFFSETFROM:+0000
TZOFFSETTO:+0100
TZNAME:BST
DTSTART:20260329T010000
END:DAYLIGHT
BEGIN:STANDARD
TZOFFSETFROM:+0100
TZOFFSETTO:+0000
TZNAME:GMT
DTSTART:20261025T010000
END:STANDARD
BEGIN:DAYLIGHT
TZOFFSETFROM:+0000
TZOFFSETTO:+0100
TZNAME:BST
DTSTART:20270328T010000
END:DAYLIGHT
BEGIN:STANDARD
TZOFFSETFROM:+0100
TZOFFSETTO:+0000
TZNAME:GMT
DTSTART:20271031T010000
END:STANDARD
END:VTIMEZONE
BEGIN:VEVENT
DTSTART;TZID=Europe/London:20260424T160000
DTEND;TZID=Europe/London:20260424T180000
DTSTAMP:20260421T193741
CREATED:20251112T141954Z
LAST-MODIFIED:20251112T150434Z
UID:10010028-1777046400-1777053600@wseo.digital
SUMMARY:Ross P
DESCRIPTION:
URL:https://wseo.digital/event/ross-p/2026-04-24/
ATTACH;FMTTYPE=image/webp:https://wseo.digital/wp-content/uploads/2025/11/slim-radio-show-1.webp
LOCATION:
END:VEVENT
BEGIN:VEVENT
DTSTART;TZID=Europe/London:20260426T160000
DTEND;TZID=Europe/London:20260426T180000
DTSTAMP:20260421T193741
CREATED:20251111T160816Z
LAST-MODIFIED:20251112T150014Z
UID:10005871-1777219200-1777226400@wseo.digital
SUMMARY:Ross P
DESCRIPTION:
URL:https://wseo.digital/event/ross-p-2/2026-04-26/
ATTACH;FMTTYPE=image/webp:https://wseo.digital/wp-content/uploads/2025/11/slim-radio-show-1.webp
LOCATION:
END:VEVENT
BEGIN:VEVENT
DTSTART;TZID=Europe/London:20260501T160000
DTEND;TZID=Europe/London:20260501T180000
DTSTAMP:20260421T193741
CREATED:20251112T141954Z
LAST-MODIFIED:20251112T150434Z
UID:10010029-1777651200-1777658400@wseo.digital
SUMMARY:Ross P
DESCRIPTION:
URL:https://wseo.digital/event/ross-p/2026-05-01/
ATTACH;FMTTYPE=image/webp:https://wseo.digital/wp-content/uploads/2025/11/slim-radio-show-1.webp
LOCATION:
END:VEVENT
BEGIN:VEVENT
DTSTART;TZID=Europe/London:20260503T160000
DTEND;TZID=Europe/London:20260503T180000
DTSTAMP:20260421T193741
CREATED:20251111T160816Z
LAST-MODIFIED:20251112T150014Z
UID:10005872-1777824000-1777831200@wseo.digital
SUMMARY:Ross P
DESCRIPTION:
URL:https://wseo.digital/event/ross-p-2/2026-05-03/
ATTACH;FMTTYPE=image/webp:https://wseo.digital/wp-content/uploads/2025/11/slim-radio-show-1.webp
LOCATION:
END:VEVENT
BEGIN:VEVENT
DTSTART;TZID=Europe/London:20260508T160000
DTEND;TZID=Europe/London:20260508T180000
DTSTAMP:20260421T193741
CREATED:20251112T141954Z
LAST-MODIFIED:20251112T150434Z
UID:10010030-1778256000-1778263200@wseo.digital
SUMMARY:Ross P
DESCRIPTION:
URL:https://wseo.digital/event/ross-p/2026-05-08/
ATTACH;FMTTYPE=image/webp:https://wseo.digital/wp-content/uploads/2025/11/slim-radio-show-1.webp
LOCATION:
END:VEVENT
BEGIN:VEVENT
DTSTART;TZID=Europe/London:20260510T160000
DTEND;TZID=Europe/London:20260510T180000
DTSTAMP:20260421T193741
CREATED:20251111T160816Z
LAST-MODIFIED:20251112T150014Z
UID:10005873-1778428800-1778436000@wseo.digital
SUMMARY:Ross P
DESCRIPTION:
URL:https://wseo.digital/event/ross-p-2/2026-05-10/
ATTACH;FMTTYPE=image/webp:https://wseo.digital/wp-content/uploads/2025/11/slim-radio-show-1.webp
LOCATION:
END:VEVENT
BEGIN:VEVENT
DTSTART;TZID=Europe/London:20260515T160000
DTEND;TZID=Europe/London:20260515T180000
DTSTAMP:20260421T193741
CREATED:20251112T141954Z
LAST-MODIFIED:20251112T150434Z
UID:10010031-1778860800-1778868000@wseo.digital
SUMMARY:Ross P
DESCRIPTION:
URL:https://wseo.digital/event/ross-p/2026-05-15/
ATTACH;FMTTYPE=image/webp:https://wseo.digital/wp-content/uploads/2025/11/slim-radio-show-1.webp
LOCATION:
END:VEVENT
BEGIN:VEVENT
DTSTART;TZID=Europe/London:20260517T160000
DTEND;TZID=Europe/London:20260517T180000
DTSTAMP:20260421T193741
CREATED:20251111T160816Z
LAST-MODIFIED:20251112T150014Z
UID:10005874-1779033600-1779040800@wseo.digital
SUMMARY:Ross P
DESCRIPTION:
URL:https://wseo.digital/event/ross-p-2/2026-05-17/
ATTACH;FMTTYPE=image/webp:https://wseo.digital/wp-content/uploads/2025/11/slim-radio-show-1.webp
LOCATION:
END:VEVENT
BEGIN:VEVENT
DTSTART;TZID=Europe/London:20260522T160000
DTEND;TZID=Europe/London:20260522T180000
DTSTAMP:20260421T193741
CREATED:20251112T141954Z
LAST-MODIFIED:20251112T150434Z
UID:10010032-1779465600-1779472800@wseo.digital
SUMMARY:Ross P
DESCRIPTION:
URL:https://wseo.digital/event/ross-p/2026-05-22/
ATTACH;FMTTYPE=image/webp:https://wseo.digital/wp-content/uploads/2025/11/slim-radio-show-1.webp
LOCATION:
END:VEVENT
BEGIN:VEVENT
DTSTART;TZID=Europe/London:20260524T160000
DTEND;TZID=Europe/London:20260524T180000
DTSTAMP:20260421T193741
CREATED:20251111T160816Z
LAST-MODIFIED:20251112T150014Z
UID:10005875-1779638400-1779645600@wseo.digital
SUMMARY:Ross P
DESCRIPTION:
URL:https://wseo.digital/event/ross-p-2/2026-05-24/
ATTACH;FMTTYPE=image/webp:https://wseo.digital/wp-content/uploads/2025/11/slim-radio-show-1.webp
LOCATION:
END:VEVENT
BEGIN:VEVENT
DTSTART;TZID=Europe/London:20260529T160000
DTEND;TZID=Europe/London:20260529T180000
DTSTAMP:20260421T193741
CREATED:20251112T141954Z
LAST-MODIFIED:20251112T150434Z
UID:10010033-1780070400-1780077600@wseo.digital
SUMMARY:Ross P
DESCRIPTION:
URL:https://wseo.digital/event/ross-p/2026-05-29/
ATTACH;FMTTYPE=image/webp:https://wseo.digital/wp-content/uploads/2025/11/slim-radio-show-1.webp
LOCATION:
END:VEVENT
BEGIN:VEVENT
DTSTART;TZID=Europe/London:20260531T160000
DTEND;TZID=Europe/London:20260531T180000
DTSTAMP:20260421T193741
CREATED:20251111T160816Z
LAST-MODIFIED:20251112T150014Z
UID:10005876-1780243200-1780250400@wseo.digital
SUMMARY:Ross P
DESCRIPTION:
URL:https://wseo.digital/event/ross-p-2/2026-05-31/
ATTACH;FMTTYPE=image/webp:https://wseo.digital/wp-content/uploads/2025/11/slim-radio-show-1.webp
LOCATION:
END:VEVENT
BEGIN:VEVENT
DTSTART;TZID=Europe/London:20260605T160000
DTEND;TZID=Europe/London:20260605T180000
DTSTAMP:20260421T193741
CREATED:20251112T141954Z
LAST-MODIFIED:20251112T150434Z
UID:10010034-1780675200-1780682400@wseo.digital
SUMMARY:Ross P
DESCRIPTION:
URL:https://wseo.digital/event/ross-p/2026-06-05/
ATTACH;FMTTYPE=image/webp:https://wseo.digital/wp-content/uploads/2025/11/slim-radio-show-1.webp
LOCATION:
END:VEVENT
BEGIN:VEVENT
DTSTART;TZID=Europe/London:20260607T160000
DTEND;TZID=Europe/London:20260607T180000
DTSTAMP:20260421T193741
CREATED:20251111T160816Z
LAST-MODIFIED:20251112T150014Z
UID:10005877-1780848000-1780855200@wseo.digital
SUMMARY:Ross P
DESCRIPTION:
URL:https://wseo.digital/event/ross-p-2/2026-06-07/
ATTACH;FMTTYPE=image/webp:https://wseo.digital/wp-content/uploads/2025/11/slim-radio-show-1.webp
LOCATION:
END:VEVENT
BEGIN:VEVENT
DTSTART;TZID=Europe/London:20260612T160000
DTEND;TZID=Europe/London:20260612T180000
DTSTAMP:20260421T193741
CREATED:20251112T141954Z
LAST-MODIFIED:20251112T150434Z
UID:10010035-1781280000-1781287200@wseo.digital
SUMMARY:Ross P
DESCRIPTION:
URL:https://wseo.digital/event/ross-p/2026-06-12/
ATTACH;FMTTYPE=image/webp:https://wseo.digital/wp-content/uploads/2025/11/slim-radio-show-1.webp
LOCATION:
END:VEVENT
BEGIN:VEVENT
DTSTART;TZID=Europe/London:20260614T160000
DTEND;TZID=Europe/London:20260614T180000
DTSTAMP:20260421T193741
CREATED:20251111T160816Z
LAST-MODIFIED:20251112T150014Z
UID:10005878-1781452800-1781460000@wseo.digital
SUMMARY:Ross P
DESCRIPTION:
URL:https://wseo.digital/event/ross-p-2/2026-06-14/
ATTACH;FMTTYPE=image/webp:https://wseo.digital/wp-content/uploads/2025/11/slim-radio-show-1.webp
LOCATION:
END:VEVENT
BEGIN:VEVENT
DTSTART;TZID=Europe/London:20260619T160000
DTEND;TZID=Europe/London:20260619T180000
DTSTAMP:20260421T193741
CREATED:20251112T141954Z
LAST-MODIFIED:20251112T150434Z
UID:10010036-1781884800-1781892000@wseo.digital
SUMMARY:Ross P
DESCRIPTION:
URL:https://wseo.digital/event/ross-p/2026-06-19/
ATTACH;FMTTYPE=image/webp:https://wseo.digital/wp-content/uploads/2025/11/slim-radio-show-1.webp
LOCATION:
END:VEVENT
BEGIN:VEVENT
DTSTART;TZID=Europe/London:20260621T160000
DTEND;TZID=Europe/London:20260621T180000
DTSTAMP:20260421T193741
CREATED:20251111T160816Z
LAST-MODIFIED:20251112T150014Z
UID:10005879-1782057600-1782064800@wseo.digital
SUMMARY:Ross P
DESCRIPTION:
URL:https://wseo.digital/event/ross-p-2/2026-06-21/
ATTACH;FMTTYPE=image/webp:https://wseo.digital/wp-content/uploads/2025/11/slim-radio-show-1.webp
LOCATION:
END:VEVENT
BEGIN:VEVENT
DTSTART;TZID=Europe/London:20260626T160000
DTEND;TZID=Europe/London:20260626T180000
DTSTAMP:20260421T193742
CREATED:20251112T141954Z
LAST-MODIFIED:20251112T150434Z
UID:10010037-1782489600-1782496800@wseo.digital
SUMMARY:Ross P
DESCRIPTION:
URL:https://wseo.digital/event/ross-p/2026-06-26/
ATTACH;FMTTYPE=image/webp:https://wseo.digital/wp-content/uploads/2025/11/slim-radio-show-1.webp
LOCATION:
END:VEVENT
BEGIN:VEVENT
DTSTART;TZID=Europe/London:20260628T160000
DTEND;TZID=Europe/London:20260628T180000
DTSTAMP:20260421T193742
CREATED:20251111T160816Z
LAST-MODIFIED:20251112T150014Z
UID:10005880-1782662400-1782669600@wseo.digital
SUMMARY:Ross P
DESCRIPTION:
URL:https://wseo.digital/event/ross-p-2/2026-06-28/
ATTACH;FMTTYPE=image/webp:https://wseo.digital/wp-content/uploads/2025/11/slim-radio-show-1.webp
LOCATION:
END:VEVENT
BEGIN:VEVENT
DTSTART;TZID=Europe/London:20260703T160000
DTEND;TZID=Europe/London:20260703T180000
DTSTAMP:20260421T193742
CREATED:20251112T141954Z
LAST-MODIFIED:20251112T150434Z
UID:10010038-1783094400-1783101600@wseo.digital
SUMMARY:Ross P
DESCRIPTION:
URL:https://wseo.digital/event/ross-p/2026-07-03/
ATTACH;FMTTYPE=image/webp:https://wseo.digital/wp-content/uploads/2025/11/slim-radio-show-1.webp
LOCATION:
END:VEVENT
BEGIN:VEVENT
DTSTART;TZID=Europe/London:20260705T160000
DTEND;TZID=Europe/London:20260705T180000
DTSTAMP:20260421T193742
CREATED:20251111T160816Z
LAST-MODIFIED:20251112T150014Z
UID:10005881-1783267200-1783274400@wseo.digital
SUMMARY:Ross P
DESCRIPTION:
URL:https://wseo.digital/event/ross-p-2/2026-07-05/
ATTACH;FMTTYPE=image/webp:https://wseo.digital/wp-content/uploads/2025/11/slim-radio-show-1.webp
LOCATION:
END:VEVENT
BEGIN:VEVENT
DTSTART;TZID=Europe/London:20260710T160000
DTEND;TZID=Europe/London:20260710T180000
DTSTAMP:20260421T193742
CREATED:20251112T141954Z
LAST-MODIFIED:20251112T150434Z
UID:10010039-1783699200-1783706400@wseo.digital
SUMMARY:Ross P
DESCRIPTION:
URL:https://wseo.digital/event/ross-p/2026-07-10/
ATTACH;FMTTYPE=image/webp:https://wseo.digital/wp-content/uploads/2025/11/slim-radio-show-1.webp
LOCATION:
END:VEVENT
BEGIN:VEVENT
DTSTART;TZID=Europe/London:20260712T160000
DTEND;TZID=Europe/London:20260712T180000
DTSTAMP:20260421T193742
CREATED:20251111T160816Z
LAST-MODIFIED:20251112T150014Z
UID:10005882-1783872000-1783879200@wseo.digital
SUMMARY:Ross P
DESCRIPTION:
URL:https://wseo.digital/event/ross-p-2/2026-07-12/
ATTACH;FMTTYPE=image/webp:https://wseo.digital/wp-content/uploads/2025/11/slim-radio-show-1.webp
LOCATION:
END:VEVENT
BEGIN:VEVENT
DTSTART;TZID=Europe/London:20260717T160000
DTEND;TZID=Europe/London:20260717T180000
DTSTAMP:20260421T193742
CREATED:20251112T141954Z
LAST-MODIFIED:20251112T150434Z
UID:10010040-1784304000-1784311200@wseo.digital
SUMMARY:Ross P
DESCRIPTION:
URL:https://wseo.digital/event/ross-p/2026-07-17/
ATTACH;FMTTYPE=image/webp:https://wseo.digital/wp-content/uploads/2025/11/slim-radio-show-1.webp
LOCATION:
END:VEVENT
BEGIN:VEVENT
DTSTART;TZID=Europe/London:20260719T160000
DTEND;TZID=Europe/London:20260719T180000
DTSTAMP:20260421T193742
CREATED:20251111T160816Z
LAST-MODIFIED:20251112T150014Z
UID:10005883-1784476800-1784484000@wseo.digital
SUMMARY:Ross P
DESCRIPTION:
URL:https://wseo.digital/event/ross-p-2/2026-07-19/
ATTACH;FMTTYPE=image/webp:https://wseo.digital/wp-content/uploads/2025/11/slim-radio-show-1.webp
LOCATION:
END:VEVENT
BEGIN:VEVENT
DTSTART;TZID=Europe/London:20260724T160000
DTEND;TZID=Europe/London:20260724T180000
DTSTAMP:20260421T193742
CREATED:20251112T141954Z
LAST-MODIFIED:20251112T150434Z
UID:10010041-1784908800-1784916000@wseo.digital
SUMMARY:Ross P
DESCRIPTION:
URL:https://wseo.digital/event/ross-p/2026-07-24/
ATTACH;FMTTYPE=image/webp:https://wseo.digital/wp-content/uploads/2025/11/slim-radio-show-1.webp
LOCATION:
END:VEVENT
BEGIN:VEVENT
DTSTART;TZID=Europe/London:20260726T160000
DTEND;TZID=Europe/London:20260726T180000
DTSTAMP:20260421T193742
CREATED:20251111T160816Z
LAST-MODIFIED:20251112T150014Z
UID:10005884-1785081600-1785088800@wseo.digital
SUMMARY:Ross P
DESCRIPTION:
URL:https://wseo.digital/event/ross-p-2/2026-07-26/
ATTACH;FMTTYPE=image/webp:https://wseo.digital/wp-content/uploads/2025/11/slim-radio-show-1.webp
LOCATION:
END:VEVENT
BEGIN:VEVENT
DTSTART;TZID=Europe/London:20260731T160000
DTEND;TZID=Europe/London:20260731T180000
DTSTAMP:20260421T193742
CREATED:20251112T141954Z
LAST-MODIFIED:20251112T150434Z
UID:10010042-1785513600-1785520800@wseo.digital
SUMMARY:Ross P
DESCRIPTION:
URL:https://wseo.digital/event/ross-p/2026-07-31/
ATTACH;FMTTYPE=image/webp:https://wseo.digital/wp-content/uploads/2025/11/slim-radio-show-1.webp
LOCATION:
END:VEVENT
BEGIN:VEVENT
DTSTART;TZID=Europe/London:20260802T160000
DTEND;TZID=Europe/London:20260802T180000
DTSTAMP:20260421T193742
CREATED:20251111T160816Z
LAST-MODIFIED:20251112T150014Z
UID:10005885-1785686400-1785693600@wseo.digital
SUMMARY:Ross P
DESCRIPTION:
URL:https://wseo.digital/event/ross-p-2/2026-08-02/
ATTACH;FMTTYPE=image/webp:https://wseo.digital/wp-content/uploads/2025/11/slim-radio-show-1.webp
LOCATION:
END:VEVENT
END:VCALENDAR