BEGIN:VCALENDAR
VERSION:2.0
PRODID:-//wseodigital - ECPv6.15.13//NONSGML v1.0//EN
CALSCALE:GREGORIAN
METHOD:PUBLISH
X-WR-CALNAME:wseodigital
X-ORIGINAL-URL:https://wseo.digital
X-WR-CALDESC:Events for wseodigital
REFRESH-INTERVAL;VALUE=DURATION:PT1H
X-Robots-Tag:noindex
X-PUBLISHED-TTL:PT1H
BEGIN:VTIMEZONE
TZID:Europe/London
BEGIN:DAYLIGHT
TZOFFSETFROM:+0000
TZOFFSETTO:+0100
TZNAME:BST
DTSTART:20250330T010000
END:DAYLIGHT
BEGIN:STANDARD
TZOFFSETFROM:+0100
TZOFFSETTO:+0000
TZNAME:GMT
DTSTART:20251026T010000
END:STANDARD
BEGIN:DAYLIGHT
TZOFFSETFROM:+0000
TZOFFSETTO:+0100
TZNAME:BST
DTSTART:20260329T010000
END:DAYLIGHT
BEGIN:STANDARD
TZOFFSETFROM:+0100
TZOFFSETTO:+0000
TZNAME:GMT
DTSTART:20261025T010000
END:STANDARD
BEGIN:DAYLIGHT
TZOFFSETFROM:+0000
TZOFFSETTO:+0100
TZNAME:BST
DTSTART:20270328T010000
END:DAYLIGHT
BEGIN:STANDARD
TZOFFSETFROM:+0100
TZOFFSETTO:+0000
TZNAME:GMT
DTSTART:20271031T010000
END:STANDARD
BEGIN:DAYLIGHT
TZOFFSETFROM:+0000
TZOFFSETTO:+0100
TZNAME:BST
DTSTART:20280326T010000
END:DAYLIGHT
BEGIN:STANDARD
TZOFFSETFROM:+0100
TZOFFSETTO:+0000
TZNAME:GMT
DTSTART:20281029T010000
END:STANDARD
BEGIN:DAYLIGHT
TZOFFSETFROM:+0000
TZOFFSETTO:+0100
TZNAME:BST
DTSTART:20290325T010000
END:DAYLIGHT
BEGIN:STANDARD
TZOFFSETFROM:+0100
TZOFFSETTO:+0000
TZNAME:GMT
DTSTART:20291028T010000
END:STANDARD
END:VTIMEZONE
BEGIN:VEVENT
DTSTART;TZID=Europe/London:20260426T220000
DTEND;TZID=Europe/London:20260426T233000
DTSTAMP:20260421T181114
CREATED:20251228T194037Z
LAST-MODIFIED:20251228T194037Z
UID:10007176-1777240800-1777246200@wseo.digital
SUMMARY:Slim Bot Sun 10pm - 12am
DESCRIPTION:Please email join@slimradio.co.uk if you would like to take this slot
URL:https://wseo.digital/event/vacant-show-sun-10pm-12am-2/2026-04-26/
ATTACH;FMTTYPE=image/jpeg:https://wseo.digital/wp-content/uploads/2025/12/Slimbot.jpg
END:VEVENT
BEGIN:VEVENT
DTSTART;TZID=Europe/London:20260524T220000
DTEND;TZID=Europe/London:20260524T233000
DTSTAMP:20260421T181114
CREATED:20251228T194037Z
LAST-MODIFIED:20251228T194037Z
UID:10007180-1779660000-1779665400@wseo.digital
SUMMARY:Slim Bot Sun 10pm - 12am
DESCRIPTION:Please email join@slimradio.co.uk if you would like to take this slot
URL:https://wseo.digital/event/vacant-show-sun-10pm-12am-2/2026-05-24/
ATTACH;FMTTYPE=image/jpeg:https://wseo.digital/wp-content/uploads/2025/12/Slimbot.jpg
END:VEVENT
BEGIN:VEVENT
DTSTART;TZID=Europe/London:20260628T220000
DTEND;TZID=Europe/London:20260628T233000
DTSTAMP:20260421T181114
CREATED:20251228T194037Z
LAST-MODIFIED:20251228T194037Z
UID:10007185-1782684000-1782689400@wseo.digital
SUMMARY:Slim Bot Sun 10pm - 12am
DESCRIPTION:Please email join@slimradio.co.uk if you would like to take this slot
URL:https://wseo.digital/event/vacant-show-sun-10pm-12am-2/2026-06-28/
ATTACH;FMTTYPE=image/jpeg:https://wseo.digital/wp-content/uploads/2025/12/Slimbot.jpg
END:VEVENT
BEGIN:VEVENT
DTSTART;TZID=Europe/London:20260726T220000
DTEND;TZID=Europe/London:20260726T233000
DTSTAMP:20260421T181114
CREATED:20251228T194037Z
LAST-MODIFIED:20251228T194037Z
UID:10007189-1785103200-1785108600@wseo.digital
SUMMARY:Slim Bot Sun 10pm - 12am
DESCRIPTION:Please email join@slimradio.co.uk if you would like to take this slot
URL:https://wseo.digital/event/vacant-show-sun-10pm-12am-2/2026-07-26/
ATTACH;FMTTYPE=image/jpeg:https://wseo.digital/wp-content/uploads/2025/12/Slimbot.jpg
END:VEVENT
BEGIN:VEVENT
DTSTART;TZID=Europe/London:20260823T220000
DTEND;TZID=Europe/London:20260823T233000
DTSTAMP:20260421T181114
CREATED:20251228T194037Z
LAST-MODIFIED:20251228T194037Z
UID:10007193-1787522400-1787527800@wseo.digital
SUMMARY:Slim Bot Sun 10pm - 12am
DESCRIPTION:Please email join@slimradio.co.uk if you would like to take this slot
URL:https://wseo.digital/event/vacant-show-sun-10pm-12am-2/2026-08-23/
ATTACH;FMTTYPE=image/jpeg:https://wseo.digital/wp-content/uploads/2025/12/Slimbot.jpg
END:VEVENT
BEGIN:VEVENT
DTSTART;TZID=Europe/London:20260927T220000
DTEND;TZID=Europe/London:20260927T233000
DTSTAMP:20260421T181114
CREATED:20251228T194037Z
LAST-MODIFIED:20251228T194037Z
UID:10007198-1790546400-1790551800@wseo.digital
SUMMARY:Slim Bot Sun 10pm - 12am
DESCRIPTION:Please email join@slimradio.co.uk if you would like to take this slot
URL:https://wseo.digital/event/vacant-show-sun-10pm-12am-2/2026-09-27/
ATTACH;FMTTYPE=image/jpeg:https://wseo.digital/wp-content/uploads/2025/12/Slimbot.jpg
END:VEVENT
BEGIN:VEVENT
DTSTART;TZID=Europe/London:20261025T220000
DTEND;TZID=Europe/London:20261025T233000
DTSTAMP:20260421T181114
CREATED:20251228T194037Z
LAST-MODIFIED:20251228T194037Z
UID:10007202-1792965600-1792971000@wseo.digital
SUMMARY:Slim Bot Sun 10pm - 12am
DESCRIPTION:Please email join@slimradio.co.uk if you would like to take this slot
URL:https://wseo.digital/event/vacant-show-sun-10pm-12am-2/2026-10-25/
ATTACH;FMTTYPE=image/jpeg:https://wseo.digital/wp-content/uploads/2025/12/Slimbot.jpg
END:VEVENT
BEGIN:VEVENT
DTSTART;TZID=Europe/London:20261122T220000
DTEND;TZID=Europe/London:20261122T233000
DTSTAMP:20260421T181114
CREATED:20251228T194037Z
LAST-MODIFIED:20251228T194037Z
UID:10007206-1795384800-1795390200@wseo.digital
SUMMARY:Slim Bot Sun 10pm - 12am
DESCRIPTION:Please email join@slimradio.co.uk if you would like to take this slot
URL:https://wseo.digital/event/vacant-show-sun-10pm-12am-2/2026-11-22/
ATTACH;FMTTYPE=image/jpeg:https://wseo.digital/wp-content/uploads/2025/12/Slimbot.jpg
END:VEVENT
BEGIN:VEVENT
DTSTART;TZID=Europe/London:20261227T220000
DTEND;TZID=Europe/London:20261227T233000
DTSTAMP:20260421T181114
CREATED:20251228T194037Z
LAST-MODIFIED:20251228T194037Z
UID:10007211-1798408800-1798414200@wseo.digital
SUMMARY:Slim Bot Sun 10pm - 12am
DESCRIPTION:Please email join@slimradio.co.uk if you would like to take this slot
URL:https://wseo.digital/event/vacant-show-sun-10pm-12am-2/2026-12-27/
ATTACH;FMTTYPE=image/jpeg:https://wseo.digital/wp-content/uploads/2025/12/Slimbot.jpg
END:VEVENT
BEGIN:VEVENT
DTSTART;TZID=Europe/London:20270124T220000
DTEND;TZID=Europe/London:20270124T233000
DTSTAMP:20260421T181114
CREATED:20251228T194037Z
LAST-MODIFIED:20251228T194037Z
UID:10007215-1800828000-1800833400@wseo.digital
SUMMARY:Slim Bot Sun 10pm - 12am
DESCRIPTION:Please email join@slimradio.co.uk if you would like to take this slot
URL:https://wseo.digital/event/vacant-show-sun-10pm-12am-2/2027-01-24/
ATTACH;FMTTYPE=image/jpeg:https://wseo.digital/wp-content/uploads/2025/12/Slimbot.jpg
END:VEVENT
BEGIN:VEVENT
DTSTART;TZID=Europe/London:20270228T220000
DTEND;TZID=Europe/London:20270228T233000
DTSTAMP:20260421T181114
CREATED:20251228T194037Z
LAST-MODIFIED:20251228T194037Z
UID:10007220-1803852000-1803857400@wseo.digital
SUMMARY:Slim Bot Sun 10pm - 12am
DESCRIPTION:Please email join@slimradio.co.uk if you would like to take this slot
URL:https://wseo.digital/event/vacant-show-sun-10pm-12am-2/2027-02-28/
ATTACH;FMTTYPE=image/jpeg:https://wseo.digital/wp-content/uploads/2025/12/Slimbot.jpg
END:VEVENT
BEGIN:VEVENT
DTSTART;TZID=Europe/London:20270328T220000
DTEND;TZID=Europe/London:20270328T233000
DTSTAMP:20260421T181114
CREATED:20251228T194037Z
LAST-MODIFIED:20251228T194037Z
UID:10007224-1806271200-1806276600@wseo.digital
SUMMARY:Slim Bot Sun 10pm - 12am
DESCRIPTION:Please email join@slimradio.co.uk if you would like to take this slot
URL:https://wseo.digital/event/vacant-show-sun-10pm-12am-2/2027-03-28/
ATTACH;FMTTYPE=image/jpeg:https://wseo.digital/wp-content/uploads/2025/12/Slimbot.jpg
END:VEVENT
BEGIN:VEVENT
DTSTART;TZID=Europe/London:20270425T220000
DTEND;TZID=Europe/London:20270425T233000
DTSTAMP:20260421T181114
CREATED:20251228T194037Z
LAST-MODIFIED:20251228T194037Z
UID:10007228-1808690400-1808695800@wseo.digital
SUMMARY:Slim Bot Sun 10pm - 12am
DESCRIPTION:Please email join@slimradio.co.uk if you would like to take this slot
URL:https://wseo.digital/event/vacant-show-sun-10pm-12am-2/2027-04-25/
ATTACH;FMTTYPE=image/jpeg:https://wseo.digital/wp-content/uploads/2025/12/Slimbot.jpg
END:VEVENT
BEGIN:VEVENT
DTSTART;TZID=Europe/London:20270523T220000
DTEND;TZID=Europe/London:20270523T233000
DTSTAMP:20260421T181114
CREATED:20251228T194037Z
LAST-MODIFIED:20251228T194037Z
UID:10007232-1811109600-1811115000@wseo.digital
SUMMARY:Slim Bot Sun 10pm - 12am
DESCRIPTION:Please email join@slimradio.co.uk if you would like to take this slot
URL:https://wseo.digital/event/vacant-show-sun-10pm-12am-2/2027-05-23/
ATTACH;FMTTYPE=image/jpeg:https://wseo.digital/wp-content/uploads/2025/12/Slimbot.jpg
END:VEVENT
BEGIN:VEVENT
DTSTART;TZID=Europe/London:20270627T220000
DTEND;TZID=Europe/London:20270627T233000
DTSTAMP:20260421T181114
CREATED:20251228T194037Z
LAST-MODIFIED:20251228T194037Z
UID:10007237-1814133600-1814139000@wseo.digital
SUMMARY:Slim Bot Sun 10pm - 12am
DESCRIPTION:Please email join@slimradio.co.uk if you would like to take this slot
URL:https://wseo.digital/event/vacant-show-sun-10pm-12am-2/2027-06-27/
ATTACH;FMTTYPE=image/jpeg:https://wseo.digital/wp-content/uploads/2025/12/Slimbot.jpg
END:VEVENT
BEGIN:VEVENT
DTSTART;TZID=Europe/London:20270725T220000
DTEND;TZID=Europe/London:20270725T233000
DTSTAMP:20260421T181114
CREATED:20251228T194037Z
LAST-MODIFIED:20251228T194037Z
UID:10007241-1816552800-1816558200@wseo.digital
SUMMARY:Slim Bot Sun 10pm - 12am
DESCRIPTION:Please email join@slimradio.co.uk if you would like to take this slot
URL:https://wseo.digital/event/vacant-show-sun-10pm-12am-2/2027-07-25/
ATTACH;FMTTYPE=image/jpeg:https://wseo.digital/wp-content/uploads/2025/12/Slimbot.jpg
END:VEVENT
BEGIN:VEVENT
DTSTART;TZID=Europe/London:20270822T220000
DTEND;TZID=Europe/London:20270822T233000
DTSTAMP:20260421T181114
CREATED:20251228T194037Z
LAST-MODIFIED:20251228T194037Z
UID:10007245-1818972000-1818977400@wseo.digital
SUMMARY:Slim Bot Sun 10pm - 12am
DESCRIPTION:Please email join@slimradio.co.uk if you would like to take this slot
URL:https://wseo.digital/event/vacant-show-sun-10pm-12am-2/2027-08-22/
ATTACH;FMTTYPE=image/jpeg:https://wseo.digital/wp-content/uploads/2025/12/Slimbot.jpg
END:VEVENT
BEGIN:VEVENT
DTSTART;TZID=Europe/London:20270926T220000
DTEND;TZID=Europe/London:20270926T233000
DTSTAMP:20260421T181114
CREATED:20251228T194037Z
LAST-MODIFIED:20251228T194037Z
UID:10007250-1821996000-1822001400@wseo.digital
SUMMARY:Slim Bot Sun 10pm - 12am
DESCRIPTION:Please email join@slimradio.co.uk if you would like to take this slot
URL:https://wseo.digital/event/vacant-show-sun-10pm-12am-2/2027-09-26/
ATTACH;FMTTYPE=image/jpeg:https://wseo.digital/wp-content/uploads/2025/12/Slimbot.jpg
END:VEVENT
BEGIN:VEVENT
DTSTART;TZID=Europe/London:20271024T220000
DTEND;TZID=Europe/London:20271024T233000
DTSTAMP:20260421T181114
CREATED:20251228T194037Z
LAST-MODIFIED:20251228T194037Z
UID:10007254-1824415200-1824420600@wseo.digital
SUMMARY:Slim Bot Sun 10pm - 12am
DESCRIPTION:Please email join@slimradio.co.uk if you would like to take this slot
URL:https://wseo.digital/event/vacant-show-sun-10pm-12am-2/2027-10-24/
ATTACH;FMTTYPE=image/jpeg:https://wseo.digital/wp-content/uploads/2025/12/Slimbot.jpg
END:VEVENT
BEGIN:VEVENT
DTSTART;TZID=Europe/London:20271128T220000
DTEND;TZID=Europe/London:20271128T233000
DTSTAMP:20260421T181114
CREATED:20251228T194037Z
LAST-MODIFIED:20251228T194037Z
UID:10007259-1827439200-1827444600@wseo.digital
SUMMARY:Slim Bot Sun 10pm - 12am
DESCRIPTION:Please email join@slimradio.co.uk if you would like to take this slot
URL:https://wseo.digital/event/vacant-show-sun-10pm-12am-2/2027-11-28/
ATTACH;FMTTYPE=image/jpeg:https://wseo.digital/wp-content/uploads/2025/12/Slimbot.jpg
END:VEVENT
BEGIN:VEVENT
DTSTART;TZID=Europe/London:20271226T220000
DTEND;TZID=Europe/London:20271226T233000
DTSTAMP:20260421T181114
CREATED:20251228T194037Z
LAST-MODIFIED:20251228T194037Z
UID:10007263-1829858400-1829863800@wseo.digital
SUMMARY:Slim Bot Sun 10pm - 12am
DESCRIPTION:Please email join@slimradio.co.uk if you would like to take this slot
URL:https://wseo.digital/event/vacant-show-sun-10pm-12am-2/2027-12-26/
ATTACH;FMTTYPE=image/jpeg:https://wseo.digital/wp-content/uploads/2025/12/Slimbot.jpg
END:VEVENT
BEGIN:VEVENT
DTSTART;TZID=Europe/London:20280123T220000
DTEND;TZID=Europe/London:20280123T233000
DTSTAMP:20260421T181114
CREATED:20251228T194037Z
LAST-MODIFIED:20251228T194037Z
UID:10007267-1832277600-1832283000@wseo.digital
SUMMARY:Slim Bot Sun 10pm - 12am
DESCRIPTION:Please email join@slimradio.co.uk if you would like to take this slot
URL:https://wseo.digital/event/vacant-show-sun-10pm-12am-2/2028-01-23/
ATTACH;FMTTYPE=image/jpeg:https://wseo.digital/wp-content/uploads/2025/12/Slimbot.jpg
END:VEVENT
BEGIN:VEVENT
DTSTART;TZID=Europe/London:20280227T220000
DTEND;TZID=Europe/London:20280227T233000
DTSTAMP:20260421T181114
CREATED:20251228T194037Z
LAST-MODIFIED:20251228T194037Z
UID:10007272-1835301600-1835307000@wseo.digital
SUMMARY:Slim Bot Sun 10pm - 12am
DESCRIPTION:Please email join@slimradio.co.uk if you would like to take this slot
URL:https://wseo.digital/event/vacant-show-sun-10pm-12am-2/2028-02-27/
ATTACH;FMTTYPE=image/jpeg:https://wseo.digital/wp-content/uploads/2025/12/Slimbot.jpg
END:VEVENT
BEGIN:VEVENT
DTSTART;TZID=Europe/London:20280326T220000
DTEND;TZID=Europe/London:20280326T233000
DTSTAMP:20260421T181114
CREATED:20251228T194037Z
LAST-MODIFIED:20251228T194037Z
UID:10007276-1837720800-1837726200@wseo.digital
SUMMARY:Slim Bot Sun 10pm - 12am
DESCRIPTION:Please email join@slimradio.co.uk if you would like to take this slot
URL:https://wseo.digital/event/vacant-show-sun-10pm-12am-2/2028-03-26/
ATTACH;FMTTYPE=image/jpeg:https://wseo.digital/wp-content/uploads/2025/12/Slimbot.jpg
END:VEVENT
BEGIN:VEVENT
DTSTART;TZID=Europe/London:20280423T220000
DTEND;TZID=Europe/London:20280423T233000
DTSTAMP:20260421T181114
CREATED:20251228T194037Z
LAST-MODIFIED:20251228T194037Z
UID:10007280-1840140000-1840145400@wseo.digital
SUMMARY:Slim Bot Sun 10pm - 12am
DESCRIPTION:Please email join@slimradio.co.uk if you would like to take this slot
URL:https://wseo.digital/event/vacant-show-sun-10pm-12am-2/2028-04-23/
ATTACH;FMTTYPE=image/jpeg:https://wseo.digital/wp-content/uploads/2025/12/Slimbot.jpg
END:VEVENT
BEGIN:VEVENT
DTSTART;TZID=Europe/London:20280528T220000
DTEND;TZID=Europe/London:20280528T233000
DTSTAMP:20260421T181114
CREATED:20251228T194037Z
LAST-MODIFIED:20251228T194037Z
UID:10007285-1843164000-1843169400@wseo.digital
SUMMARY:Slim Bot Sun 10pm - 12am
DESCRIPTION:Please email join@slimradio.co.uk if you would like to take this slot
URL:https://wseo.digital/event/vacant-show-sun-10pm-12am-2/2028-05-28/
ATTACH;FMTTYPE=image/jpeg:https://wseo.digital/wp-content/uploads/2025/12/Slimbot.jpg
END:VEVENT
BEGIN:VEVENT
DTSTART;TZID=Europe/London:20280625T220000
DTEND;TZID=Europe/London:20280625T233000
DTSTAMP:20260421T181114
CREATED:20251228T194037Z
LAST-MODIFIED:20251228T194037Z
UID:10007289-1845583200-1845588600@wseo.digital
SUMMARY:Slim Bot Sun 10pm - 12am
DESCRIPTION:Please email join@slimradio.co.uk if you would like to take this slot
URL:https://wseo.digital/event/vacant-show-sun-10pm-12am-2/2028-06-25/
ATTACH;FMTTYPE=image/jpeg:https://wseo.digital/wp-content/uploads/2025/12/Slimbot.jpg
END:VEVENT
BEGIN:VEVENT
DTSTART;TZID=Europe/London:20280723T220000
DTEND;TZID=Europe/London:20280723T233000
DTSTAMP:20260421T181114
CREATED:20251228T194037Z
LAST-MODIFIED:20251228T194037Z
UID:10007293-1848002400-1848007800@wseo.digital
SUMMARY:Slim Bot Sun 10pm - 12am
DESCRIPTION:Please email join@slimradio.co.uk if you would like to take this slot
URL:https://wseo.digital/event/vacant-show-sun-10pm-12am-2/2028-07-23/
ATTACH;FMTTYPE=image/jpeg:https://wseo.digital/wp-content/uploads/2025/12/Slimbot.jpg
END:VEVENT
BEGIN:VEVENT
DTSTART;TZID=Europe/London:20280827T220000
DTEND;TZID=Europe/London:20280827T233000
DTSTAMP:20260421T181114
CREATED:20251228T194037Z
LAST-MODIFIED:20251228T194037Z
UID:10007298-1851026400-1851031800@wseo.digital
SUMMARY:Slim Bot Sun 10pm - 12am
DESCRIPTION:Please email join@slimradio.co.uk if you would like to take this slot
URL:https://wseo.digital/event/vacant-show-sun-10pm-12am-2/2028-08-27/
ATTACH;FMTTYPE=image/jpeg:https://wseo.digital/wp-content/uploads/2025/12/Slimbot.jpg
END:VEVENT
BEGIN:VEVENT
DTSTART;TZID=Europe/London:20280924T220000
DTEND;TZID=Europe/London:20280924T233000
DTSTAMP:20260421T181114
CREATED:20251228T194037Z
LAST-MODIFIED:20251228T194037Z
UID:10007302-1853445600-1853451000@wseo.digital
SUMMARY:Slim Bot Sun 10pm - 12am
DESCRIPTION:Please email join@slimradio.co.uk if you would like to take this slot
URL:https://wseo.digital/event/vacant-show-sun-10pm-12am-2/2028-09-24/
ATTACH;FMTTYPE=image/jpeg:https://wseo.digital/wp-content/uploads/2025/12/Slimbot.jpg
END:VEVENT
END:VCALENDAR