BEGIN:VCALENDAR
VERSION:2.0
PRODID:-//wseodigital - ECPv6.15.13//NONSGML v1.0//EN
CALSCALE:GREGORIAN
METHOD:PUBLISH
X-WR-CALNAME:wseodigital
X-ORIGINAL-URL:https://wseo.digital
X-WR-CALDESC:Events for wseodigital
REFRESH-INTERVAL;VALUE=DURATION:PT1H
X-Robots-Tag:noindex
X-PUBLISHED-TTL:PT1H
BEGIN:VTIMEZONE
TZID:Europe/London
BEGIN:DAYLIGHT
TZOFFSETFROM:+0000
TZOFFSETTO:+0100
TZNAME:BST
DTSTART:20250330T010000
END:DAYLIGHT
BEGIN:STANDARD
TZOFFSETFROM:+0100
TZOFFSETTO:+0000
TZNAME:GMT
DTSTART:20251026T010000
END:STANDARD
BEGIN:DAYLIGHT
TZOFFSETFROM:+0000
TZOFFSETTO:+0100
TZNAME:BST
DTSTART:20260329T010000
END:DAYLIGHT
BEGIN:STANDARD
TZOFFSETFROM:+0100
TZOFFSETTO:+0000
TZNAME:GMT
DTSTART:20261025T010000
END:STANDARD
BEGIN:DAYLIGHT
TZOFFSETFROM:+0000
TZOFFSETTO:+0100
TZNAME:BST
DTSTART:20270328T010000
END:DAYLIGHT
BEGIN:STANDARD
TZOFFSETFROM:+0100
TZOFFSETTO:+0000
TZNAME:GMT
DTSTART:20271031T010000
END:STANDARD
END:VTIMEZONE
BEGIN:VEVENT
DTSTART;TZID=Europe/London:20260425T120000
DTEND;TZID=Europe/London:20260425T140000
DTSTAMP:20260421T152704
CREATED:20251112T143438Z
LAST-MODIFIED:20251112T150145Z
UID:10010289-1777118400-1777125600@wseo.digital
SUMMARY:Graeham Bamford
DESCRIPTION:
URL:https://wseo.digital/event/graeham-b-p/2026-04-25/
ATTACH;FMTTYPE=image/jpeg:https://wseo.digital/wp-content/uploads/2025/11/Graeham-B-P.jpg
LOCATION:
END:VEVENT
BEGIN:VEVENT
DTSTART;TZID=Europe/London:20260502T120000
DTEND;TZID=Europe/London:20260502T140000
DTSTAMP:20260421T152704
CREATED:20251112T143438Z
LAST-MODIFIED:20251112T150145Z
UID:10010290-1777723200-1777730400@wseo.digital
SUMMARY:Graeham Bamford
DESCRIPTION:
URL:https://wseo.digital/event/graeham-b-p/2026-05-02/
ATTACH;FMTTYPE=image/jpeg:https://wseo.digital/wp-content/uploads/2025/11/Graeham-B-P.jpg
LOCATION:
END:VEVENT
BEGIN:VEVENT
DTSTART;TZID=Europe/London:20260509T120000
DTEND;TZID=Europe/London:20260509T140000
DTSTAMP:20260421T152704
CREATED:20251112T143438Z
LAST-MODIFIED:20251112T150145Z
UID:10010291-1778328000-1778335200@wseo.digital
SUMMARY:Graeham Bamford
DESCRIPTION:
URL:https://wseo.digital/event/graeham-b-p/2026-05-09/
ATTACH;FMTTYPE=image/jpeg:https://wseo.digital/wp-content/uploads/2025/11/Graeham-B-P.jpg
LOCATION:
END:VEVENT
BEGIN:VEVENT
DTSTART;TZID=Europe/London:20260516T120000
DTEND;TZID=Europe/London:20260516T140000
DTSTAMP:20260421T152704
CREATED:20251112T143438Z
LAST-MODIFIED:20251112T150145Z
UID:10010292-1778932800-1778940000@wseo.digital
SUMMARY:Graeham Bamford
DESCRIPTION:
URL:https://wseo.digital/event/graeham-b-p/2026-05-16/
ATTACH;FMTTYPE=image/jpeg:https://wseo.digital/wp-content/uploads/2025/11/Graeham-B-P.jpg
LOCATION:
END:VEVENT
BEGIN:VEVENT
DTSTART;TZID=Europe/London:20260523T120000
DTEND;TZID=Europe/London:20260523T140000
DTSTAMP:20260421T152704
CREATED:20251112T143438Z
LAST-MODIFIED:20251112T150145Z
UID:10010293-1779537600-1779544800@wseo.digital
SUMMARY:Graeham Bamford
DESCRIPTION:
URL:https://wseo.digital/event/graeham-b-p/2026-05-23/
ATTACH;FMTTYPE=image/jpeg:https://wseo.digital/wp-content/uploads/2025/11/Graeham-B-P.jpg
LOCATION:
END:VEVENT
BEGIN:VEVENT
DTSTART;TZID=Europe/London:20260530T120000
DTEND;TZID=Europe/London:20260530T140000
DTSTAMP:20260421T152704
CREATED:20251112T143438Z
LAST-MODIFIED:20251112T150145Z
UID:10010294-1780142400-1780149600@wseo.digital
SUMMARY:Graeham Bamford
DESCRIPTION:
URL:https://wseo.digital/event/graeham-b-p/2026-05-30/
ATTACH;FMTTYPE=image/jpeg:https://wseo.digital/wp-content/uploads/2025/11/Graeham-B-P.jpg
LOCATION:
END:VEVENT
BEGIN:VEVENT
DTSTART;TZID=Europe/London:20260606T120000
DTEND;TZID=Europe/London:20260606T140000
DTSTAMP:20260421T152704
CREATED:20251112T143438Z
LAST-MODIFIED:20251112T150145Z
UID:10010295-1780747200-1780754400@wseo.digital
SUMMARY:Graeham Bamford
DESCRIPTION:
URL:https://wseo.digital/event/graeham-b-p/2026-06-06/
ATTACH;FMTTYPE=image/jpeg:https://wseo.digital/wp-content/uploads/2025/11/Graeham-B-P.jpg
LOCATION:
END:VEVENT
BEGIN:VEVENT
DTSTART;TZID=Europe/London:20260613T120000
DTEND;TZID=Europe/London:20260613T140000
DTSTAMP:20260421T152704
CREATED:20251112T143438Z
LAST-MODIFIED:20251112T150145Z
UID:10010296-1781352000-1781359200@wseo.digital
SUMMARY:Graeham Bamford
DESCRIPTION:
URL:https://wseo.digital/event/graeham-b-p/2026-06-13/
ATTACH;FMTTYPE=image/jpeg:https://wseo.digital/wp-content/uploads/2025/11/Graeham-B-P.jpg
LOCATION:
END:VEVENT
BEGIN:VEVENT
DTSTART;TZID=Europe/London:20260620T120000
DTEND;TZID=Europe/London:20260620T140000
DTSTAMP:20260421T152704
CREATED:20251112T143438Z
LAST-MODIFIED:20251112T150145Z
UID:10010297-1781956800-1781964000@wseo.digital
SUMMARY:Graeham Bamford
DESCRIPTION:
URL:https://wseo.digital/event/graeham-b-p/2026-06-20/
ATTACH;FMTTYPE=image/jpeg:https://wseo.digital/wp-content/uploads/2025/11/Graeham-B-P.jpg
LOCATION:
END:VEVENT
BEGIN:VEVENT
DTSTART;TZID=Europe/London:20260627T120000
DTEND;TZID=Europe/London:20260627T140000
DTSTAMP:20260421T152704
CREATED:20251112T143438Z
LAST-MODIFIED:20251112T150145Z
UID:10010298-1782561600-1782568800@wseo.digital
SUMMARY:Graeham Bamford
DESCRIPTION:
URL:https://wseo.digital/event/graeham-b-p/2026-06-27/
ATTACH;FMTTYPE=image/jpeg:https://wseo.digital/wp-content/uploads/2025/11/Graeham-B-P.jpg
LOCATION:
END:VEVENT
BEGIN:VEVENT
DTSTART;TZID=Europe/London:20260704T120000
DTEND;TZID=Europe/London:20260704T140000
DTSTAMP:20260421T152704
CREATED:20251112T143438Z
LAST-MODIFIED:20251112T150145Z
UID:10010299-1783166400-1783173600@wseo.digital
SUMMARY:Graeham Bamford
DESCRIPTION:
URL:https://wseo.digital/event/graeham-b-p/2026-07-04/
ATTACH;FMTTYPE=image/jpeg:https://wseo.digital/wp-content/uploads/2025/11/Graeham-B-P.jpg
LOCATION:
END:VEVENT
BEGIN:VEVENT
DTSTART;TZID=Europe/London:20260711T120000
DTEND;TZID=Europe/London:20260711T140000
DTSTAMP:20260421T152704
CREATED:20251112T143438Z
LAST-MODIFIED:20251112T150145Z
UID:10010300-1783771200-1783778400@wseo.digital
SUMMARY:Graeham Bamford
DESCRIPTION:
URL:https://wseo.digital/event/graeham-b-p/2026-07-11/
ATTACH;FMTTYPE=image/jpeg:https://wseo.digital/wp-content/uploads/2025/11/Graeham-B-P.jpg
LOCATION:
END:VEVENT
BEGIN:VEVENT
DTSTART;TZID=Europe/London:20260718T120000
DTEND;TZID=Europe/London:20260718T140000
DTSTAMP:20260421T152704
CREATED:20251112T143438Z
LAST-MODIFIED:20251112T150145Z
UID:10010301-1784376000-1784383200@wseo.digital
SUMMARY:Graeham Bamford
DESCRIPTION:
URL:https://wseo.digital/event/graeham-b-p/2026-07-18/
ATTACH;FMTTYPE=image/jpeg:https://wseo.digital/wp-content/uploads/2025/11/Graeham-B-P.jpg
LOCATION:
END:VEVENT
BEGIN:VEVENT
DTSTART;TZID=Europe/London:20260725T120000
DTEND;TZID=Europe/London:20260725T140000
DTSTAMP:20260421T152704
CREATED:20251112T143438Z
LAST-MODIFIED:20251112T150145Z
UID:10010302-1784980800-1784988000@wseo.digital
SUMMARY:Graeham Bamford
DESCRIPTION:
URL:https://wseo.digital/event/graeham-b-p/2026-07-25/
ATTACH;FMTTYPE=image/jpeg:https://wseo.digital/wp-content/uploads/2025/11/Graeham-B-P.jpg
LOCATION:
END:VEVENT
BEGIN:VEVENT
DTSTART;TZID=Europe/London:20260801T120000
DTEND;TZID=Europe/London:20260801T140000
DTSTAMP:20260421T152704
CREATED:20251112T143438Z
LAST-MODIFIED:20251112T150145Z
UID:10010303-1785585600-1785592800@wseo.digital
SUMMARY:Graeham Bamford
DESCRIPTION:
URL:https://wseo.digital/event/graeham-b-p/2026-08-01/
ATTACH;FMTTYPE=image/jpeg:https://wseo.digital/wp-content/uploads/2025/11/Graeham-B-P.jpg
LOCATION:
END:VEVENT
BEGIN:VEVENT
DTSTART;TZID=Europe/London:20260808T120000
DTEND;TZID=Europe/London:20260808T140000
DTSTAMP:20260421T152704
CREATED:20251112T143438Z
LAST-MODIFIED:20251112T150145Z
UID:10010304-1786190400-1786197600@wseo.digital
SUMMARY:Graeham Bamford
DESCRIPTION:
URL:https://wseo.digital/event/graeham-b-p/2026-08-08/
ATTACH;FMTTYPE=image/jpeg:https://wseo.digital/wp-content/uploads/2025/11/Graeham-B-P.jpg
LOCATION:
END:VEVENT
BEGIN:VEVENT
DTSTART;TZID=Europe/London:20260815T120000
DTEND;TZID=Europe/London:20260815T140000
DTSTAMP:20260421T152704
CREATED:20251112T143438Z
LAST-MODIFIED:20251112T150145Z
UID:10010305-1786795200-1786802400@wseo.digital
SUMMARY:Graeham Bamford
DESCRIPTION:
URL:https://wseo.digital/event/graeham-b-p/2026-08-15/
ATTACH;FMTTYPE=image/jpeg:https://wseo.digital/wp-content/uploads/2025/11/Graeham-B-P.jpg
LOCATION:
END:VEVENT
BEGIN:VEVENT
DTSTART;TZID=Europe/London:20260822T120000
DTEND;TZID=Europe/London:20260822T140000
DTSTAMP:20260421T152704
CREATED:20251112T143438Z
LAST-MODIFIED:20251112T150145Z
UID:10010306-1787400000-1787407200@wseo.digital
SUMMARY:Graeham Bamford
DESCRIPTION:
URL:https://wseo.digital/event/graeham-b-p/2026-08-22/
ATTACH;FMTTYPE=image/jpeg:https://wseo.digital/wp-content/uploads/2025/11/Graeham-B-P.jpg
LOCATION:
END:VEVENT
BEGIN:VEVENT
DTSTART;TZID=Europe/London:20260829T120000
DTEND;TZID=Europe/London:20260829T140000
DTSTAMP:20260421T152704
CREATED:20251112T143438Z
LAST-MODIFIED:20251112T150145Z
UID:10010307-1788004800-1788012000@wseo.digital
SUMMARY:Graeham Bamford
DESCRIPTION:
URL:https://wseo.digital/event/graeham-b-p/2026-08-29/
ATTACH;FMTTYPE=image/jpeg:https://wseo.digital/wp-content/uploads/2025/11/Graeham-B-P.jpg
LOCATION:
END:VEVENT
BEGIN:VEVENT
DTSTART;TZID=Europe/London:20260905T120000
DTEND;TZID=Europe/London:20260905T140000
DTSTAMP:20260421T152704
CREATED:20251112T143438Z
LAST-MODIFIED:20251112T150145Z
UID:10010308-1788609600-1788616800@wseo.digital
SUMMARY:Graeham Bamford
DESCRIPTION:
URL:https://wseo.digital/event/graeham-b-p/2026-09-05/
ATTACH;FMTTYPE=image/jpeg:https://wseo.digital/wp-content/uploads/2025/11/Graeham-B-P.jpg
LOCATION:
END:VEVENT
BEGIN:VEVENT
DTSTART;TZID=Europe/London:20260912T120000
DTEND;TZID=Europe/London:20260912T140000
DTSTAMP:20260421T152704
CREATED:20251112T143438Z
LAST-MODIFIED:20251112T150145Z
UID:10010309-1789214400-1789221600@wseo.digital
SUMMARY:Graeham Bamford
DESCRIPTION:
URL:https://wseo.digital/event/graeham-b-p/2026-09-12/
ATTACH;FMTTYPE=image/jpeg:https://wseo.digital/wp-content/uploads/2025/11/Graeham-B-P.jpg
LOCATION:
END:VEVENT
BEGIN:VEVENT
DTSTART;TZID=Europe/London:20260919T120000
DTEND;TZID=Europe/London:20260919T140000
DTSTAMP:20260421T152704
CREATED:20251112T143438Z
LAST-MODIFIED:20251112T150145Z
UID:10010310-1789819200-1789826400@wseo.digital
SUMMARY:Graeham Bamford
DESCRIPTION:
URL:https://wseo.digital/event/graeham-b-p/2026-09-19/
ATTACH;FMTTYPE=image/jpeg:https://wseo.digital/wp-content/uploads/2025/11/Graeham-B-P.jpg
LOCATION:
END:VEVENT
BEGIN:VEVENT
DTSTART;TZID=Europe/London:20260926T120000
DTEND;TZID=Europe/London:20260926T140000
DTSTAMP:20260421T152704
CREATED:20251112T143438Z
LAST-MODIFIED:20251112T150145Z
UID:10010311-1790424000-1790431200@wseo.digital
SUMMARY:Graeham Bamford
DESCRIPTION:
URL:https://wseo.digital/event/graeham-b-p/2026-09-26/
ATTACH;FMTTYPE=image/jpeg:https://wseo.digital/wp-content/uploads/2025/11/Graeham-B-P.jpg
LOCATION:
END:VEVENT
BEGIN:VEVENT
DTSTART;TZID=Europe/London:20261003T120000
DTEND;TZID=Europe/London:20261003T140000
DTSTAMP:20260421T152704
CREATED:20251112T143438Z
LAST-MODIFIED:20251112T150145Z
UID:10010312-1791028800-1791036000@wseo.digital
SUMMARY:Graeham Bamford
DESCRIPTION:
URL:https://wseo.digital/event/graeham-b-p/2026-10-03/
ATTACH;FMTTYPE=image/jpeg:https://wseo.digital/wp-content/uploads/2025/11/Graeham-B-P.jpg
LOCATION:
END:VEVENT
BEGIN:VEVENT
DTSTART;TZID=Europe/London:20261010T120000
DTEND;TZID=Europe/London:20261010T140000
DTSTAMP:20260421T152704
CREATED:20251112T143438Z
LAST-MODIFIED:20251112T150145Z
UID:10010313-1791633600-1791640800@wseo.digital
SUMMARY:Graeham Bamford
DESCRIPTION:
URL:https://wseo.digital/event/graeham-b-p/2026-10-10/
ATTACH;FMTTYPE=image/jpeg:https://wseo.digital/wp-content/uploads/2025/11/Graeham-B-P.jpg
LOCATION:
END:VEVENT
BEGIN:VEVENT
DTSTART;TZID=Europe/London:20261017T120000
DTEND;TZID=Europe/London:20261017T140000
DTSTAMP:20260421T152704
CREATED:20251112T143438Z
LAST-MODIFIED:20251112T150145Z
UID:10010314-1792238400-1792245600@wseo.digital
SUMMARY:Graeham Bamford
DESCRIPTION:
URL:https://wseo.digital/event/graeham-b-p/2026-10-17/
ATTACH;FMTTYPE=image/jpeg:https://wseo.digital/wp-content/uploads/2025/11/Graeham-B-P.jpg
LOCATION:
END:VEVENT
BEGIN:VEVENT
DTSTART;TZID=Europe/London:20261024T120000
DTEND;TZID=Europe/London:20261024T140000
DTSTAMP:20260421T152704
CREATED:20251112T143438Z
LAST-MODIFIED:20251112T150145Z
UID:10010315-1792843200-1792850400@wseo.digital
SUMMARY:Graeham Bamford
DESCRIPTION:
URL:https://wseo.digital/event/graeham-b-p/2026-10-24/
ATTACH;FMTTYPE=image/jpeg:https://wseo.digital/wp-content/uploads/2025/11/Graeham-B-P.jpg
LOCATION:
END:VEVENT
BEGIN:VEVENT
DTSTART;TZID=Europe/London:20261031T120000
DTEND;TZID=Europe/London:20261031T140000
DTSTAMP:20260421T152704
CREATED:20251112T143438Z
LAST-MODIFIED:20251112T150145Z
UID:10010316-1793448000-1793455200@wseo.digital
SUMMARY:Graeham Bamford
DESCRIPTION:
URL:https://wseo.digital/event/graeham-b-p/2026-10-31/
ATTACH;FMTTYPE=image/jpeg:https://wseo.digital/wp-content/uploads/2025/11/Graeham-B-P.jpg
LOCATION:
END:VEVENT
BEGIN:VEVENT
DTSTART;TZID=Europe/London:20261107T120000
DTEND;TZID=Europe/London:20261107T140000
DTSTAMP:20260421T152704
CREATED:20251112T143438Z
LAST-MODIFIED:20251112T150145Z
UID:10010317-1794052800-1794060000@wseo.digital
SUMMARY:Graeham Bamford
DESCRIPTION:
URL:https://wseo.digital/event/graeham-b-p/2026-11-07/
ATTACH;FMTTYPE=image/jpeg:https://wseo.digital/wp-content/uploads/2025/11/Graeham-B-P.jpg
LOCATION:
END:VEVENT
BEGIN:VEVENT
DTSTART;TZID=Europe/London:20261114T120000
DTEND;TZID=Europe/London:20261114T140000
DTSTAMP:20260421T152704
CREATED:20251112T143438Z
LAST-MODIFIED:20251112T150145Z
UID:10010318-1794657600-1794664800@wseo.digital
SUMMARY:Graeham Bamford
DESCRIPTION:
URL:https://wseo.digital/event/graeham-b-p/2026-11-14/
ATTACH;FMTTYPE=image/jpeg:https://wseo.digital/wp-content/uploads/2025/11/Graeham-B-P.jpg
LOCATION:
END:VEVENT
END:VCALENDAR