BEGIN:VCALENDAR
VERSION:2.0
PRODID:-//wseodigital - ECPv6.15.13//NONSGML v1.0//EN
CALSCALE:GREGORIAN
METHOD:PUBLISH
X-WR-CALNAME:wseodigital
X-ORIGINAL-URL:https://wseo.digital
X-WR-CALDESC:Events for wseodigital
REFRESH-INTERVAL;VALUE=DURATION:PT1H
X-Robots-Tag:noindex
X-PUBLISHED-TTL:PT1H
BEGIN:VTIMEZONE
TZID:Europe/London
BEGIN:DAYLIGHT
TZOFFSETFROM:+0000
TZOFFSETTO:+0100
TZNAME:BST
DTSTART:20250330T010000
END:DAYLIGHT
BEGIN:STANDARD
TZOFFSETFROM:+0100
TZOFFSETTO:+0000
TZNAME:GMT
DTSTART:20251026T010000
END:STANDARD
BEGIN:DAYLIGHT
TZOFFSETFROM:+0000
TZOFFSETTO:+0100
TZNAME:BST
DTSTART:20260329T010000
END:DAYLIGHT
BEGIN:STANDARD
TZOFFSETFROM:+0100
TZOFFSETTO:+0000
TZNAME:GMT
DTSTART:20261025T010000
END:STANDARD
BEGIN:DAYLIGHT
TZOFFSETFROM:+0000
TZOFFSETTO:+0100
TZNAME:BST
DTSTART:20270328T010000
END:DAYLIGHT
BEGIN:STANDARD
TZOFFSETFROM:+0100
TZOFFSETTO:+0000
TZNAME:GMT
DTSTART:20271031T010000
END:STANDARD
END:VTIMEZONE
BEGIN:VEVENT
DTSTART;TZID=Europe/London:20260422T180000
DTEND;TZID=Europe/London:20260422T200000
DTSTAMP:20260421T181618
CREATED:20251112T143608Z
LAST-MODIFIED:20251112T150636Z
UID:10010550-1776880800-1776888000@wseo.digital
SUMMARY:Mr Baylis
DESCRIPTION:
URL:https://wseo.digital/event/mr-baylis/2026-04-22/
ATTACH;FMTTYPE=image/jpeg:https://wseo.digital/wp-content/uploads/2025/11/Mr-Baylis-1.jpg
LOCATION:
END:VEVENT
BEGIN:VEVENT
DTSTART;TZID=Europe/London:20260429T180000
DTEND;TZID=Europe/London:20260429T200000
DTSTAMP:20260421T181618
CREATED:20251112T143608Z
LAST-MODIFIED:20251112T150636Z
UID:10010551-1777485600-1777492800@wseo.digital
SUMMARY:Mr Baylis
DESCRIPTION:
URL:https://wseo.digital/event/mr-baylis/2026-04-29/
ATTACH;FMTTYPE=image/jpeg:https://wseo.digital/wp-content/uploads/2025/11/Mr-Baylis-1.jpg
LOCATION:
END:VEVENT
BEGIN:VEVENT
DTSTART;TZID=Europe/London:20260506T180000
DTEND;TZID=Europe/London:20260506T200000
DTSTAMP:20260421T181618
CREATED:20251112T143608Z
LAST-MODIFIED:20251112T150636Z
UID:10010552-1778090400-1778097600@wseo.digital
SUMMARY:Mr Baylis
DESCRIPTION:
URL:https://wseo.digital/event/mr-baylis/2026-05-06/
ATTACH;FMTTYPE=image/jpeg:https://wseo.digital/wp-content/uploads/2025/11/Mr-Baylis-1.jpg
LOCATION:
END:VEVENT
BEGIN:VEVENT
DTSTART;TZID=Europe/London:20260513T180000
DTEND;TZID=Europe/London:20260513T200000
DTSTAMP:20260421T181618
CREATED:20251112T143608Z
LAST-MODIFIED:20251112T150636Z
UID:10010553-1778695200-1778702400@wseo.digital
SUMMARY:Mr Baylis
DESCRIPTION:
URL:https://wseo.digital/event/mr-baylis/2026-05-13/
ATTACH;FMTTYPE=image/jpeg:https://wseo.digital/wp-content/uploads/2025/11/Mr-Baylis-1.jpg
LOCATION:
END:VEVENT
BEGIN:VEVENT
DTSTART;TZID=Europe/London:20260520T180000
DTEND;TZID=Europe/London:20260520T200000
DTSTAMP:20260421T181618
CREATED:20251112T143608Z
LAST-MODIFIED:20251112T150636Z
UID:10010554-1779300000-1779307200@wseo.digital
SUMMARY:Mr Baylis
DESCRIPTION:
URL:https://wseo.digital/event/mr-baylis/2026-05-20/
ATTACH;FMTTYPE=image/jpeg:https://wseo.digital/wp-content/uploads/2025/11/Mr-Baylis-1.jpg
LOCATION:
END:VEVENT
BEGIN:VEVENT
DTSTART;TZID=Europe/London:20260527T180000
DTEND;TZID=Europe/London:20260527T200000
DTSTAMP:20260421T181618
CREATED:20251112T143608Z
LAST-MODIFIED:20251112T150636Z
UID:10010555-1779904800-1779912000@wseo.digital
SUMMARY:Mr Baylis
DESCRIPTION:
URL:https://wseo.digital/event/mr-baylis/2026-05-27/
ATTACH;FMTTYPE=image/jpeg:https://wseo.digital/wp-content/uploads/2025/11/Mr-Baylis-1.jpg
LOCATION:
END:VEVENT
BEGIN:VEVENT
DTSTART;TZID=Europe/London:20260603T180000
DTEND;TZID=Europe/London:20260603T200000
DTSTAMP:20260421T181618
CREATED:20251112T143608Z
LAST-MODIFIED:20251112T150636Z
UID:10010556-1780509600-1780516800@wseo.digital
SUMMARY:Mr Baylis
DESCRIPTION:
URL:https://wseo.digital/event/mr-baylis/2026-06-03/
ATTACH;FMTTYPE=image/jpeg:https://wseo.digital/wp-content/uploads/2025/11/Mr-Baylis-1.jpg
LOCATION:
END:VEVENT
BEGIN:VEVENT
DTSTART;TZID=Europe/London:20260610T180000
DTEND;TZID=Europe/London:20260610T200000
DTSTAMP:20260421T181618
CREATED:20251112T143608Z
LAST-MODIFIED:20251112T150636Z
UID:10010557-1781114400-1781121600@wseo.digital
SUMMARY:Mr Baylis
DESCRIPTION:
URL:https://wseo.digital/event/mr-baylis/2026-06-10/
ATTACH;FMTTYPE=image/jpeg:https://wseo.digital/wp-content/uploads/2025/11/Mr-Baylis-1.jpg
LOCATION:
END:VEVENT
BEGIN:VEVENT
DTSTART;TZID=Europe/London:20260617T180000
DTEND;TZID=Europe/London:20260617T200000
DTSTAMP:20260421T181618
CREATED:20251112T143608Z
LAST-MODIFIED:20251112T150636Z
UID:10010558-1781719200-1781726400@wseo.digital
SUMMARY:Mr Baylis
DESCRIPTION:
URL:https://wseo.digital/event/mr-baylis/2026-06-17/
ATTACH;FMTTYPE=image/jpeg:https://wseo.digital/wp-content/uploads/2025/11/Mr-Baylis-1.jpg
LOCATION:
END:VEVENT
BEGIN:VEVENT
DTSTART;TZID=Europe/London:20260624T180000
DTEND;TZID=Europe/London:20260624T200000
DTSTAMP:20260421T181618
CREATED:20251112T143608Z
LAST-MODIFIED:20251112T150636Z
UID:10010559-1782324000-1782331200@wseo.digital
SUMMARY:Mr Baylis
DESCRIPTION:
URL:https://wseo.digital/event/mr-baylis/2026-06-24/
ATTACH;FMTTYPE=image/jpeg:https://wseo.digital/wp-content/uploads/2025/11/Mr-Baylis-1.jpg
LOCATION:
END:VEVENT
BEGIN:VEVENT
DTSTART;TZID=Europe/London:20260701T180000
DTEND;TZID=Europe/London:20260701T200000
DTSTAMP:20260421T181618
CREATED:20251112T143608Z
LAST-MODIFIED:20251112T150636Z
UID:10010560-1782928800-1782936000@wseo.digital
SUMMARY:Mr Baylis
DESCRIPTION:
URL:https://wseo.digital/event/mr-baylis/2026-07-01/
ATTACH;FMTTYPE=image/jpeg:https://wseo.digital/wp-content/uploads/2025/11/Mr-Baylis-1.jpg
LOCATION:
END:VEVENT
BEGIN:VEVENT
DTSTART;TZID=Europe/London:20260708T180000
DTEND;TZID=Europe/London:20260708T200000
DTSTAMP:20260421T181618
CREATED:20251112T143608Z
LAST-MODIFIED:20251112T150636Z
UID:10010561-1783533600-1783540800@wseo.digital
SUMMARY:Mr Baylis
DESCRIPTION:
URL:https://wseo.digital/event/mr-baylis/2026-07-08/
ATTACH;FMTTYPE=image/jpeg:https://wseo.digital/wp-content/uploads/2025/11/Mr-Baylis-1.jpg
LOCATION:
END:VEVENT
BEGIN:VEVENT
DTSTART;TZID=Europe/London:20260715T180000
DTEND;TZID=Europe/London:20260715T200000
DTSTAMP:20260421T181618
CREATED:20251112T143608Z
LAST-MODIFIED:20251112T150636Z
UID:10010562-1784138400-1784145600@wseo.digital
SUMMARY:Mr Baylis
DESCRIPTION:
URL:https://wseo.digital/event/mr-baylis/2026-07-15/
ATTACH;FMTTYPE=image/jpeg:https://wseo.digital/wp-content/uploads/2025/11/Mr-Baylis-1.jpg
LOCATION:
END:VEVENT
BEGIN:VEVENT
DTSTART;TZID=Europe/London:20260722T180000
DTEND;TZID=Europe/London:20260722T200000
DTSTAMP:20260421T181618
CREATED:20251112T143608Z
LAST-MODIFIED:20251112T150636Z
UID:10010563-1784743200-1784750400@wseo.digital
SUMMARY:Mr Baylis
DESCRIPTION:
URL:https://wseo.digital/event/mr-baylis/2026-07-22/
ATTACH;FMTTYPE=image/jpeg:https://wseo.digital/wp-content/uploads/2025/11/Mr-Baylis-1.jpg
LOCATION:
END:VEVENT
BEGIN:VEVENT
DTSTART;TZID=Europe/London:20260729T180000
DTEND;TZID=Europe/London:20260729T200000
DTSTAMP:20260421T181618
CREATED:20251112T143608Z
LAST-MODIFIED:20251112T150636Z
UID:10010564-1785348000-1785355200@wseo.digital
SUMMARY:Mr Baylis
DESCRIPTION:
URL:https://wseo.digital/event/mr-baylis/2026-07-29/
ATTACH;FMTTYPE=image/jpeg:https://wseo.digital/wp-content/uploads/2025/11/Mr-Baylis-1.jpg
LOCATION:
END:VEVENT
BEGIN:VEVENT
DTSTART;TZID=Europe/London:20260805T180000
DTEND;TZID=Europe/London:20260805T200000
DTSTAMP:20260421T181618
CREATED:20251112T143608Z
LAST-MODIFIED:20251112T150636Z
UID:10010565-1785952800-1785960000@wseo.digital
SUMMARY:Mr Baylis
DESCRIPTION:
URL:https://wseo.digital/event/mr-baylis/2026-08-05/
ATTACH;FMTTYPE=image/jpeg:https://wseo.digital/wp-content/uploads/2025/11/Mr-Baylis-1.jpg
LOCATION:
END:VEVENT
BEGIN:VEVENT
DTSTART;TZID=Europe/London:20260812T180000
DTEND;TZID=Europe/London:20260812T200000
DTSTAMP:20260421T181618
CREATED:20251112T143608Z
LAST-MODIFIED:20251112T150636Z
UID:10010566-1786557600-1786564800@wseo.digital
SUMMARY:Mr Baylis
DESCRIPTION:
URL:https://wseo.digital/event/mr-baylis/2026-08-12/
ATTACH;FMTTYPE=image/jpeg:https://wseo.digital/wp-content/uploads/2025/11/Mr-Baylis-1.jpg
LOCATION:
END:VEVENT
BEGIN:VEVENT
DTSTART;TZID=Europe/London:20260819T180000
DTEND;TZID=Europe/London:20260819T200000
DTSTAMP:20260421T181618
CREATED:20251112T143608Z
LAST-MODIFIED:20251112T150636Z
UID:10010567-1787162400-1787169600@wseo.digital
SUMMARY:Mr Baylis
DESCRIPTION:
URL:https://wseo.digital/event/mr-baylis/2026-08-19/
ATTACH;FMTTYPE=image/jpeg:https://wseo.digital/wp-content/uploads/2025/11/Mr-Baylis-1.jpg
LOCATION:
END:VEVENT
BEGIN:VEVENT
DTSTART;TZID=Europe/London:20260826T180000
DTEND;TZID=Europe/London:20260826T200000
DTSTAMP:20260421T181618
CREATED:20251112T143608Z
LAST-MODIFIED:20251112T150636Z
UID:10010568-1787767200-1787774400@wseo.digital
SUMMARY:Mr Baylis
DESCRIPTION:
URL:https://wseo.digital/event/mr-baylis/2026-08-26/
ATTACH;FMTTYPE=image/jpeg:https://wseo.digital/wp-content/uploads/2025/11/Mr-Baylis-1.jpg
LOCATION:
END:VEVENT
BEGIN:VEVENT
DTSTART;TZID=Europe/London:20260902T180000
DTEND;TZID=Europe/London:20260902T200000
DTSTAMP:20260421T181618
CREATED:20251112T143608Z
LAST-MODIFIED:20251112T150636Z
UID:10010569-1788372000-1788379200@wseo.digital
SUMMARY:Mr Baylis
DESCRIPTION:
URL:https://wseo.digital/event/mr-baylis/2026-09-02/
ATTACH;FMTTYPE=image/jpeg:https://wseo.digital/wp-content/uploads/2025/11/Mr-Baylis-1.jpg
LOCATION:
END:VEVENT
BEGIN:VEVENT
DTSTART;TZID=Europe/London:20260909T180000
DTEND;TZID=Europe/London:20260909T200000
DTSTAMP:20260421T181618
CREATED:20251112T143608Z
LAST-MODIFIED:20251112T150636Z
UID:10010570-1788976800-1788984000@wseo.digital
SUMMARY:Mr Baylis
DESCRIPTION:
URL:https://wseo.digital/event/mr-baylis/2026-09-09/
ATTACH;FMTTYPE=image/jpeg:https://wseo.digital/wp-content/uploads/2025/11/Mr-Baylis-1.jpg
LOCATION:
END:VEVENT
BEGIN:VEVENT
DTSTART;TZID=Europe/London:20260916T180000
DTEND;TZID=Europe/London:20260916T200000
DTSTAMP:20260421T181618
CREATED:20251112T143608Z
LAST-MODIFIED:20251112T150636Z
UID:10010571-1789581600-1789588800@wseo.digital
SUMMARY:Mr Baylis
DESCRIPTION:
URL:https://wseo.digital/event/mr-baylis/2026-09-16/
ATTACH;FMTTYPE=image/jpeg:https://wseo.digital/wp-content/uploads/2025/11/Mr-Baylis-1.jpg
LOCATION:
END:VEVENT
BEGIN:VEVENT
DTSTART;TZID=Europe/London:20260923T180000
DTEND;TZID=Europe/London:20260923T200000
DTSTAMP:20260421T181618
CREATED:20251112T143608Z
LAST-MODIFIED:20251112T150636Z
UID:10010572-1790186400-1790193600@wseo.digital
SUMMARY:Mr Baylis
DESCRIPTION:
URL:https://wseo.digital/event/mr-baylis/2026-09-23/
ATTACH;FMTTYPE=image/jpeg:https://wseo.digital/wp-content/uploads/2025/11/Mr-Baylis-1.jpg
LOCATION:
END:VEVENT
BEGIN:VEVENT
DTSTART;TZID=Europe/London:20260930T180000
DTEND;TZID=Europe/London:20260930T200000
DTSTAMP:20260421T181618
CREATED:20251112T143608Z
LAST-MODIFIED:20251112T150636Z
UID:10010573-1790791200-1790798400@wseo.digital
SUMMARY:Mr Baylis
DESCRIPTION:
URL:https://wseo.digital/event/mr-baylis/2026-09-30/
ATTACH;FMTTYPE=image/jpeg:https://wseo.digital/wp-content/uploads/2025/11/Mr-Baylis-1.jpg
LOCATION:
END:VEVENT
BEGIN:VEVENT
DTSTART;TZID=Europe/London:20261007T180000
DTEND;TZID=Europe/London:20261007T200000
DTSTAMP:20260421T181618
CREATED:20251112T143608Z
LAST-MODIFIED:20251112T150636Z
UID:10010574-1791396000-1791403200@wseo.digital
SUMMARY:Mr Baylis
DESCRIPTION:
URL:https://wseo.digital/event/mr-baylis/2026-10-07/
ATTACH;FMTTYPE=image/jpeg:https://wseo.digital/wp-content/uploads/2025/11/Mr-Baylis-1.jpg
LOCATION:
END:VEVENT
BEGIN:VEVENT
DTSTART;TZID=Europe/London:20261014T180000
DTEND;TZID=Europe/London:20261014T200000
DTSTAMP:20260421T181618
CREATED:20251112T143608Z
LAST-MODIFIED:20251112T150636Z
UID:10010575-1792000800-1792008000@wseo.digital
SUMMARY:Mr Baylis
DESCRIPTION:
URL:https://wseo.digital/event/mr-baylis/2026-10-14/
ATTACH;FMTTYPE=image/jpeg:https://wseo.digital/wp-content/uploads/2025/11/Mr-Baylis-1.jpg
LOCATION:
END:VEVENT
BEGIN:VEVENT
DTSTART;TZID=Europe/London:20261021T180000
DTEND;TZID=Europe/London:20261021T200000
DTSTAMP:20260421T181618
CREATED:20251112T143608Z
LAST-MODIFIED:20251112T150636Z
UID:10010576-1792605600-1792612800@wseo.digital
SUMMARY:Mr Baylis
DESCRIPTION:
URL:https://wseo.digital/event/mr-baylis/2026-10-21/
ATTACH;FMTTYPE=image/jpeg:https://wseo.digital/wp-content/uploads/2025/11/Mr-Baylis-1.jpg
LOCATION:
END:VEVENT
BEGIN:VEVENT
DTSTART;TZID=Europe/London:20261028T180000
DTEND;TZID=Europe/London:20261028T200000
DTSTAMP:20260421T181618
CREATED:20251112T143608Z
LAST-MODIFIED:20251112T150636Z
UID:10010577-1793210400-1793217600@wseo.digital
SUMMARY:Mr Baylis
DESCRIPTION:
URL:https://wseo.digital/event/mr-baylis/2026-10-28/
ATTACH;FMTTYPE=image/jpeg:https://wseo.digital/wp-content/uploads/2025/11/Mr-Baylis-1.jpg
LOCATION:
END:VEVENT
BEGIN:VEVENT
DTSTART;TZID=Europe/London:20261104T180000
DTEND;TZID=Europe/London:20261104T200000
DTSTAMP:20260421T181618
CREATED:20251112T143608Z
LAST-MODIFIED:20251112T150636Z
UID:10010578-1793815200-1793822400@wseo.digital
SUMMARY:Mr Baylis
DESCRIPTION:
URL:https://wseo.digital/event/mr-baylis/2026-11-04/
ATTACH;FMTTYPE=image/jpeg:https://wseo.digital/wp-content/uploads/2025/11/Mr-Baylis-1.jpg
LOCATION:
END:VEVENT
BEGIN:VEVENT
DTSTART;TZID=Europe/London:20261111T180000
DTEND;TZID=Europe/London:20261111T200000
DTSTAMP:20260421T181618
CREATED:20251112T143608Z
LAST-MODIFIED:20251112T150636Z
UID:10010579-1794420000-1794427200@wseo.digital
SUMMARY:Mr Baylis
DESCRIPTION:
URL:https://wseo.digital/event/mr-baylis/2026-11-11/
ATTACH;FMTTYPE=image/jpeg:https://wseo.digital/wp-content/uploads/2025/11/Mr-Baylis-1.jpg
LOCATION:
END:VEVENT
END:VCALENDAR