BEGIN:VCALENDAR
VERSION:2.0
PRODID:-//wseodigital - ECPv6.15.13//NONSGML v1.0//EN
CALSCALE:GREGORIAN
METHOD:PUBLISH
X-WR-CALNAME:wseodigital
X-ORIGINAL-URL:https://wseo.digital
X-WR-CALDESC:Events for wseodigital
REFRESH-INTERVAL;VALUE=DURATION:PT1H
X-Robots-Tag:noindex
X-PUBLISHED-TTL:PT1H
BEGIN:VTIMEZONE
TZID:Europe/London
BEGIN:DAYLIGHT
TZOFFSETFROM:+0000
TZOFFSETTO:+0100
TZNAME:BST
DTSTART:20250330T010000
END:DAYLIGHT
BEGIN:STANDARD
TZOFFSETFROM:+0100
TZOFFSETTO:+0000
TZNAME:GMT
DTSTART:20251026T010000
END:STANDARD
BEGIN:DAYLIGHT
TZOFFSETFROM:+0000
TZOFFSETTO:+0100
TZNAME:BST
DTSTART:20260329T010000
END:DAYLIGHT
BEGIN:STANDARD
TZOFFSETFROM:+0100
TZOFFSETTO:+0000
TZNAME:GMT
DTSTART:20261025T010000
END:STANDARD
BEGIN:DAYLIGHT
TZOFFSETFROM:+0000
TZOFFSETTO:+0100
TZNAME:BST
DTSTART:20270328T010000
END:DAYLIGHT
BEGIN:STANDARD
TZOFFSETFROM:+0100
TZOFFSETTO:+0000
TZNAME:GMT
DTSTART:20271031T010000
END:STANDARD
END:VTIMEZONE
BEGIN:VEVENT
DTSTART;TZID=Europe/London:20260427T200000
DTEND;TZID=Europe/London:20260427T220000
DTSTAMP:20260421T195117
CREATED:20251228T164043Z
LAST-MODIFIED:20251228T164043Z
UID:10012385-1777320000-1777327200@wseo.digital
SUMMARY:DJ TBC (01/02/26)
DESCRIPTION:DJ TBC (01/02/26)
URL:https://wseo.digital/event/vacant-show-mon-8pm-10pm-2/2026-04-27/
ATTACH;FMTTYPE=image/webp:https://wseo.digital/wp-content/uploads/2025/11/slim-radio-show-1.webp
LOCATION:
END:VEVENT
BEGIN:VEVENT
DTSTART;TZID=Europe/London:20260504T200000
DTEND;TZID=Europe/London:20260504T220000
DTSTAMP:20260421T195117
CREATED:20251228T164043Z
LAST-MODIFIED:20251228T164043Z
UID:10012386-1777924800-1777932000@wseo.digital
SUMMARY:DJ TBC (01/02/26)
DESCRIPTION:DJ TBC (01/02/26)
URL:https://wseo.digital/event/vacant-show-mon-8pm-10pm-2/2026-05-04/
ATTACH;FMTTYPE=image/webp:https://wseo.digital/wp-content/uploads/2025/11/slim-radio-show-1.webp
LOCATION:
END:VEVENT
BEGIN:VEVENT
DTSTART;TZID=Europe/London:20260511T200000
DTEND;TZID=Europe/London:20260511T220000
DTSTAMP:20260421T195117
CREATED:20251228T164043Z
LAST-MODIFIED:20251228T164043Z
UID:10012387-1778529600-1778536800@wseo.digital
SUMMARY:DJ TBC (01/02/26)
DESCRIPTION:DJ TBC (01/02/26)
URL:https://wseo.digital/event/vacant-show-mon-8pm-10pm-2/2026-05-11/
ATTACH;FMTTYPE=image/webp:https://wseo.digital/wp-content/uploads/2025/11/slim-radio-show-1.webp
LOCATION:
END:VEVENT
BEGIN:VEVENT
DTSTART;TZID=Europe/London:20260518T200000
DTEND;TZID=Europe/London:20260518T220000
DTSTAMP:20260421T195117
CREATED:20251228T164043Z
LAST-MODIFIED:20251228T164043Z
UID:10012388-1779134400-1779141600@wseo.digital
SUMMARY:DJ TBC (01/02/26)
DESCRIPTION:DJ TBC (01/02/26)
URL:https://wseo.digital/event/vacant-show-mon-8pm-10pm-2/2026-05-18/
ATTACH;FMTTYPE=image/webp:https://wseo.digital/wp-content/uploads/2025/11/slim-radio-show-1.webp
LOCATION:
END:VEVENT
BEGIN:VEVENT
DTSTART;TZID=Europe/London:20260525T200000
DTEND;TZID=Europe/London:20260525T220000
DTSTAMP:20260421T195117
CREATED:20251228T164043Z
LAST-MODIFIED:20251228T164043Z
UID:10012389-1779739200-1779746400@wseo.digital
SUMMARY:DJ TBC (01/02/26)
DESCRIPTION:DJ TBC (01/02/26)
URL:https://wseo.digital/event/vacant-show-mon-8pm-10pm-2/2026-05-25/
ATTACH;FMTTYPE=image/webp:https://wseo.digital/wp-content/uploads/2025/11/slim-radio-show-1.webp
LOCATION:
END:VEVENT
BEGIN:VEVENT
DTSTART;TZID=Europe/London:20260601T200000
DTEND;TZID=Europe/London:20260601T220000
DTSTAMP:20260421T195117
CREATED:20251228T164043Z
LAST-MODIFIED:20251228T164043Z
UID:10012390-1780344000-1780351200@wseo.digital
SUMMARY:DJ TBC (01/02/26)
DESCRIPTION:DJ TBC (01/02/26)
URL:https://wseo.digital/event/vacant-show-mon-8pm-10pm-2/2026-06-01/
ATTACH;FMTTYPE=image/webp:https://wseo.digital/wp-content/uploads/2025/11/slim-radio-show-1.webp
LOCATION:
END:VEVENT
BEGIN:VEVENT
DTSTART;TZID=Europe/London:20260608T200000
DTEND;TZID=Europe/London:20260608T220000
DTSTAMP:20260421T195117
CREATED:20251228T164043Z
LAST-MODIFIED:20251228T164043Z
UID:10012391-1780948800-1780956000@wseo.digital
SUMMARY:DJ TBC (01/02/26)
DESCRIPTION:DJ TBC (01/02/26)
URL:https://wseo.digital/event/vacant-show-mon-8pm-10pm-2/2026-06-08/
ATTACH;FMTTYPE=image/webp:https://wseo.digital/wp-content/uploads/2025/11/slim-radio-show-1.webp
LOCATION:
END:VEVENT
BEGIN:VEVENT
DTSTART;TZID=Europe/London:20260615T200000
DTEND;TZID=Europe/London:20260615T220000
DTSTAMP:20260421T195118
CREATED:20251228T164043Z
LAST-MODIFIED:20251228T164043Z
UID:10012392-1781553600-1781560800@wseo.digital
SUMMARY:DJ TBC (01/02/26)
DESCRIPTION:DJ TBC (01/02/26)
URL:https://wseo.digital/event/vacant-show-mon-8pm-10pm-2/2026-06-15/
ATTACH;FMTTYPE=image/webp:https://wseo.digital/wp-content/uploads/2025/11/slim-radio-show-1.webp
LOCATION:
END:VEVENT
BEGIN:VEVENT
DTSTART;TZID=Europe/London:20260622T200000
DTEND;TZID=Europe/London:20260622T220000
DTSTAMP:20260421T195118
CREATED:20251228T164043Z
LAST-MODIFIED:20251228T164043Z
UID:10012393-1782158400-1782165600@wseo.digital
SUMMARY:DJ TBC (01/02/26)
DESCRIPTION:DJ TBC (01/02/26)
URL:https://wseo.digital/event/vacant-show-mon-8pm-10pm-2/2026-06-22/
ATTACH;FMTTYPE=image/webp:https://wseo.digital/wp-content/uploads/2025/11/slim-radio-show-1.webp
LOCATION:
END:VEVENT
BEGIN:VEVENT
DTSTART;TZID=Europe/London:20260629T200000
DTEND;TZID=Europe/London:20260629T220000
DTSTAMP:20260421T195118
CREATED:20251228T164043Z
LAST-MODIFIED:20251228T164043Z
UID:10012394-1782763200-1782770400@wseo.digital
SUMMARY:DJ TBC (01/02/26)
DESCRIPTION:DJ TBC (01/02/26)
URL:https://wseo.digital/event/vacant-show-mon-8pm-10pm-2/2026-06-29/
ATTACH;FMTTYPE=image/webp:https://wseo.digital/wp-content/uploads/2025/11/slim-radio-show-1.webp
LOCATION:
END:VEVENT
BEGIN:VEVENT
DTSTART;TZID=Europe/London:20260706T200000
DTEND;TZID=Europe/London:20260706T220000
DTSTAMP:20260421T195118
CREATED:20251228T164043Z
LAST-MODIFIED:20251228T164043Z
UID:10012395-1783368000-1783375200@wseo.digital
SUMMARY:DJ TBC (01/02/26)
DESCRIPTION:DJ TBC (01/02/26)
URL:https://wseo.digital/event/vacant-show-mon-8pm-10pm-2/2026-07-06/
ATTACH;FMTTYPE=image/webp:https://wseo.digital/wp-content/uploads/2025/11/slim-radio-show-1.webp
LOCATION:
END:VEVENT
BEGIN:VEVENT
DTSTART;TZID=Europe/London:20260713T200000
DTEND;TZID=Europe/London:20260713T220000
DTSTAMP:20260421T195118
CREATED:20251228T164043Z
LAST-MODIFIED:20251228T164043Z
UID:10012396-1783972800-1783980000@wseo.digital
SUMMARY:DJ TBC (01/02/26)
DESCRIPTION:DJ TBC (01/02/26)
URL:https://wseo.digital/event/vacant-show-mon-8pm-10pm-2/2026-07-13/
ATTACH;FMTTYPE=image/webp:https://wseo.digital/wp-content/uploads/2025/11/slim-radio-show-1.webp
LOCATION:
END:VEVENT
BEGIN:VEVENT
DTSTART;TZID=Europe/London:20260720T200000
DTEND;TZID=Europe/London:20260720T220000
DTSTAMP:20260421T195118
CREATED:20251228T164043Z
LAST-MODIFIED:20251228T164043Z
UID:10012397-1784577600-1784584800@wseo.digital
SUMMARY:DJ TBC (01/02/26)
DESCRIPTION:DJ TBC (01/02/26)
URL:https://wseo.digital/event/vacant-show-mon-8pm-10pm-2/2026-07-20/
ATTACH;FMTTYPE=image/webp:https://wseo.digital/wp-content/uploads/2025/11/slim-radio-show-1.webp
LOCATION:
END:VEVENT
BEGIN:VEVENT
DTSTART;TZID=Europe/London:20260727T200000
DTEND;TZID=Europe/London:20260727T220000
DTSTAMP:20260421T195118
CREATED:20251228T164043Z
LAST-MODIFIED:20251228T164043Z
UID:10012398-1785182400-1785189600@wseo.digital
SUMMARY:DJ TBC (01/02/26)
DESCRIPTION:DJ TBC (01/02/26)
URL:https://wseo.digital/event/vacant-show-mon-8pm-10pm-2/2026-07-27/
ATTACH;FMTTYPE=image/webp:https://wseo.digital/wp-content/uploads/2025/11/slim-radio-show-1.webp
LOCATION:
END:VEVENT
BEGIN:VEVENT
DTSTART;TZID=Europe/London:20260803T200000
DTEND;TZID=Europe/London:20260803T220000
DTSTAMP:20260421T195118
CREATED:20251228T164043Z
LAST-MODIFIED:20251228T164043Z
UID:10012399-1785787200-1785794400@wseo.digital
SUMMARY:DJ TBC (01/02/26)
DESCRIPTION:DJ TBC (01/02/26)
URL:https://wseo.digital/event/vacant-show-mon-8pm-10pm-2/2026-08-03/
ATTACH;FMTTYPE=image/webp:https://wseo.digital/wp-content/uploads/2025/11/slim-radio-show-1.webp
LOCATION:
END:VEVENT
BEGIN:VEVENT
DTSTART;TZID=Europe/London:20260810T200000
DTEND;TZID=Europe/London:20260810T220000
DTSTAMP:20260421T195118
CREATED:20251228T164043Z
LAST-MODIFIED:20251228T164043Z
UID:10012400-1786392000-1786399200@wseo.digital
SUMMARY:DJ TBC (01/02/26)
DESCRIPTION:DJ TBC (01/02/26)
URL:https://wseo.digital/event/vacant-show-mon-8pm-10pm-2/2026-08-10/
ATTACH;FMTTYPE=image/webp:https://wseo.digital/wp-content/uploads/2025/11/slim-radio-show-1.webp
LOCATION:
END:VEVENT
BEGIN:VEVENT
DTSTART;TZID=Europe/London:20260817T200000
DTEND;TZID=Europe/London:20260817T220000
DTSTAMP:20260421T195118
CREATED:20251228T164043Z
LAST-MODIFIED:20251228T164043Z
UID:10012401-1786996800-1787004000@wseo.digital
SUMMARY:DJ TBC (01/02/26)
DESCRIPTION:DJ TBC (01/02/26)
URL:https://wseo.digital/event/vacant-show-mon-8pm-10pm-2/2026-08-17/
ATTACH;FMTTYPE=image/webp:https://wseo.digital/wp-content/uploads/2025/11/slim-radio-show-1.webp
LOCATION:
END:VEVENT
BEGIN:VEVENT
DTSTART;TZID=Europe/London:20260824T200000
DTEND;TZID=Europe/London:20260824T220000
DTSTAMP:20260421T195118
CREATED:20251228T164043Z
LAST-MODIFIED:20251228T164043Z
UID:10012402-1787601600-1787608800@wseo.digital
SUMMARY:DJ TBC (01/02/26)
DESCRIPTION:DJ TBC (01/02/26)
URL:https://wseo.digital/event/vacant-show-mon-8pm-10pm-2/2026-08-24/
ATTACH;FMTTYPE=image/webp:https://wseo.digital/wp-content/uploads/2025/11/slim-radio-show-1.webp
LOCATION:
END:VEVENT
BEGIN:VEVENT
DTSTART;TZID=Europe/London:20260831T200000
DTEND;TZID=Europe/London:20260831T220000
DTSTAMP:20260421T195118
CREATED:20251228T164043Z
LAST-MODIFIED:20251228T164043Z
UID:10012403-1788206400-1788213600@wseo.digital
SUMMARY:DJ TBC (01/02/26)
DESCRIPTION:DJ TBC (01/02/26)
URL:https://wseo.digital/event/vacant-show-mon-8pm-10pm-2/2026-08-31/
ATTACH;FMTTYPE=image/webp:https://wseo.digital/wp-content/uploads/2025/11/slim-radio-show-1.webp
LOCATION:
END:VEVENT
BEGIN:VEVENT
DTSTART;TZID=Europe/London:20260907T200000
DTEND;TZID=Europe/London:20260907T220000
DTSTAMP:20260421T195118
CREATED:20251228T164043Z
LAST-MODIFIED:20251228T164043Z
UID:10012404-1788811200-1788818400@wseo.digital
SUMMARY:DJ TBC (01/02/26)
DESCRIPTION:DJ TBC (01/02/26)
URL:https://wseo.digital/event/vacant-show-mon-8pm-10pm-2/2026-09-07/
ATTACH;FMTTYPE=image/webp:https://wseo.digital/wp-content/uploads/2025/11/slim-radio-show-1.webp
LOCATION:
END:VEVENT
BEGIN:VEVENT
DTSTART;TZID=Europe/London:20260914T200000
DTEND;TZID=Europe/London:20260914T220000
DTSTAMP:20260421T195118
CREATED:20251228T164043Z
LAST-MODIFIED:20251228T164043Z
UID:10012405-1789416000-1789423200@wseo.digital
SUMMARY:DJ TBC (01/02/26)
DESCRIPTION:DJ TBC (01/02/26)
URL:https://wseo.digital/event/vacant-show-mon-8pm-10pm-2/2026-09-14/
ATTACH;FMTTYPE=image/webp:https://wseo.digital/wp-content/uploads/2025/11/slim-radio-show-1.webp
LOCATION:
END:VEVENT
BEGIN:VEVENT
DTSTART;TZID=Europe/London:20260921T200000
DTEND;TZID=Europe/London:20260921T220000
DTSTAMP:20260421T195118
CREATED:20251228T164043Z
LAST-MODIFIED:20251228T164043Z
UID:10012406-1790020800-1790028000@wseo.digital
SUMMARY:DJ TBC (01/02/26)
DESCRIPTION:DJ TBC (01/02/26)
URL:https://wseo.digital/event/vacant-show-mon-8pm-10pm-2/2026-09-21/
ATTACH;FMTTYPE=image/webp:https://wseo.digital/wp-content/uploads/2025/11/slim-radio-show-1.webp
LOCATION:
END:VEVENT
BEGIN:VEVENT
DTSTART;TZID=Europe/London:20260928T200000
DTEND;TZID=Europe/London:20260928T220000
DTSTAMP:20260421T195118
CREATED:20251228T164043Z
LAST-MODIFIED:20251228T164043Z
UID:10012407-1790625600-1790632800@wseo.digital
SUMMARY:DJ TBC (01/02/26)
DESCRIPTION:DJ TBC (01/02/26)
URL:https://wseo.digital/event/vacant-show-mon-8pm-10pm-2/2026-09-28/
ATTACH;FMTTYPE=image/webp:https://wseo.digital/wp-content/uploads/2025/11/slim-radio-show-1.webp
LOCATION:
END:VEVENT
BEGIN:VEVENT
DTSTART;TZID=Europe/London:20261005T200000
DTEND;TZID=Europe/London:20261005T220000
DTSTAMP:20260421T195118
CREATED:20251228T164043Z
LAST-MODIFIED:20251228T164043Z
UID:10012408-1791230400-1791237600@wseo.digital
SUMMARY:DJ TBC (01/02/26)
DESCRIPTION:DJ TBC (01/02/26)
URL:https://wseo.digital/event/vacant-show-mon-8pm-10pm-2/2026-10-05/
ATTACH;FMTTYPE=image/webp:https://wseo.digital/wp-content/uploads/2025/11/slim-radio-show-1.webp
LOCATION:
END:VEVENT
BEGIN:VEVENT
DTSTART;TZID=Europe/London:20261012T200000
DTEND;TZID=Europe/London:20261012T220000
DTSTAMP:20260421T195118
CREATED:20251228T164043Z
LAST-MODIFIED:20251228T164043Z
UID:10012409-1791835200-1791842400@wseo.digital
SUMMARY:DJ TBC (01/02/26)
DESCRIPTION:DJ TBC (01/02/26)
URL:https://wseo.digital/event/vacant-show-mon-8pm-10pm-2/2026-10-12/
ATTACH;FMTTYPE=image/webp:https://wseo.digital/wp-content/uploads/2025/11/slim-radio-show-1.webp
LOCATION:
END:VEVENT
BEGIN:VEVENT
DTSTART;TZID=Europe/London:20261019T200000
DTEND;TZID=Europe/London:20261019T220000
DTSTAMP:20260421T195118
CREATED:20251228T164043Z
LAST-MODIFIED:20251228T164043Z
UID:10012410-1792440000-1792447200@wseo.digital
SUMMARY:DJ TBC (01/02/26)
DESCRIPTION:DJ TBC (01/02/26)
URL:https://wseo.digital/event/vacant-show-mon-8pm-10pm-2/2026-10-19/
ATTACH;FMTTYPE=image/webp:https://wseo.digital/wp-content/uploads/2025/11/slim-radio-show-1.webp
LOCATION:
END:VEVENT
BEGIN:VEVENT
DTSTART;TZID=Europe/London:20261026T200000
DTEND;TZID=Europe/London:20261026T220000
DTSTAMP:20260421T195118
CREATED:20251228T164043Z
LAST-MODIFIED:20251228T164043Z
UID:10012411-1793044800-1793052000@wseo.digital
SUMMARY:DJ TBC (01/02/26)
DESCRIPTION:DJ TBC (01/02/26)
URL:https://wseo.digital/event/vacant-show-mon-8pm-10pm-2/2026-10-26/
ATTACH;FMTTYPE=image/webp:https://wseo.digital/wp-content/uploads/2025/11/slim-radio-show-1.webp
LOCATION:
END:VEVENT
BEGIN:VEVENT
DTSTART;TZID=Europe/London:20261102T200000
DTEND;TZID=Europe/London:20261102T220000
DTSTAMP:20260421T195118
CREATED:20251228T164043Z
LAST-MODIFIED:20251228T164043Z
UID:10012412-1793649600-1793656800@wseo.digital
SUMMARY:DJ TBC (01/02/26)
DESCRIPTION:DJ TBC (01/02/26)
URL:https://wseo.digital/event/vacant-show-mon-8pm-10pm-2/2026-11-02/
ATTACH;FMTTYPE=image/webp:https://wseo.digital/wp-content/uploads/2025/11/slim-radio-show-1.webp
LOCATION:
END:VEVENT
BEGIN:VEVENT
DTSTART;TZID=Europe/London:20261109T200000
DTEND;TZID=Europe/London:20261109T220000
DTSTAMP:20260421T195118
CREATED:20251228T164043Z
LAST-MODIFIED:20251228T164043Z
UID:10012413-1794254400-1794261600@wseo.digital
SUMMARY:DJ TBC (01/02/26)
DESCRIPTION:DJ TBC (01/02/26)
URL:https://wseo.digital/event/vacant-show-mon-8pm-10pm-2/2026-11-09/
ATTACH;FMTTYPE=image/webp:https://wseo.digital/wp-content/uploads/2025/11/slim-radio-show-1.webp
LOCATION:
END:VEVENT
BEGIN:VEVENT
DTSTART;TZID=Europe/London:20261116T200000
DTEND;TZID=Europe/London:20261116T220000
DTSTAMP:20260421T195118
CREATED:20251228T164043Z
LAST-MODIFIED:20251228T164043Z
UID:10012414-1794859200-1794866400@wseo.digital
SUMMARY:DJ TBC (01/02/26)
DESCRIPTION:DJ TBC (01/02/26)
URL:https://wseo.digital/event/vacant-show-mon-8pm-10pm-2/2026-11-16/
ATTACH;FMTTYPE=image/webp:https://wseo.digital/wp-content/uploads/2025/11/slim-radio-show-1.webp
LOCATION:
END:VEVENT
END:VCALENDAR