BEGIN:VCALENDAR
VERSION:2.0
PRODID:-//wseodigital - ECPv6.15.13//NONSGML v1.0//EN
CALSCALE:GREGORIAN
METHOD:PUBLISH
X-WR-CALNAME:wseodigital
X-ORIGINAL-URL:https://wseo.digital
X-WR-CALDESC:Events for wseodigital
REFRESH-INTERVAL;VALUE=DURATION:PT1H
X-Robots-Tag:noindex
X-PUBLISHED-TTL:PT1H
BEGIN:VTIMEZONE
TZID:Europe/London
BEGIN:DAYLIGHT
TZOFFSETFROM:+0000
TZOFFSETTO:+0100
TZNAME:BST
DTSTART:20250330T010000
END:DAYLIGHT
BEGIN:STANDARD
TZOFFSETFROM:+0100
TZOFFSETTO:+0000
TZNAME:GMT
DTSTART:20251026T010000
END:STANDARD
BEGIN:DAYLIGHT
TZOFFSETFROM:+0000
TZOFFSETTO:+0100
TZNAME:BST
DTSTART:20260329T010000
END:DAYLIGHT
BEGIN:STANDARD
TZOFFSETFROM:+0100
TZOFFSETTO:+0000
TZNAME:GMT
DTSTART:20261025T010000
END:STANDARD
BEGIN:DAYLIGHT
TZOFFSETFROM:+0000
TZOFFSETTO:+0100
TZNAME:BST
DTSTART:20270328T010000
END:DAYLIGHT
BEGIN:STANDARD
TZOFFSETFROM:+0100
TZOFFSETTO:+0000
TZNAME:GMT
DTSTART:20271031T010000
END:STANDARD
END:VTIMEZONE
BEGIN:VEVENT
DTSTART;TZID=Europe/London:20260427T220000
DTEND;TZID=Europe/London:20260427T233000
DTSTAMP:20260421T222703
CREATED:20251228T162812Z
LAST-MODIFIED:20251228T163651Z
UID:10012647-1777327200-1777332600@wseo.digital
SUMMARY:Slim Bot Mon 10pm -12am
DESCRIPTION:Please email join@slimradio.co.uk if you would like to take this slot
URL:https://wseo.digital/event/vacant-show-mon-10pm-12am-2/2026-04-27/
ATTACH;FMTTYPE=image/jpeg:https://wseo.digital/wp-content/uploads/2025/12/Slimbot.jpg
LOCATION:
END:VEVENT
BEGIN:VEVENT
DTSTART;TZID=Europe/London:20260504T220000
DTEND;TZID=Europe/London:20260504T233000
DTSTAMP:20260421T222703
CREATED:20251228T162812Z
LAST-MODIFIED:20251228T163651Z
UID:10012648-1777932000-1777937400@wseo.digital
SUMMARY:Slim Bot Mon 10pm -12am
DESCRIPTION:Please email join@slimradio.co.uk if you would like to take this slot
URL:https://wseo.digital/event/vacant-show-mon-10pm-12am-2/2026-05-04/
ATTACH;FMTTYPE=image/jpeg:https://wseo.digital/wp-content/uploads/2025/12/Slimbot.jpg
LOCATION:
END:VEVENT
BEGIN:VEVENT
DTSTART;TZID=Europe/London:20260511T220000
DTEND;TZID=Europe/London:20260511T233000
DTSTAMP:20260421T222703
CREATED:20251228T162812Z
LAST-MODIFIED:20251228T163651Z
UID:10012649-1778536800-1778542200@wseo.digital
SUMMARY:Slim Bot Mon 10pm -12am
DESCRIPTION:Please email join@slimradio.co.uk if you would like to take this slot
URL:https://wseo.digital/event/vacant-show-mon-10pm-12am-2/2026-05-11/
ATTACH;FMTTYPE=image/jpeg:https://wseo.digital/wp-content/uploads/2025/12/Slimbot.jpg
LOCATION:
END:VEVENT
BEGIN:VEVENT
DTSTART;TZID=Europe/London:20260518T220000
DTEND;TZID=Europe/London:20260518T233000
DTSTAMP:20260421T222703
CREATED:20251228T162812Z
LAST-MODIFIED:20251228T163651Z
UID:10012650-1779141600-1779147000@wseo.digital
SUMMARY:Slim Bot Mon 10pm -12am
DESCRIPTION:Please email join@slimradio.co.uk if you would like to take this slot
URL:https://wseo.digital/event/vacant-show-mon-10pm-12am-2/2026-05-18/
ATTACH;FMTTYPE=image/jpeg:https://wseo.digital/wp-content/uploads/2025/12/Slimbot.jpg
LOCATION:
END:VEVENT
BEGIN:VEVENT
DTSTART;TZID=Europe/London:20260525T220000
DTEND;TZID=Europe/London:20260525T233000
DTSTAMP:20260421T222703
CREATED:20251228T162812Z
LAST-MODIFIED:20251228T163651Z
UID:10012651-1779746400-1779751800@wseo.digital
SUMMARY:Slim Bot Mon 10pm -12am
DESCRIPTION:Please email join@slimradio.co.uk if you would like to take this slot
URL:https://wseo.digital/event/vacant-show-mon-10pm-12am-2/2026-05-25/
ATTACH;FMTTYPE=image/jpeg:https://wseo.digital/wp-content/uploads/2025/12/Slimbot.jpg
LOCATION:
END:VEVENT
BEGIN:VEVENT
DTSTART;TZID=Europe/London:20260601T220000
DTEND;TZID=Europe/London:20260601T233000
DTSTAMP:20260421T222703
CREATED:20251228T162812Z
LAST-MODIFIED:20251228T163651Z
UID:10012652-1780351200-1780356600@wseo.digital
SUMMARY:Slim Bot Mon 10pm -12am
DESCRIPTION:Please email join@slimradio.co.uk if you would like to take this slot
URL:https://wseo.digital/event/vacant-show-mon-10pm-12am-2/2026-06-01/
ATTACH;FMTTYPE=image/jpeg:https://wseo.digital/wp-content/uploads/2025/12/Slimbot.jpg
LOCATION:
END:VEVENT
BEGIN:VEVENT
DTSTART;TZID=Europe/London:20260608T220000
DTEND;TZID=Europe/London:20260608T233000
DTSTAMP:20260421T222703
CREATED:20251228T162812Z
LAST-MODIFIED:20251228T163651Z
UID:10012653-1780956000-1780961400@wseo.digital
SUMMARY:Slim Bot Mon 10pm -12am
DESCRIPTION:Please email join@slimradio.co.uk if you would like to take this slot
URL:https://wseo.digital/event/vacant-show-mon-10pm-12am-2/2026-06-08/
ATTACH;FMTTYPE=image/jpeg:https://wseo.digital/wp-content/uploads/2025/12/Slimbot.jpg
LOCATION:
END:VEVENT
BEGIN:VEVENT
DTSTART;TZID=Europe/London:20260615T220000
DTEND;TZID=Europe/London:20260615T233000
DTSTAMP:20260421T222703
CREATED:20251228T162812Z
LAST-MODIFIED:20251228T163651Z
UID:10012654-1781560800-1781566200@wseo.digital
SUMMARY:Slim Bot Mon 10pm -12am
DESCRIPTION:Please email join@slimradio.co.uk if you would like to take this slot
URL:https://wseo.digital/event/vacant-show-mon-10pm-12am-2/2026-06-15/
ATTACH;FMTTYPE=image/jpeg:https://wseo.digital/wp-content/uploads/2025/12/Slimbot.jpg
LOCATION:
END:VEVENT
BEGIN:VEVENT
DTSTART;TZID=Europe/London:20260622T220000
DTEND;TZID=Europe/London:20260622T233000
DTSTAMP:20260421T222703
CREATED:20251228T162812Z
LAST-MODIFIED:20251228T163651Z
UID:10012655-1782165600-1782171000@wseo.digital
SUMMARY:Slim Bot Mon 10pm -12am
DESCRIPTION:Please email join@slimradio.co.uk if you would like to take this slot
URL:https://wseo.digital/event/vacant-show-mon-10pm-12am-2/2026-06-22/
ATTACH;FMTTYPE=image/jpeg:https://wseo.digital/wp-content/uploads/2025/12/Slimbot.jpg
LOCATION:
END:VEVENT
BEGIN:VEVENT
DTSTART;TZID=Europe/London:20260629T220000
DTEND;TZID=Europe/London:20260629T233000
DTSTAMP:20260421T222703
CREATED:20251228T162812Z
LAST-MODIFIED:20251228T163651Z
UID:10012656-1782770400-1782775800@wseo.digital
SUMMARY:Slim Bot Mon 10pm -12am
DESCRIPTION:Please email join@slimradio.co.uk if you would like to take this slot
URL:https://wseo.digital/event/vacant-show-mon-10pm-12am-2/2026-06-29/
ATTACH;FMTTYPE=image/jpeg:https://wseo.digital/wp-content/uploads/2025/12/Slimbot.jpg
LOCATION:
END:VEVENT
BEGIN:VEVENT
DTSTART;TZID=Europe/London:20260706T220000
DTEND;TZID=Europe/London:20260706T233000
DTSTAMP:20260421T222703
CREATED:20251228T162812Z
LAST-MODIFIED:20251228T163651Z
UID:10012657-1783375200-1783380600@wseo.digital
SUMMARY:Slim Bot Mon 10pm -12am
DESCRIPTION:Please email join@slimradio.co.uk if you would like to take this slot
URL:https://wseo.digital/event/vacant-show-mon-10pm-12am-2/2026-07-06/
ATTACH;FMTTYPE=image/jpeg:https://wseo.digital/wp-content/uploads/2025/12/Slimbot.jpg
LOCATION:
END:VEVENT
BEGIN:VEVENT
DTSTART;TZID=Europe/London:20260713T220000
DTEND;TZID=Europe/London:20260713T233000
DTSTAMP:20260421T222703
CREATED:20251228T162812Z
LAST-MODIFIED:20251228T163651Z
UID:10012658-1783980000-1783985400@wseo.digital
SUMMARY:Slim Bot Mon 10pm -12am
DESCRIPTION:Please email join@slimradio.co.uk if you would like to take this slot
URL:https://wseo.digital/event/vacant-show-mon-10pm-12am-2/2026-07-13/
ATTACH;FMTTYPE=image/jpeg:https://wseo.digital/wp-content/uploads/2025/12/Slimbot.jpg
LOCATION:
END:VEVENT
BEGIN:VEVENT
DTSTART;TZID=Europe/London:20260720T220000
DTEND;TZID=Europe/London:20260720T233000
DTSTAMP:20260421T222703
CREATED:20251228T162812Z
LAST-MODIFIED:20251228T163651Z
UID:10012659-1784584800-1784590200@wseo.digital
SUMMARY:Slim Bot Mon 10pm -12am
DESCRIPTION:Please email join@slimradio.co.uk if you would like to take this slot
URL:https://wseo.digital/event/vacant-show-mon-10pm-12am-2/2026-07-20/
ATTACH;FMTTYPE=image/jpeg:https://wseo.digital/wp-content/uploads/2025/12/Slimbot.jpg
LOCATION:
END:VEVENT
BEGIN:VEVENT
DTSTART;TZID=Europe/London:20260727T220000
DTEND;TZID=Europe/London:20260727T233000
DTSTAMP:20260421T222703
CREATED:20251228T162812Z
LAST-MODIFIED:20251228T163651Z
UID:10012660-1785189600-1785195000@wseo.digital
SUMMARY:Slim Bot Mon 10pm -12am
DESCRIPTION:Please email join@slimradio.co.uk if you would like to take this slot
URL:https://wseo.digital/event/vacant-show-mon-10pm-12am-2/2026-07-27/
ATTACH;FMTTYPE=image/jpeg:https://wseo.digital/wp-content/uploads/2025/12/Slimbot.jpg
LOCATION:
END:VEVENT
BEGIN:VEVENT
DTSTART;TZID=Europe/London:20260803T220000
DTEND;TZID=Europe/London:20260803T233000
DTSTAMP:20260421T222703
CREATED:20251228T162812Z
LAST-MODIFIED:20251228T163651Z
UID:10012661-1785794400-1785799800@wseo.digital
SUMMARY:Slim Bot Mon 10pm -12am
DESCRIPTION:Please email join@slimradio.co.uk if you would like to take this slot
URL:https://wseo.digital/event/vacant-show-mon-10pm-12am-2/2026-08-03/
ATTACH;FMTTYPE=image/jpeg:https://wseo.digital/wp-content/uploads/2025/12/Slimbot.jpg
LOCATION:
END:VEVENT
BEGIN:VEVENT
DTSTART;TZID=Europe/London:20260810T220000
DTEND;TZID=Europe/London:20260810T233000
DTSTAMP:20260421T222703
CREATED:20251228T162812Z
LAST-MODIFIED:20251228T163651Z
UID:10012662-1786399200-1786404600@wseo.digital
SUMMARY:Slim Bot Mon 10pm -12am
DESCRIPTION:Please email join@slimradio.co.uk if you would like to take this slot
URL:https://wseo.digital/event/vacant-show-mon-10pm-12am-2/2026-08-10/
ATTACH;FMTTYPE=image/jpeg:https://wseo.digital/wp-content/uploads/2025/12/Slimbot.jpg
LOCATION:
END:VEVENT
BEGIN:VEVENT
DTSTART;TZID=Europe/London:20260817T220000
DTEND;TZID=Europe/London:20260817T233000
DTSTAMP:20260421T222703
CREATED:20251228T162812Z
LAST-MODIFIED:20251228T163651Z
UID:10012663-1787004000-1787009400@wseo.digital
SUMMARY:Slim Bot Mon 10pm -12am
DESCRIPTION:Please email join@slimradio.co.uk if you would like to take this slot
URL:https://wseo.digital/event/vacant-show-mon-10pm-12am-2/2026-08-17/
ATTACH;FMTTYPE=image/jpeg:https://wseo.digital/wp-content/uploads/2025/12/Slimbot.jpg
LOCATION:
END:VEVENT
BEGIN:VEVENT
DTSTART;TZID=Europe/London:20260824T220000
DTEND;TZID=Europe/London:20260824T233000
DTSTAMP:20260421T222703
CREATED:20251228T162812Z
LAST-MODIFIED:20251228T163651Z
UID:10012664-1787608800-1787614200@wseo.digital
SUMMARY:Slim Bot Mon 10pm -12am
DESCRIPTION:Please email join@slimradio.co.uk if you would like to take this slot
URL:https://wseo.digital/event/vacant-show-mon-10pm-12am-2/2026-08-24/
ATTACH;FMTTYPE=image/jpeg:https://wseo.digital/wp-content/uploads/2025/12/Slimbot.jpg
LOCATION:
END:VEVENT
BEGIN:VEVENT
DTSTART;TZID=Europe/London:20260831T220000
DTEND;TZID=Europe/London:20260831T233000
DTSTAMP:20260421T222703
CREATED:20251228T162812Z
LAST-MODIFIED:20251228T163651Z
UID:10012665-1788213600-1788219000@wseo.digital
SUMMARY:Slim Bot Mon 10pm -12am
DESCRIPTION:Please email join@slimradio.co.uk if you would like to take this slot
URL:https://wseo.digital/event/vacant-show-mon-10pm-12am-2/2026-08-31/
ATTACH;FMTTYPE=image/jpeg:https://wseo.digital/wp-content/uploads/2025/12/Slimbot.jpg
LOCATION:
END:VEVENT
BEGIN:VEVENT
DTSTART;TZID=Europe/London:20260907T220000
DTEND;TZID=Europe/London:20260907T233000
DTSTAMP:20260421T222703
CREATED:20251228T162812Z
LAST-MODIFIED:20251228T163651Z
UID:10012666-1788818400-1788823800@wseo.digital
SUMMARY:Slim Bot Mon 10pm -12am
DESCRIPTION:Please email join@slimradio.co.uk if you would like to take this slot
URL:https://wseo.digital/event/vacant-show-mon-10pm-12am-2/2026-09-07/
ATTACH;FMTTYPE=image/jpeg:https://wseo.digital/wp-content/uploads/2025/12/Slimbot.jpg
LOCATION:
END:VEVENT
BEGIN:VEVENT
DTSTART;TZID=Europe/London:20260914T220000
DTEND;TZID=Europe/London:20260914T233000
DTSTAMP:20260421T222703
CREATED:20251228T162812Z
LAST-MODIFIED:20251228T163651Z
UID:10012667-1789423200-1789428600@wseo.digital
SUMMARY:Slim Bot Mon 10pm -12am
DESCRIPTION:Please email join@slimradio.co.uk if you would like to take this slot
URL:https://wseo.digital/event/vacant-show-mon-10pm-12am-2/2026-09-14/
ATTACH;FMTTYPE=image/jpeg:https://wseo.digital/wp-content/uploads/2025/12/Slimbot.jpg
LOCATION:
END:VEVENT
BEGIN:VEVENT
DTSTART;TZID=Europe/London:20260921T220000
DTEND;TZID=Europe/London:20260921T233000
DTSTAMP:20260421T222703
CREATED:20251228T162812Z
LAST-MODIFIED:20251228T163651Z
UID:10012668-1790028000-1790033400@wseo.digital
SUMMARY:Slim Bot Mon 10pm -12am
DESCRIPTION:Please email join@slimradio.co.uk if you would like to take this slot
URL:https://wseo.digital/event/vacant-show-mon-10pm-12am-2/2026-09-21/
ATTACH;FMTTYPE=image/jpeg:https://wseo.digital/wp-content/uploads/2025/12/Slimbot.jpg
LOCATION:
END:VEVENT
BEGIN:VEVENT
DTSTART;TZID=Europe/London:20260928T220000
DTEND;TZID=Europe/London:20260928T233000
DTSTAMP:20260421T222703
CREATED:20251228T162812Z
LAST-MODIFIED:20251228T163651Z
UID:10012669-1790632800-1790638200@wseo.digital
SUMMARY:Slim Bot Mon 10pm -12am
DESCRIPTION:Please email join@slimradio.co.uk if you would like to take this slot
URL:https://wseo.digital/event/vacant-show-mon-10pm-12am-2/2026-09-28/
ATTACH;FMTTYPE=image/jpeg:https://wseo.digital/wp-content/uploads/2025/12/Slimbot.jpg
LOCATION:
END:VEVENT
BEGIN:VEVENT
DTSTART;TZID=Europe/London:20261005T220000
DTEND;TZID=Europe/London:20261005T233000
DTSTAMP:20260421T222703
CREATED:20251228T162812Z
LAST-MODIFIED:20251228T163651Z
UID:10012670-1791237600-1791243000@wseo.digital
SUMMARY:Slim Bot Mon 10pm -12am
DESCRIPTION:Please email join@slimradio.co.uk if you would like to take this slot
URL:https://wseo.digital/event/vacant-show-mon-10pm-12am-2/2026-10-05/
ATTACH;FMTTYPE=image/jpeg:https://wseo.digital/wp-content/uploads/2025/12/Slimbot.jpg
LOCATION:
END:VEVENT
BEGIN:VEVENT
DTSTART;TZID=Europe/London:20261012T220000
DTEND;TZID=Europe/London:20261012T233000
DTSTAMP:20260421T222703
CREATED:20251228T162812Z
LAST-MODIFIED:20251228T163651Z
UID:10012671-1791842400-1791847800@wseo.digital
SUMMARY:Slim Bot Mon 10pm -12am
DESCRIPTION:Please email join@slimradio.co.uk if you would like to take this slot
URL:https://wseo.digital/event/vacant-show-mon-10pm-12am-2/2026-10-12/
ATTACH;FMTTYPE=image/jpeg:https://wseo.digital/wp-content/uploads/2025/12/Slimbot.jpg
LOCATION:
END:VEVENT
BEGIN:VEVENT
DTSTART;TZID=Europe/London:20261019T220000
DTEND;TZID=Europe/London:20261019T233000
DTSTAMP:20260421T222703
CREATED:20251228T162812Z
LAST-MODIFIED:20251228T163651Z
UID:10012672-1792447200-1792452600@wseo.digital
SUMMARY:Slim Bot Mon 10pm -12am
DESCRIPTION:Please email join@slimradio.co.uk if you would like to take this slot
URL:https://wseo.digital/event/vacant-show-mon-10pm-12am-2/2026-10-19/
ATTACH;FMTTYPE=image/jpeg:https://wseo.digital/wp-content/uploads/2025/12/Slimbot.jpg
LOCATION:
END:VEVENT
BEGIN:VEVENT
DTSTART;TZID=Europe/London:20261026T220000
DTEND;TZID=Europe/London:20261026T233000
DTSTAMP:20260421T222703
CREATED:20251228T162812Z
LAST-MODIFIED:20251228T163651Z
UID:10012673-1793052000-1793057400@wseo.digital
SUMMARY:Slim Bot Mon 10pm -12am
DESCRIPTION:Please email join@slimradio.co.uk if you would like to take this slot
URL:https://wseo.digital/event/vacant-show-mon-10pm-12am-2/2026-10-26/
ATTACH;FMTTYPE=image/jpeg:https://wseo.digital/wp-content/uploads/2025/12/Slimbot.jpg
LOCATION:
END:VEVENT
BEGIN:VEVENT
DTSTART;TZID=Europe/London:20261102T220000
DTEND;TZID=Europe/London:20261102T233000
DTSTAMP:20260421T222703
CREATED:20251228T162812Z
LAST-MODIFIED:20251228T163651Z
UID:10012674-1793656800-1793662200@wseo.digital
SUMMARY:Slim Bot Mon 10pm -12am
DESCRIPTION:Please email join@slimradio.co.uk if you would like to take this slot
URL:https://wseo.digital/event/vacant-show-mon-10pm-12am-2/2026-11-02/
ATTACH;FMTTYPE=image/jpeg:https://wseo.digital/wp-content/uploads/2025/12/Slimbot.jpg
LOCATION:
END:VEVENT
BEGIN:VEVENT
DTSTART;TZID=Europe/London:20261109T220000
DTEND;TZID=Europe/London:20261109T233000
DTSTAMP:20260421T222703
CREATED:20251228T162812Z
LAST-MODIFIED:20251228T163651Z
UID:10012675-1794261600-1794267000@wseo.digital
SUMMARY:Slim Bot Mon 10pm -12am
DESCRIPTION:Please email join@slimradio.co.uk if you would like to take this slot
URL:https://wseo.digital/event/vacant-show-mon-10pm-12am-2/2026-11-09/
ATTACH;FMTTYPE=image/jpeg:https://wseo.digital/wp-content/uploads/2025/12/Slimbot.jpg
LOCATION:
END:VEVENT
BEGIN:VEVENT
DTSTART;TZID=Europe/London:20261116T220000
DTEND;TZID=Europe/London:20261116T233000
DTSTAMP:20260421T222703
CREATED:20251228T162812Z
LAST-MODIFIED:20251228T163651Z
UID:10012676-1794866400-1794871800@wseo.digital
SUMMARY:Slim Bot Mon 10pm -12am
DESCRIPTION:Please email join@slimradio.co.uk if you would like to take this slot
URL:https://wseo.digital/event/vacant-show-mon-10pm-12am-2/2026-11-16/
ATTACH;FMTTYPE=image/jpeg:https://wseo.digital/wp-content/uploads/2025/12/Slimbot.jpg
LOCATION:
END:VEVENT
END:VCALENDAR