BEGIN:VCALENDAR
VERSION:2.0
PRODID:-//wseodigital - ECPv6.15.13//NONSGML v1.0//EN
CALSCALE:GREGORIAN
METHOD:PUBLISH
X-WR-CALNAME:wseodigital
X-ORIGINAL-URL:https://wseo.digital
X-WR-CALDESC:Events for wseodigital
REFRESH-INTERVAL;VALUE=DURATION:PT1H
X-Robots-Tag:noindex
X-PUBLISHED-TTL:PT1H
BEGIN:VTIMEZONE
TZID:Europe/London
BEGIN:DAYLIGHT
TZOFFSETFROM:+0000
TZOFFSETTO:+0100
TZNAME:BST
DTSTART:20250330T010000
END:DAYLIGHT
BEGIN:STANDARD
TZOFFSETFROM:+0100
TZOFFSETTO:+0000
TZNAME:GMT
DTSTART:20251026T010000
END:STANDARD
BEGIN:DAYLIGHT
TZOFFSETFROM:+0000
TZOFFSETTO:+0100
TZNAME:BST
DTSTART:20260329T010000
END:DAYLIGHT
BEGIN:STANDARD
TZOFFSETFROM:+0100
TZOFFSETTO:+0000
TZNAME:GMT
DTSTART:20261025T010000
END:STANDARD
BEGIN:DAYLIGHT
TZOFFSETFROM:+0000
TZOFFSETTO:+0100
TZNAME:BST
DTSTART:20270328T010000
END:DAYLIGHT
BEGIN:STANDARD
TZOFFSETFROM:+0100
TZOFFSETTO:+0000
TZNAME:GMT
DTSTART:20271031T010000
END:STANDARD
END:VTIMEZONE
BEGIN:VEVENT
DTSTART;TZID=Europe/London:20260421T180000
DTEND;TZID=Europe/London:20260421T200000
DTSTAMP:20260421T194552
CREATED:20251113T131738Z
LAST-MODIFIED:20251113T131738Z
UID:10013435-1776794400-1776801600@wseo.digital
SUMMARY:Graeham Bamford
DESCRIPTION:
URL:https://wseo.digital/event/graeham-bamford-tues/2026-04-21/
ATTACH;FMTTYPE=image/jpeg:https://wseo.digital/wp-content/uploads/2025/11/Graeham-B-P.jpg
LOCATION:
END:VEVENT
BEGIN:VEVENT
DTSTART;TZID=Europe/London:20260428T180000
DTEND;TZID=Europe/London:20260428T200000
DTSTAMP:20260421T194552
CREATED:20251113T131738Z
LAST-MODIFIED:20251113T131738Z
UID:10013436-1777399200-1777406400@wseo.digital
SUMMARY:Graeham Bamford
DESCRIPTION:
URL:https://wseo.digital/event/graeham-bamford-tues/2026-04-28/
ATTACH;FMTTYPE=image/jpeg:https://wseo.digital/wp-content/uploads/2025/11/Graeham-B-P.jpg
LOCATION:
END:VEVENT
BEGIN:VEVENT
DTSTART;TZID=Europe/London:20260505T180000
DTEND;TZID=Europe/London:20260505T200000
DTSTAMP:20260421T194552
CREATED:20251113T131738Z
LAST-MODIFIED:20251113T131738Z
UID:10013437-1778004000-1778011200@wseo.digital
SUMMARY:Graeham Bamford
DESCRIPTION:
URL:https://wseo.digital/event/graeham-bamford-tues/2026-05-05/
ATTACH;FMTTYPE=image/jpeg:https://wseo.digital/wp-content/uploads/2025/11/Graeham-B-P.jpg
LOCATION:
END:VEVENT
BEGIN:VEVENT
DTSTART;TZID=Europe/London:20260512T180000
DTEND;TZID=Europe/London:20260512T200000
DTSTAMP:20260421T194552
CREATED:20251113T131738Z
LAST-MODIFIED:20251113T131738Z
UID:10013438-1778608800-1778616000@wseo.digital
SUMMARY:Graeham Bamford
DESCRIPTION:
URL:https://wseo.digital/event/graeham-bamford-tues/2026-05-12/
ATTACH;FMTTYPE=image/jpeg:https://wseo.digital/wp-content/uploads/2025/11/Graeham-B-P.jpg
LOCATION:
END:VEVENT
BEGIN:VEVENT
DTSTART;TZID=Europe/London:20260519T180000
DTEND;TZID=Europe/London:20260519T200000
DTSTAMP:20260421T194552
CREATED:20251113T131738Z
LAST-MODIFIED:20251113T131738Z
UID:10013439-1779213600-1779220800@wseo.digital
SUMMARY:Graeham Bamford
DESCRIPTION:
URL:https://wseo.digital/event/graeham-bamford-tues/2026-05-19/
ATTACH;FMTTYPE=image/jpeg:https://wseo.digital/wp-content/uploads/2025/11/Graeham-B-P.jpg
LOCATION:
END:VEVENT
BEGIN:VEVENT
DTSTART;TZID=Europe/London:20260526T180000
DTEND;TZID=Europe/London:20260526T200000
DTSTAMP:20260421T194552
CREATED:20251113T131738Z
LAST-MODIFIED:20251113T131738Z
UID:10013440-1779818400-1779825600@wseo.digital
SUMMARY:Graeham Bamford
DESCRIPTION:
URL:https://wseo.digital/event/graeham-bamford-tues/2026-05-26/
ATTACH;FMTTYPE=image/jpeg:https://wseo.digital/wp-content/uploads/2025/11/Graeham-B-P.jpg
LOCATION:
END:VEVENT
BEGIN:VEVENT
DTSTART;TZID=Europe/London:20260602T180000
DTEND;TZID=Europe/London:20260602T200000
DTSTAMP:20260421T194552
CREATED:20251113T131738Z
LAST-MODIFIED:20251113T131738Z
UID:10013441-1780423200-1780430400@wseo.digital
SUMMARY:Graeham Bamford
DESCRIPTION:
URL:https://wseo.digital/event/graeham-bamford-tues/2026-06-02/
ATTACH;FMTTYPE=image/jpeg:https://wseo.digital/wp-content/uploads/2025/11/Graeham-B-P.jpg
LOCATION:
END:VEVENT
BEGIN:VEVENT
DTSTART;TZID=Europe/London:20260609T180000
DTEND;TZID=Europe/London:20260609T200000
DTSTAMP:20260421T194552
CREATED:20251113T131738Z
LAST-MODIFIED:20251113T131738Z
UID:10013442-1781028000-1781035200@wseo.digital
SUMMARY:Graeham Bamford
DESCRIPTION:
URL:https://wseo.digital/event/graeham-bamford-tues/2026-06-09/
ATTACH;FMTTYPE=image/jpeg:https://wseo.digital/wp-content/uploads/2025/11/Graeham-B-P.jpg
LOCATION:
END:VEVENT
BEGIN:VEVENT
DTSTART;TZID=Europe/London:20260616T180000
DTEND;TZID=Europe/London:20260616T200000
DTSTAMP:20260421T194552
CREATED:20251113T131738Z
LAST-MODIFIED:20251113T131738Z
UID:10013443-1781632800-1781640000@wseo.digital
SUMMARY:Graeham Bamford
DESCRIPTION:
URL:https://wseo.digital/event/graeham-bamford-tues/2026-06-16/
ATTACH;FMTTYPE=image/jpeg:https://wseo.digital/wp-content/uploads/2025/11/Graeham-B-P.jpg
LOCATION:
END:VEVENT
BEGIN:VEVENT
DTSTART;TZID=Europe/London:20260623T180000
DTEND;TZID=Europe/London:20260623T200000
DTSTAMP:20260421T194552
CREATED:20251113T131738Z
LAST-MODIFIED:20251113T131738Z
UID:10013444-1782237600-1782244800@wseo.digital
SUMMARY:Graeham Bamford
DESCRIPTION:
URL:https://wseo.digital/event/graeham-bamford-tues/2026-06-23/
ATTACH;FMTTYPE=image/jpeg:https://wseo.digital/wp-content/uploads/2025/11/Graeham-B-P.jpg
LOCATION:
END:VEVENT
BEGIN:VEVENT
DTSTART;TZID=Europe/London:20260630T180000
DTEND;TZID=Europe/London:20260630T200000
DTSTAMP:20260421T194552
CREATED:20251113T131738Z
LAST-MODIFIED:20251113T131738Z
UID:10013445-1782842400-1782849600@wseo.digital
SUMMARY:Graeham Bamford
DESCRIPTION:
URL:https://wseo.digital/event/graeham-bamford-tues/2026-06-30/
ATTACH;FMTTYPE=image/jpeg:https://wseo.digital/wp-content/uploads/2025/11/Graeham-B-P.jpg
LOCATION:
END:VEVENT
BEGIN:VEVENT
DTSTART;TZID=Europe/London:20260707T180000
DTEND;TZID=Europe/London:20260707T200000
DTSTAMP:20260421T194552
CREATED:20251113T131738Z
LAST-MODIFIED:20251113T131738Z
UID:10013446-1783447200-1783454400@wseo.digital
SUMMARY:Graeham Bamford
DESCRIPTION:
URL:https://wseo.digital/event/graeham-bamford-tues/2026-07-07/
ATTACH;FMTTYPE=image/jpeg:https://wseo.digital/wp-content/uploads/2025/11/Graeham-B-P.jpg
LOCATION:
END:VEVENT
BEGIN:VEVENT
DTSTART;TZID=Europe/London:20260714T180000
DTEND;TZID=Europe/London:20260714T200000
DTSTAMP:20260421T194552
CREATED:20251113T131738Z
LAST-MODIFIED:20251113T131738Z
UID:10013447-1784052000-1784059200@wseo.digital
SUMMARY:Graeham Bamford
DESCRIPTION:
URL:https://wseo.digital/event/graeham-bamford-tues/2026-07-14/
ATTACH;FMTTYPE=image/jpeg:https://wseo.digital/wp-content/uploads/2025/11/Graeham-B-P.jpg
LOCATION:
END:VEVENT
BEGIN:VEVENT
DTSTART;TZID=Europe/London:20260721T180000
DTEND;TZID=Europe/London:20260721T200000
DTSTAMP:20260421T194552
CREATED:20251113T131738Z
LAST-MODIFIED:20251113T131738Z
UID:10013448-1784656800-1784664000@wseo.digital
SUMMARY:Graeham Bamford
DESCRIPTION:
URL:https://wseo.digital/event/graeham-bamford-tues/2026-07-21/
ATTACH;FMTTYPE=image/jpeg:https://wseo.digital/wp-content/uploads/2025/11/Graeham-B-P.jpg
LOCATION:
END:VEVENT
BEGIN:VEVENT
DTSTART;TZID=Europe/London:20260728T180000
DTEND;TZID=Europe/London:20260728T200000
DTSTAMP:20260421T194552
CREATED:20251113T131738Z
LAST-MODIFIED:20251113T131738Z
UID:10013449-1785261600-1785268800@wseo.digital
SUMMARY:Graeham Bamford
DESCRIPTION:
URL:https://wseo.digital/event/graeham-bamford-tues/2026-07-28/
ATTACH;FMTTYPE=image/jpeg:https://wseo.digital/wp-content/uploads/2025/11/Graeham-B-P.jpg
LOCATION:
END:VEVENT
BEGIN:VEVENT
DTSTART;TZID=Europe/London:20260804T180000
DTEND;TZID=Europe/London:20260804T200000
DTSTAMP:20260421T194552
CREATED:20251113T131738Z
LAST-MODIFIED:20251113T131738Z
UID:10013450-1785866400-1785873600@wseo.digital
SUMMARY:Graeham Bamford
DESCRIPTION:
URL:https://wseo.digital/event/graeham-bamford-tues/2026-08-04/
ATTACH;FMTTYPE=image/jpeg:https://wseo.digital/wp-content/uploads/2025/11/Graeham-B-P.jpg
LOCATION:
END:VEVENT
BEGIN:VEVENT
DTSTART;TZID=Europe/London:20260811T180000
DTEND;TZID=Europe/London:20260811T200000
DTSTAMP:20260421T194552
CREATED:20251113T131738Z
LAST-MODIFIED:20251113T131738Z
UID:10013451-1786471200-1786478400@wseo.digital
SUMMARY:Graeham Bamford
DESCRIPTION:
URL:https://wseo.digital/event/graeham-bamford-tues/2026-08-11/
ATTACH;FMTTYPE=image/jpeg:https://wseo.digital/wp-content/uploads/2025/11/Graeham-B-P.jpg
LOCATION:
END:VEVENT
BEGIN:VEVENT
DTSTART;TZID=Europe/London:20260818T180000
DTEND;TZID=Europe/London:20260818T200000
DTSTAMP:20260421T194552
CREATED:20251113T131738Z
LAST-MODIFIED:20251113T131738Z
UID:10013452-1787076000-1787083200@wseo.digital
SUMMARY:Graeham Bamford
DESCRIPTION:
URL:https://wseo.digital/event/graeham-bamford-tues/2026-08-18/
ATTACH;FMTTYPE=image/jpeg:https://wseo.digital/wp-content/uploads/2025/11/Graeham-B-P.jpg
LOCATION:
END:VEVENT
BEGIN:VEVENT
DTSTART;TZID=Europe/London:20260825T180000
DTEND;TZID=Europe/London:20260825T200000
DTSTAMP:20260421T194552
CREATED:20251113T131738Z
LAST-MODIFIED:20251113T131738Z
UID:10013453-1787680800-1787688000@wseo.digital
SUMMARY:Graeham Bamford
DESCRIPTION:
URL:https://wseo.digital/event/graeham-bamford-tues/2026-08-25/
ATTACH;FMTTYPE=image/jpeg:https://wseo.digital/wp-content/uploads/2025/11/Graeham-B-P.jpg
LOCATION:
END:VEVENT
BEGIN:VEVENT
DTSTART;TZID=Europe/London:20260901T180000
DTEND;TZID=Europe/London:20260901T200000
DTSTAMP:20260421T194552
CREATED:20251113T131738Z
LAST-MODIFIED:20251113T131738Z
UID:10013454-1788285600-1788292800@wseo.digital
SUMMARY:Graeham Bamford
DESCRIPTION:
URL:https://wseo.digital/event/graeham-bamford-tues/2026-09-01/
ATTACH;FMTTYPE=image/jpeg:https://wseo.digital/wp-content/uploads/2025/11/Graeham-B-P.jpg
LOCATION:
END:VEVENT
BEGIN:VEVENT
DTSTART;TZID=Europe/London:20260908T180000
DTEND;TZID=Europe/London:20260908T200000
DTSTAMP:20260421T194552
CREATED:20251113T131738Z
LAST-MODIFIED:20251113T131738Z
UID:10013455-1788890400-1788897600@wseo.digital
SUMMARY:Graeham Bamford
DESCRIPTION:
URL:https://wseo.digital/event/graeham-bamford-tues/2026-09-08/
ATTACH;FMTTYPE=image/jpeg:https://wseo.digital/wp-content/uploads/2025/11/Graeham-B-P.jpg
LOCATION:
END:VEVENT
BEGIN:VEVENT
DTSTART;TZID=Europe/London:20260915T180000
DTEND;TZID=Europe/London:20260915T200000
DTSTAMP:20260421T194552
CREATED:20251113T131738Z
LAST-MODIFIED:20251113T131738Z
UID:10013456-1789495200-1789502400@wseo.digital
SUMMARY:Graeham Bamford
DESCRIPTION:
URL:https://wseo.digital/event/graeham-bamford-tues/2026-09-15/
ATTACH;FMTTYPE=image/jpeg:https://wseo.digital/wp-content/uploads/2025/11/Graeham-B-P.jpg
LOCATION:
END:VEVENT
BEGIN:VEVENT
DTSTART;TZID=Europe/London:20260922T180000
DTEND;TZID=Europe/London:20260922T200000
DTSTAMP:20260421T194552
CREATED:20251113T131738Z
LAST-MODIFIED:20251113T131738Z
UID:10013457-1790100000-1790107200@wseo.digital
SUMMARY:Graeham Bamford
DESCRIPTION:
URL:https://wseo.digital/event/graeham-bamford-tues/2026-09-22/
ATTACH;FMTTYPE=image/jpeg:https://wseo.digital/wp-content/uploads/2025/11/Graeham-B-P.jpg
LOCATION:
END:VEVENT
BEGIN:VEVENT
DTSTART;TZID=Europe/London:20260929T180000
DTEND;TZID=Europe/London:20260929T200000
DTSTAMP:20260421T194552
CREATED:20251113T131738Z
LAST-MODIFIED:20251113T131738Z
UID:10013458-1790704800-1790712000@wseo.digital
SUMMARY:Graeham Bamford
DESCRIPTION:
URL:https://wseo.digital/event/graeham-bamford-tues/2026-09-29/
ATTACH;FMTTYPE=image/jpeg:https://wseo.digital/wp-content/uploads/2025/11/Graeham-B-P.jpg
LOCATION:
END:VEVENT
BEGIN:VEVENT
DTSTART;TZID=Europe/London:20261006T180000
DTEND;TZID=Europe/London:20261006T200000
DTSTAMP:20260421T194552
CREATED:20251113T131738Z
LAST-MODIFIED:20251113T131738Z
UID:10013459-1791309600-1791316800@wseo.digital
SUMMARY:Graeham Bamford
DESCRIPTION:
URL:https://wseo.digital/event/graeham-bamford-tues/2026-10-06/
ATTACH;FMTTYPE=image/jpeg:https://wseo.digital/wp-content/uploads/2025/11/Graeham-B-P.jpg
LOCATION:
END:VEVENT
BEGIN:VEVENT
DTSTART;TZID=Europe/London:20261013T180000
DTEND;TZID=Europe/London:20261013T200000
DTSTAMP:20260421T194552
CREATED:20251113T131738Z
LAST-MODIFIED:20251113T131738Z
UID:10013460-1791914400-1791921600@wseo.digital
SUMMARY:Graeham Bamford
DESCRIPTION:
URL:https://wseo.digital/event/graeham-bamford-tues/2026-10-13/
ATTACH;FMTTYPE=image/jpeg:https://wseo.digital/wp-content/uploads/2025/11/Graeham-B-P.jpg
LOCATION:
END:VEVENT
BEGIN:VEVENT
DTSTART;TZID=Europe/London:20261020T180000
DTEND;TZID=Europe/London:20261020T200000
DTSTAMP:20260421T194552
CREATED:20251113T131738Z
LAST-MODIFIED:20251113T131738Z
UID:10013461-1792519200-1792526400@wseo.digital
SUMMARY:Graeham Bamford
DESCRIPTION:
URL:https://wseo.digital/event/graeham-bamford-tues/2026-10-20/
ATTACH;FMTTYPE=image/jpeg:https://wseo.digital/wp-content/uploads/2025/11/Graeham-B-P.jpg
LOCATION:
END:VEVENT
BEGIN:VEVENT
DTSTART;TZID=Europe/London:20261027T180000
DTEND;TZID=Europe/London:20261027T200000
DTSTAMP:20260421T194552
CREATED:20251113T131738Z
LAST-MODIFIED:20251113T131738Z
UID:10013462-1793124000-1793131200@wseo.digital
SUMMARY:Graeham Bamford
DESCRIPTION:
URL:https://wseo.digital/event/graeham-bamford-tues/2026-10-27/
ATTACH;FMTTYPE=image/jpeg:https://wseo.digital/wp-content/uploads/2025/11/Graeham-B-P.jpg
LOCATION:
END:VEVENT
BEGIN:VEVENT
DTSTART;TZID=Europe/London:20261103T180000
DTEND;TZID=Europe/London:20261103T200000
DTSTAMP:20260421T194552
CREATED:20251113T131738Z
LAST-MODIFIED:20251113T131738Z
UID:10013463-1793728800-1793736000@wseo.digital
SUMMARY:Graeham Bamford
DESCRIPTION:
URL:https://wseo.digital/event/graeham-bamford-tues/2026-11-03/
ATTACH;FMTTYPE=image/jpeg:https://wseo.digital/wp-content/uploads/2025/11/Graeham-B-P.jpg
LOCATION:
END:VEVENT
BEGIN:VEVENT
DTSTART;TZID=Europe/London:20261110T180000
DTEND;TZID=Europe/London:20261110T200000
DTSTAMP:20260421T194552
CREATED:20251113T131738Z
LAST-MODIFIED:20251113T131738Z
UID:10013464-1794333600-1794340800@wseo.digital
SUMMARY:Graeham Bamford
DESCRIPTION:
URL:https://wseo.digital/event/graeham-bamford-tues/2026-11-10/
ATTACH;FMTTYPE=image/jpeg:https://wseo.digital/wp-content/uploads/2025/11/Graeham-B-P.jpg
LOCATION:
END:VEVENT
END:VCALENDAR