BEGIN:VCALENDAR
VERSION:2.0
PRODID:-//wseodigital - ECPv6.15.13//NONSGML v1.0//EN
CALSCALE:GREGORIAN
METHOD:PUBLISH
X-WR-CALNAME:wseodigital
X-ORIGINAL-URL:https://wseo.digital
X-WR-CALDESC:Events for wseodigital
REFRESH-INTERVAL;VALUE=DURATION:PT1H
X-Robots-Tag:noindex
X-PUBLISHED-TTL:PT1H
BEGIN:VTIMEZONE
TZID:Europe/London
BEGIN:DAYLIGHT
TZOFFSETFROM:+0000
TZOFFSETTO:+0100
TZNAME:BST
DTSTART:20250330T010000
END:DAYLIGHT
BEGIN:STANDARD
TZOFFSETFROM:+0100
TZOFFSETTO:+0000
TZNAME:GMT
DTSTART:20251026T010000
END:STANDARD
BEGIN:DAYLIGHT
TZOFFSETFROM:+0000
TZOFFSETTO:+0100
TZNAME:BST
DTSTART:20260329T010000
END:DAYLIGHT
BEGIN:STANDARD
TZOFFSETFROM:+0100
TZOFFSETTO:+0000
TZNAME:GMT
DTSTART:20261025T010000
END:STANDARD
BEGIN:DAYLIGHT
TZOFFSETFROM:+0000
TZOFFSETTO:+0100
TZNAME:BST
DTSTART:20270328T010000
END:DAYLIGHT
BEGIN:STANDARD
TZOFFSETFROM:+0100
TZOFFSETTO:+0000
TZNAME:GMT
DTSTART:20271031T010000
END:STANDARD
END:VTIMEZONE
BEGIN:VEVENT
DTSTART;TZID=Europe/London:20260421T220000
DTEND;TZID=Europe/London:20260421T233000
DTSTAMP:20260421T195919
CREATED:20251113T132845Z
LAST-MODIFIED:20251113T144226Z
UID:10014747-1776808800-1776814200@wseo.digital
SUMMARY:Vacant Show
DESCRIPTION:Please email join@slimradio.co.uk if you would like to take this slot
URL:https://wseo.digital/event/vacant-show-tues-10pm-12am/2026-04-21/
ATTACH;FMTTYPE=image/webp:https://wseo.digital/wp-content/uploads/2025/11/slim-radio-show-1.webp
LOCATION:
END:VEVENT
BEGIN:VEVENT
DTSTART;TZID=Europe/London:20260428T220000
DTEND;TZID=Europe/London:20260428T233000
DTSTAMP:20260421T195919
CREATED:20251113T132845Z
LAST-MODIFIED:20251113T144226Z
UID:10014748-1777413600-1777419000@wseo.digital
SUMMARY:Vacant Show
DESCRIPTION:Please email join@slimradio.co.uk if you would like to take this slot
URL:https://wseo.digital/event/vacant-show-tues-10pm-12am/2026-04-28/
ATTACH;FMTTYPE=image/webp:https://wseo.digital/wp-content/uploads/2025/11/slim-radio-show-1.webp
LOCATION:
END:VEVENT
BEGIN:VEVENT
DTSTART;TZID=Europe/London:20260505T220000
DTEND;TZID=Europe/London:20260505T233000
DTSTAMP:20260421T195919
CREATED:20251113T132845Z
LAST-MODIFIED:20251113T144226Z
UID:10014749-1778018400-1778023800@wseo.digital
SUMMARY:Vacant Show
DESCRIPTION:Please email join@slimradio.co.uk if you would like to take this slot
URL:https://wseo.digital/event/vacant-show-tues-10pm-12am/2026-05-05/
ATTACH;FMTTYPE=image/webp:https://wseo.digital/wp-content/uploads/2025/11/slim-radio-show-1.webp
LOCATION:
END:VEVENT
BEGIN:VEVENT
DTSTART;TZID=Europe/London:20260512T220000
DTEND;TZID=Europe/London:20260512T233000
DTSTAMP:20260421T195919
CREATED:20251113T132845Z
LAST-MODIFIED:20251113T144226Z
UID:10014750-1778623200-1778628600@wseo.digital
SUMMARY:Vacant Show
DESCRIPTION:Please email join@slimradio.co.uk if you would like to take this slot
URL:https://wseo.digital/event/vacant-show-tues-10pm-12am/2026-05-12/
ATTACH;FMTTYPE=image/webp:https://wseo.digital/wp-content/uploads/2025/11/slim-radio-show-1.webp
LOCATION:
END:VEVENT
BEGIN:VEVENT
DTSTART;TZID=Europe/London:20260519T220000
DTEND;TZID=Europe/London:20260519T233000
DTSTAMP:20260421T195919
CREATED:20251113T132845Z
LAST-MODIFIED:20251113T144226Z
UID:10014751-1779228000-1779233400@wseo.digital
SUMMARY:Vacant Show
DESCRIPTION:Please email join@slimradio.co.uk if you would like to take this slot
URL:https://wseo.digital/event/vacant-show-tues-10pm-12am/2026-05-19/
ATTACH;FMTTYPE=image/webp:https://wseo.digital/wp-content/uploads/2025/11/slim-radio-show-1.webp
LOCATION:
END:VEVENT
BEGIN:VEVENT
DTSTART;TZID=Europe/London:20260526T220000
DTEND;TZID=Europe/London:20260526T233000
DTSTAMP:20260421T195919
CREATED:20251113T132845Z
LAST-MODIFIED:20251113T144226Z
UID:10014752-1779832800-1779838200@wseo.digital
SUMMARY:Vacant Show
DESCRIPTION:Please email join@slimradio.co.uk if you would like to take this slot
URL:https://wseo.digital/event/vacant-show-tues-10pm-12am/2026-05-26/
ATTACH;FMTTYPE=image/webp:https://wseo.digital/wp-content/uploads/2025/11/slim-radio-show-1.webp
LOCATION:
END:VEVENT
BEGIN:VEVENT
DTSTART;TZID=Europe/London:20260602T220000
DTEND;TZID=Europe/London:20260602T233000
DTSTAMP:20260421T195919
CREATED:20251113T132845Z
LAST-MODIFIED:20251113T144226Z
UID:10014753-1780437600-1780443000@wseo.digital
SUMMARY:Vacant Show
DESCRIPTION:Please email join@slimradio.co.uk if you would like to take this slot
URL:https://wseo.digital/event/vacant-show-tues-10pm-12am/2026-06-02/
ATTACH;FMTTYPE=image/webp:https://wseo.digital/wp-content/uploads/2025/11/slim-radio-show-1.webp
LOCATION:
END:VEVENT
BEGIN:VEVENT
DTSTART;TZID=Europe/London:20260609T220000
DTEND;TZID=Europe/London:20260609T233000
DTSTAMP:20260421T195919
CREATED:20251113T132845Z
LAST-MODIFIED:20251113T144226Z
UID:10014754-1781042400-1781047800@wseo.digital
SUMMARY:Vacant Show
DESCRIPTION:Please email join@slimradio.co.uk if you would like to take this slot
URL:https://wseo.digital/event/vacant-show-tues-10pm-12am/2026-06-09/
ATTACH;FMTTYPE=image/webp:https://wseo.digital/wp-content/uploads/2025/11/slim-radio-show-1.webp
LOCATION:
END:VEVENT
BEGIN:VEVENT
DTSTART;TZID=Europe/London:20260616T220000
DTEND;TZID=Europe/London:20260616T233000
DTSTAMP:20260421T195919
CREATED:20251113T132845Z
LAST-MODIFIED:20251113T144226Z
UID:10014755-1781647200-1781652600@wseo.digital
SUMMARY:Vacant Show
DESCRIPTION:Please email join@slimradio.co.uk if you would like to take this slot
URL:https://wseo.digital/event/vacant-show-tues-10pm-12am/2026-06-16/
ATTACH;FMTTYPE=image/webp:https://wseo.digital/wp-content/uploads/2025/11/slim-radio-show-1.webp
LOCATION:
END:VEVENT
BEGIN:VEVENT
DTSTART;TZID=Europe/London:20260623T220000
DTEND;TZID=Europe/London:20260623T233000
DTSTAMP:20260421T195919
CREATED:20251113T132845Z
LAST-MODIFIED:20251113T144226Z
UID:10014756-1782252000-1782257400@wseo.digital
SUMMARY:Vacant Show
DESCRIPTION:Please email join@slimradio.co.uk if you would like to take this slot
URL:https://wseo.digital/event/vacant-show-tues-10pm-12am/2026-06-23/
ATTACH;FMTTYPE=image/webp:https://wseo.digital/wp-content/uploads/2025/11/slim-radio-show-1.webp
LOCATION:
END:VEVENT
BEGIN:VEVENT
DTSTART;TZID=Europe/London:20260630T220000
DTEND;TZID=Europe/London:20260630T233000
DTSTAMP:20260421T195919
CREATED:20251113T132845Z
LAST-MODIFIED:20251113T144226Z
UID:10014757-1782856800-1782862200@wseo.digital
SUMMARY:Vacant Show
DESCRIPTION:Please email join@slimradio.co.uk if you would like to take this slot
URL:https://wseo.digital/event/vacant-show-tues-10pm-12am/2026-06-30/
ATTACH;FMTTYPE=image/webp:https://wseo.digital/wp-content/uploads/2025/11/slim-radio-show-1.webp
LOCATION:
END:VEVENT
BEGIN:VEVENT
DTSTART;TZID=Europe/London:20260707T220000
DTEND;TZID=Europe/London:20260707T233000
DTSTAMP:20260421T195919
CREATED:20251113T132845Z
LAST-MODIFIED:20251113T144226Z
UID:10014758-1783461600-1783467000@wseo.digital
SUMMARY:Vacant Show
DESCRIPTION:Please email join@slimradio.co.uk if you would like to take this slot
URL:https://wseo.digital/event/vacant-show-tues-10pm-12am/2026-07-07/
ATTACH;FMTTYPE=image/webp:https://wseo.digital/wp-content/uploads/2025/11/slim-radio-show-1.webp
LOCATION:
END:VEVENT
BEGIN:VEVENT
DTSTART;TZID=Europe/London:20260714T220000
DTEND;TZID=Europe/London:20260714T233000
DTSTAMP:20260421T195919
CREATED:20251113T132845Z
LAST-MODIFIED:20251113T144226Z
UID:10014759-1784066400-1784071800@wseo.digital
SUMMARY:Vacant Show
DESCRIPTION:Please email join@slimradio.co.uk if you would like to take this slot
URL:https://wseo.digital/event/vacant-show-tues-10pm-12am/2026-07-14/
ATTACH;FMTTYPE=image/webp:https://wseo.digital/wp-content/uploads/2025/11/slim-radio-show-1.webp
LOCATION:
END:VEVENT
BEGIN:VEVENT
DTSTART;TZID=Europe/London:20260721T220000
DTEND;TZID=Europe/London:20260721T233000
DTSTAMP:20260421T195919
CREATED:20251113T132845Z
LAST-MODIFIED:20251113T144226Z
UID:10014760-1784671200-1784676600@wseo.digital
SUMMARY:Vacant Show
DESCRIPTION:Please email join@slimradio.co.uk if you would like to take this slot
URL:https://wseo.digital/event/vacant-show-tues-10pm-12am/2026-07-21/
ATTACH;FMTTYPE=image/webp:https://wseo.digital/wp-content/uploads/2025/11/slim-radio-show-1.webp
LOCATION:
END:VEVENT
BEGIN:VEVENT
DTSTART;TZID=Europe/London:20260728T220000
DTEND;TZID=Europe/London:20260728T233000
DTSTAMP:20260421T195919
CREATED:20251113T132845Z
LAST-MODIFIED:20251113T144226Z
UID:10014761-1785276000-1785281400@wseo.digital
SUMMARY:Vacant Show
DESCRIPTION:Please email join@slimradio.co.uk if you would like to take this slot
URL:https://wseo.digital/event/vacant-show-tues-10pm-12am/2026-07-28/
ATTACH;FMTTYPE=image/webp:https://wseo.digital/wp-content/uploads/2025/11/slim-radio-show-1.webp
LOCATION:
END:VEVENT
BEGIN:VEVENT
DTSTART;TZID=Europe/London:20260804T220000
DTEND;TZID=Europe/London:20260804T233000
DTSTAMP:20260421T195919
CREATED:20251113T132845Z
LAST-MODIFIED:20251113T144226Z
UID:10014762-1785880800-1785886200@wseo.digital
SUMMARY:Vacant Show
DESCRIPTION:Please email join@slimradio.co.uk if you would like to take this slot
URL:https://wseo.digital/event/vacant-show-tues-10pm-12am/2026-08-04/
ATTACH;FMTTYPE=image/webp:https://wseo.digital/wp-content/uploads/2025/11/slim-radio-show-1.webp
LOCATION:
END:VEVENT
BEGIN:VEVENT
DTSTART;TZID=Europe/London:20260811T220000
DTEND;TZID=Europe/London:20260811T233000
DTSTAMP:20260421T195919
CREATED:20251113T132845Z
LAST-MODIFIED:20251113T144226Z
UID:10014763-1786485600-1786491000@wseo.digital
SUMMARY:Vacant Show
DESCRIPTION:Please email join@slimradio.co.uk if you would like to take this slot
URL:https://wseo.digital/event/vacant-show-tues-10pm-12am/2026-08-11/
ATTACH;FMTTYPE=image/webp:https://wseo.digital/wp-content/uploads/2025/11/slim-radio-show-1.webp
LOCATION:
END:VEVENT
BEGIN:VEVENT
DTSTART;TZID=Europe/London:20260818T220000
DTEND;TZID=Europe/London:20260818T233000
DTSTAMP:20260421T195919
CREATED:20251113T132845Z
LAST-MODIFIED:20251113T144226Z
UID:10014764-1787090400-1787095800@wseo.digital
SUMMARY:Vacant Show
DESCRIPTION:Please email join@slimradio.co.uk if you would like to take this slot
URL:https://wseo.digital/event/vacant-show-tues-10pm-12am/2026-08-18/
ATTACH;FMTTYPE=image/webp:https://wseo.digital/wp-content/uploads/2025/11/slim-radio-show-1.webp
LOCATION:
END:VEVENT
BEGIN:VEVENT
DTSTART;TZID=Europe/London:20260825T220000
DTEND;TZID=Europe/London:20260825T233000
DTSTAMP:20260421T195919
CREATED:20251113T132845Z
LAST-MODIFIED:20251113T144226Z
UID:10014765-1787695200-1787700600@wseo.digital
SUMMARY:Vacant Show
DESCRIPTION:Please email join@slimradio.co.uk if you would like to take this slot
URL:https://wseo.digital/event/vacant-show-tues-10pm-12am/2026-08-25/
ATTACH;FMTTYPE=image/webp:https://wseo.digital/wp-content/uploads/2025/11/slim-radio-show-1.webp
LOCATION:
END:VEVENT
BEGIN:VEVENT
DTSTART;TZID=Europe/London:20260901T220000
DTEND;TZID=Europe/London:20260901T233000
DTSTAMP:20260421T195919
CREATED:20251113T132845Z
LAST-MODIFIED:20251113T144226Z
UID:10014766-1788300000-1788305400@wseo.digital
SUMMARY:Vacant Show
DESCRIPTION:Please email join@slimradio.co.uk if you would like to take this slot
URL:https://wseo.digital/event/vacant-show-tues-10pm-12am/2026-09-01/
ATTACH;FMTTYPE=image/webp:https://wseo.digital/wp-content/uploads/2025/11/slim-radio-show-1.webp
LOCATION:
END:VEVENT
BEGIN:VEVENT
DTSTART;TZID=Europe/London:20260908T220000
DTEND;TZID=Europe/London:20260908T233000
DTSTAMP:20260421T195919
CREATED:20251113T132845Z
LAST-MODIFIED:20251113T144226Z
UID:10014767-1788904800-1788910200@wseo.digital
SUMMARY:Vacant Show
DESCRIPTION:Please email join@slimradio.co.uk if you would like to take this slot
URL:https://wseo.digital/event/vacant-show-tues-10pm-12am/2026-09-08/
ATTACH;FMTTYPE=image/webp:https://wseo.digital/wp-content/uploads/2025/11/slim-radio-show-1.webp
LOCATION:
END:VEVENT
BEGIN:VEVENT
DTSTART;TZID=Europe/London:20260915T220000
DTEND;TZID=Europe/London:20260915T233000
DTSTAMP:20260421T195919
CREATED:20251113T132845Z
LAST-MODIFIED:20251113T144226Z
UID:10014768-1789509600-1789515000@wseo.digital
SUMMARY:Vacant Show
DESCRIPTION:Please email join@slimradio.co.uk if you would like to take this slot
URL:https://wseo.digital/event/vacant-show-tues-10pm-12am/2026-09-15/
ATTACH;FMTTYPE=image/webp:https://wseo.digital/wp-content/uploads/2025/11/slim-radio-show-1.webp
LOCATION:
END:VEVENT
BEGIN:VEVENT
DTSTART;TZID=Europe/London:20260922T220000
DTEND;TZID=Europe/London:20260922T233000
DTSTAMP:20260421T195919
CREATED:20251113T132845Z
LAST-MODIFIED:20251113T144226Z
UID:10014769-1790114400-1790119800@wseo.digital
SUMMARY:Vacant Show
DESCRIPTION:Please email join@slimradio.co.uk if you would like to take this slot
URL:https://wseo.digital/event/vacant-show-tues-10pm-12am/2026-09-22/
ATTACH;FMTTYPE=image/webp:https://wseo.digital/wp-content/uploads/2025/11/slim-radio-show-1.webp
LOCATION:
END:VEVENT
BEGIN:VEVENT
DTSTART;TZID=Europe/London:20260929T220000
DTEND;TZID=Europe/London:20260929T233000
DTSTAMP:20260421T195919
CREATED:20251113T132845Z
LAST-MODIFIED:20251113T144226Z
UID:10014770-1790719200-1790724600@wseo.digital
SUMMARY:Vacant Show
DESCRIPTION:Please email join@slimradio.co.uk if you would like to take this slot
URL:https://wseo.digital/event/vacant-show-tues-10pm-12am/2026-09-29/
ATTACH;FMTTYPE=image/webp:https://wseo.digital/wp-content/uploads/2025/11/slim-radio-show-1.webp
LOCATION:
END:VEVENT
BEGIN:VEVENT
DTSTART;TZID=Europe/London:20261006T220000
DTEND;TZID=Europe/London:20261006T233000
DTSTAMP:20260421T195919
CREATED:20251113T132845Z
LAST-MODIFIED:20251113T144226Z
UID:10014771-1791324000-1791329400@wseo.digital
SUMMARY:Vacant Show
DESCRIPTION:Please email join@slimradio.co.uk if you would like to take this slot
URL:https://wseo.digital/event/vacant-show-tues-10pm-12am/2026-10-06/
ATTACH;FMTTYPE=image/webp:https://wseo.digital/wp-content/uploads/2025/11/slim-radio-show-1.webp
LOCATION:
END:VEVENT
BEGIN:VEVENT
DTSTART;TZID=Europe/London:20261013T220000
DTEND;TZID=Europe/London:20261013T233000
DTSTAMP:20260421T195919
CREATED:20251113T132845Z
LAST-MODIFIED:20251113T144226Z
UID:10014772-1791928800-1791934200@wseo.digital
SUMMARY:Vacant Show
DESCRIPTION:Please email join@slimradio.co.uk if you would like to take this slot
URL:https://wseo.digital/event/vacant-show-tues-10pm-12am/2026-10-13/
ATTACH;FMTTYPE=image/webp:https://wseo.digital/wp-content/uploads/2025/11/slim-radio-show-1.webp
LOCATION:
END:VEVENT
BEGIN:VEVENT
DTSTART;TZID=Europe/London:20261020T220000
DTEND;TZID=Europe/London:20261020T233000
DTSTAMP:20260421T195919
CREATED:20251113T132845Z
LAST-MODIFIED:20251113T144226Z
UID:10014773-1792533600-1792539000@wseo.digital
SUMMARY:Vacant Show
DESCRIPTION:Please email join@slimradio.co.uk if you would like to take this slot
URL:https://wseo.digital/event/vacant-show-tues-10pm-12am/2026-10-20/
ATTACH;FMTTYPE=image/webp:https://wseo.digital/wp-content/uploads/2025/11/slim-radio-show-1.webp
LOCATION:
END:VEVENT
BEGIN:VEVENT
DTSTART;TZID=Europe/London:20261027T220000
DTEND;TZID=Europe/London:20261027T233000
DTSTAMP:20260421T195919
CREATED:20251113T132845Z
LAST-MODIFIED:20251113T144226Z
UID:10014774-1793138400-1793143800@wseo.digital
SUMMARY:Vacant Show
DESCRIPTION:Please email join@slimradio.co.uk if you would like to take this slot
URL:https://wseo.digital/event/vacant-show-tues-10pm-12am/2026-10-27/
ATTACH;FMTTYPE=image/webp:https://wseo.digital/wp-content/uploads/2025/11/slim-radio-show-1.webp
LOCATION:
END:VEVENT
BEGIN:VEVENT
DTSTART;TZID=Europe/London:20261103T220000
DTEND;TZID=Europe/London:20261103T233000
DTSTAMP:20260421T195919
CREATED:20251113T132845Z
LAST-MODIFIED:20251113T144226Z
UID:10014775-1793743200-1793748600@wseo.digital
SUMMARY:Vacant Show
DESCRIPTION:Please email join@slimradio.co.uk if you would like to take this slot
URL:https://wseo.digital/event/vacant-show-tues-10pm-12am/2026-11-03/
ATTACH;FMTTYPE=image/webp:https://wseo.digital/wp-content/uploads/2025/11/slim-radio-show-1.webp
LOCATION:
END:VEVENT
BEGIN:VEVENT
DTSTART;TZID=Europe/London:20261110T220000
DTEND;TZID=Europe/London:20261110T233000
DTSTAMP:20260421T195919
CREATED:20251113T132845Z
LAST-MODIFIED:20251113T144226Z
UID:10014776-1794348000-1794353400@wseo.digital
SUMMARY:Vacant Show
DESCRIPTION:Please email join@slimradio.co.uk if you would like to take this slot
URL:https://wseo.digital/event/vacant-show-tues-10pm-12am/2026-11-10/
ATTACH;FMTTYPE=image/webp:https://wseo.digital/wp-content/uploads/2025/11/slim-radio-show-1.webp
LOCATION:
END:VEVENT
END:VCALENDAR