BEGIN:VCALENDAR
VERSION:2.0
PRODID:-//wseodigital - ECPv6.15.13//NONSGML v1.0//EN
CALSCALE:GREGORIAN
METHOD:PUBLISH
X-WR-CALNAME:wseodigital
X-ORIGINAL-URL:https://wseo.digital
X-WR-CALDESC:Events for wseodigital
REFRESH-INTERVAL;VALUE=DURATION:PT1H
X-Robots-Tag:noindex
X-PUBLISHED-TTL:PT1H
BEGIN:VTIMEZONE
TZID:Europe/London
BEGIN:DAYLIGHT
TZOFFSETFROM:+0000
TZOFFSETTO:+0100
TZNAME:BST
DTSTART:20250330T010000
END:DAYLIGHT
BEGIN:STANDARD
TZOFFSETFROM:+0100
TZOFFSETTO:+0000
TZNAME:GMT
DTSTART:20251026T010000
END:STANDARD
BEGIN:DAYLIGHT
TZOFFSETFROM:+0000
TZOFFSETTO:+0100
TZNAME:BST
DTSTART:20260329T010000
END:DAYLIGHT
BEGIN:STANDARD
TZOFFSETFROM:+0100
TZOFFSETTO:+0000
TZNAME:GMT
DTSTART:20261025T010000
END:STANDARD
BEGIN:DAYLIGHT
TZOFFSETFROM:+0000
TZOFFSETTO:+0100
TZNAME:BST
DTSTART:20270328T010000
END:DAYLIGHT
BEGIN:STANDARD
TZOFFSETFROM:+0100
TZOFFSETTO:+0000
TZNAME:GMT
DTSTART:20271031T010000
END:STANDARD
END:VTIMEZONE
BEGIN:VEVENT
DTSTART;TZID=Europe/London:20260422T220000
DTEND;TZID=Europe/London:20260422T233000
DTSTAMP:20260421T205916
CREATED:20251228T195709Z
LAST-MODIFIED:20251228T195709Z
UID:10016319-1776895200-1776900600@wseo.digital
SUMMARY:Slim Bot Wed 10pm -12am
DESCRIPTION:Please email join@slimradio.co.uk if you would like to take this slot
URL:https://wseo.digital/event/vacant-show-wed-10pm-12am-2/2026-04-22/
ATTACH;FMTTYPE=image/jpeg:https://wseo.digital/wp-content/uploads/2025/12/Slimbot.jpg
LOCATION:
END:VEVENT
BEGIN:VEVENT
DTSTART;TZID=Europe/London:20260429T220000
DTEND;TZID=Europe/London:20260429T233000
DTSTAMP:20260421T205916
CREATED:20251228T195709Z
LAST-MODIFIED:20251228T195709Z
UID:10016320-1777500000-1777505400@wseo.digital
SUMMARY:Slim Bot Wed 10pm -12am
DESCRIPTION:Please email join@slimradio.co.uk if you would like to take this slot
URL:https://wseo.digital/event/vacant-show-wed-10pm-12am-2/2026-04-29/
ATTACH;FMTTYPE=image/jpeg:https://wseo.digital/wp-content/uploads/2025/12/Slimbot.jpg
LOCATION:
END:VEVENT
BEGIN:VEVENT
DTSTART;TZID=Europe/London:20260506T220000
DTEND;TZID=Europe/London:20260506T233000
DTSTAMP:20260421T205916
CREATED:20251228T195709Z
LAST-MODIFIED:20251228T195709Z
UID:10016321-1778104800-1778110200@wseo.digital
SUMMARY:Slim Bot Wed 10pm -12am
DESCRIPTION:Please email join@slimradio.co.uk if you would like to take this slot
URL:https://wseo.digital/event/vacant-show-wed-10pm-12am-2/2026-05-06/
ATTACH;FMTTYPE=image/jpeg:https://wseo.digital/wp-content/uploads/2025/12/Slimbot.jpg
LOCATION:
END:VEVENT
BEGIN:VEVENT
DTSTART;TZID=Europe/London:20260513T220000
DTEND;TZID=Europe/London:20260513T233000
DTSTAMP:20260421T205916
CREATED:20251228T195709Z
LAST-MODIFIED:20251228T195709Z
UID:10016322-1778709600-1778715000@wseo.digital
SUMMARY:Slim Bot Wed 10pm -12am
DESCRIPTION:Please email join@slimradio.co.uk if you would like to take this slot
URL:https://wseo.digital/event/vacant-show-wed-10pm-12am-2/2026-05-13/
ATTACH;FMTTYPE=image/jpeg:https://wseo.digital/wp-content/uploads/2025/12/Slimbot.jpg
LOCATION:
END:VEVENT
BEGIN:VEVENT
DTSTART;TZID=Europe/London:20260520T220000
DTEND;TZID=Europe/London:20260520T233000
DTSTAMP:20260421T205916
CREATED:20251228T195709Z
LAST-MODIFIED:20251228T195709Z
UID:10016323-1779314400-1779319800@wseo.digital
SUMMARY:Slim Bot Wed 10pm -12am
DESCRIPTION:Please email join@slimradio.co.uk if you would like to take this slot
URL:https://wseo.digital/event/vacant-show-wed-10pm-12am-2/2026-05-20/
ATTACH;FMTTYPE=image/jpeg:https://wseo.digital/wp-content/uploads/2025/12/Slimbot.jpg
LOCATION:
END:VEVENT
BEGIN:VEVENT
DTSTART;TZID=Europe/London:20260527T220000
DTEND;TZID=Europe/London:20260527T233000
DTSTAMP:20260421T205916
CREATED:20251228T195709Z
LAST-MODIFIED:20251228T195709Z
UID:10016324-1779919200-1779924600@wseo.digital
SUMMARY:Slim Bot Wed 10pm -12am
DESCRIPTION:Please email join@slimradio.co.uk if you would like to take this slot
URL:https://wseo.digital/event/vacant-show-wed-10pm-12am-2/2026-05-27/
ATTACH;FMTTYPE=image/jpeg:https://wseo.digital/wp-content/uploads/2025/12/Slimbot.jpg
LOCATION:
END:VEVENT
BEGIN:VEVENT
DTSTART;TZID=Europe/London:20260603T220000
DTEND;TZID=Europe/London:20260603T233000
DTSTAMP:20260421T205916
CREATED:20251228T195709Z
LAST-MODIFIED:20251228T195709Z
UID:10016325-1780524000-1780529400@wseo.digital
SUMMARY:Slim Bot Wed 10pm -12am
DESCRIPTION:Please email join@slimradio.co.uk if you would like to take this slot
URL:https://wseo.digital/event/vacant-show-wed-10pm-12am-2/2026-06-03/
ATTACH;FMTTYPE=image/jpeg:https://wseo.digital/wp-content/uploads/2025/12/Slimbot.jpg
LOCATION:
END:VEVENT
BEGIN:VEVENT
DTSTART;TZID=Europe/London:20260610T220000
DTEND;TZID=Europe/London:20260610T233000
DTSTAMP:20260421T205916
CREATED:20251228T195709Z
LAST-MODIFIED:20251228T195709Z
UID:10016326-1781128800-1781134200@wseo.digital
SUMMARY:Slim Bot Wed 10pm -12am
DESCRIPTION:Please email join@slimradio.co.uk if you would like to take this slot
URL:https://wseo.digital/event/vacant-show-wed-10pm-12am-2/2026-06-10/
ATTACH;FMTTYPE=image/jpeg:https://wseo.digital/wp-content/uploads/2025/12/Slimbot.jpg
LOCATION:
END:VEVENT
BEGIN:VEVENT
DTSTART;TZID=Europe/London:20260617T220000
DTEND;TZID=Europe/London:20260617T233000
DTSTAMP:20260421T205916
CREATED:20251228T195709Z
LAST-MODIFIED:20251228T195709Z
UID:10016327-1781733600-1781739000@wseo.digital
SUMMARY:Slim Bot Wed 10pm -12am
DESCRIPTION:Please email join@slimradio.co.uk if you would like to take this slot
URL:https://wseo.digital/event/vacant-show-wed-10pm-12am-2/2026-06-17/
ATTACH;FMTTYPE=image/jpeg:https://wseo.digital/wp-content/uploads/2025/12/Slimbot.jpg
LOCATION:
END:VEVENT
BEGIN:VEVENT
DTSTART;TZID=Europe/London:20260624T220000
DTEND;TZID=Europe/London:20260624T233000
DTSTAMP:20260421T205916
CREATED:20251228T195709Z
LAST-MODIFIED:20251228T195709Z
UID:10016328-1782338400-1782343800@wseo.digital
SUMMARY:Slim Bot Wed 10pm -12am
DESCRIPTION:Please email join@slimradio.co.uk if you would like to take this slot
URL:https://wseo.digital/event/vacant-show-wed-10pm-12am-2/2026-06-24/
ATTACH;FMTTYPE=image/jpeg:https://wseo.digital/wp-content/uploads/2025/12/Slimbot.jpg
LOCATION:
END:VEVENT
BEGIN:VEVENT
DTSTART;TZID=Europe/London:20260701T220000
DTEND;TZID=Europe/London:20260701T233000
DTSTAMP:20260421T205916
CREATED:20251228T195709Z
LAST-MODIFIED:20251228T195709Z
UID:10016329-1782943200-1782948600@wseo.digital
SUMMARY:Slim Bot Wed 10pm -12am
DESCRIPTION:Please email join@slimradio.co.uk if you would like to take this slot
URL:https://wseo.digital/event/vacant-show-wed-10pm-12am-2/2026-07-01/
ATTACH;FMTTYPE=image/jpeg:https://wseo.digital/wp-content/uploads/2025/12/Slimbot.jpg
LOCATION:
END:VEVENT
BEGIN:VEVENT
DTSTART;TZID=Europe/London:20260708T220000
DTEND;TZID=Europe/London:20260708T233000
DTSTAMP:20260421T205916
CREATED:20251228T195709Z
LAST-MODIFIED:20251228T195709Z
UID:10016330-1783548000-1783553400@wseo.digital
SUMMARY:Slim Bot Wed 10pm -12am
DESCRIPTION:Please email join@slimradio.co.uk if you would like to take this slot
URL:https://wseo.digital/event/vacant-show-wed-10pm-12am-2/2026-07-08/
ATTACH;FMTTYPE=image/jpeg:https://wseo.digital/wp-content/uploads/2025/12/Slimbot.jpg
LOCATION:
END:VEVENT
BEGIN:VEVENT
DTSTART;TZID=Europe/London:20260715T220000
DTEND;TZID=Europe/London:20260715T233000
DTSTAMP:20260421T205916
CREATED:20251228T195709Z
LAST-MODIFIED:20251228T195709Z
UID:10016331-1784152800-1784158200@wseo.digital
SUMMARY:Slim Bot Wed 10pm -12am
DESCRIPTION:Please email join@slimradio.co.uk if you would like to take this slot
URL:https://wseo.digital/event/vacant-show-wed-10pm-12am-2/2026-07-15/
ATTACH;FMTTYPE=image/jpeg:https://wseo.digital/wp-content/uploads/2025/12/Slimbot.jpg
LOCATION:
END:VEVENT
BEGIN:VEVENT
DTSTART;TZID=Europe/London:20260722T220000
DTEND;TZID=Europe/London:20260722T233000
DTSTAMP:20260421T205916
CREATED:20251228T195709Z
LAST-MODIFIED:20251228T195709Z
UID:10016332-1784757600-1784763000@wseo.digital
SUMMARY:Slim Bot Wed 10pm -12am
DESCRIPTION:Please email join@slimradio.co.uk if you would like to take this slot
URL:https://wseo.digital/event/vacant-show-wed-10pm-12am-2/2026-07-22/
ATTACH;FMTTYPE=image/jpeg:https://wseo.digital/wp-content/uploads/2025/12/Slimbot.jpg
LOCATION:
END:VEVENT
BEGIN:VEVENT
DTSTART;TZID=Europe/London:20260729T220000
DTEND;TZID=Europe/London:20260729T233000
DTSTAMP:20260421T205916
CREATED:20251228T195709Z
LAST-MODIFIED:20251228T195709Z
UID:10016333-1785362400-1785367800@wseo.digital
SUMMARY:Slim Bot Wed 10pm -12am
DESCRIPTION:Please email join@slimradio.co.uk if you would like to take this slot
URL:https://wseo.digital/event/vacant-show-wed-10pm-12am-2/2026-07-29/
ATTACH;FMTTYPE=image/jpeg:https://wseo.digital/wp-content/uploads/2025/12/Slimbot.jpg
LOCATION:
END:VEVENT
BEGIN:VEVENT
DTSTART;TZID=Europe/London:20260805T220000
DTEND;TZID=Europe/London:20260805T233000
DTSTAMP:20260421T205916
CREATED:20251228T195709Z
LAST-MODIFIED:20251228T195709Z
UID:10016334-1785967200-1785972600@wseo.digital
SUMMARY:Slim Bot Wed 10pm -12am
DESCRIPTION:Please email join@slimradio.co.uk if you would like to take this slot
URL:https://wseo.digital/event/vacant-show-wed-10pm-12am-2/2026-08-05/
ATTACH;FMTTYPE=image/jpeg:https://wseo.digital/wp-content/uploads/2025/12/Slimbot.jpg
LOCATION:
END:VEVENT
BEGIN:VEVENT
DTSTART;TZID=Europe/London:20260812T220000
DTEND;TZID=Europe/London:20260812T233000
DTSTAMP:20260421T205916
CREATED:20251228T195709Z
LAST-MODIFIED:20251228T195709Z
UID:10016335-1786572000-1786577400@wseo.digital
SUMMARY:Slim Bot Wed 10pm -12am
DESCRIPTION:Please email join@slimradio.co.uk if you would like to take this slot
URL:https://wseo.digital/event/vacant-show-wed-10pm-12am-2/2026-08-12/
ATTACH;FMTTYPE=image/jpeg:https://wseo.digital/wp-content/uploads/2025/12/Slimbot.jpg
LOCATION:
END:VEVENT
BEGIN:VEVENT
DTSTART;TZID=Europe/London:20260819T220000
DTEND;TZID=Europe/London:20260819T233000
DTSTAMP:20260421T205916
CREATED:20251228T195709Z
LAST-MODIFIED:20251228T195709Z
UID:10016336-1787176800-1787182200@wseo.digital
SUMMARY:Slim Bot Wed 10pm -12am
DESCRIPTION:Please email join@slimradio.co.uk if you would like to take this slot
URL:https://wseo.digital/event/vacant-show-wed-10pm-12am-2/2026-08-19/
ATTACH;FMTTYPE=image/jpeg:https://wseo.digital/wp-content/uploads/2025/12/Slimbot.jpg
LOCATION:
END:VEVENT
BEGIN:VEVENT
DTSTART;TZID=Europe/London:20260826T220000
DTEND;TZID=Europe/London:20260826T233000
DTSTAMP:20260421T205916
CREATED:20251228T195709Z
LAST-MODIFIED:20251228T195709Z
UID:10016337-1787781600-1787787000@wseo.digital
SUMMARY:Slim Bot Wed 10pm -12am
DESCRIPTION:Please email join@slimradio.co.uk if you would like to take this slot
URL:https://wseo.digital/event/vacant-show-wed-10pm-12am-2/2026-08-26/
ATTACH;FMTTYPE=image/jpeg:https://wseo.digital/wp-content/uploads/2025/12/Slimbot.jpg
LOCATION:
END:VEVENT
BEGIN:VEVENT
DTSTART;TZID=Europe/London:20260902T220000
DTEND;TZID=Europe/London:20260902T233000
DTSTAMP:20260421T205916
CREATED:20251228T195709Z
LAST-MODIFIED:20251228T195709Z
UID:10016338-1788386400-1788391800@wseo.digital
SUMMARY:Slim Bot Wed 10pm -12am
DESCRIPTION:Please email join@slimradio.co.uk if you would like to take this slot
URL:https://wseo.digital/event/vacant-show-wed-10pm-12am-2/2026-09-02/
ATTACH;FMTTYPE=image/jpeg:https://wseo.digital/wp-content/uploads/2025/12/Slimbot.jpg
LOCATION:
END:VEVENT
BEGIN:VEVENT
DTSTART;TZID=Europe/London:20260909T220000
DTEND;TZID=Europe/London:20260909T233000
DTSTAMP:20260421T205916
CREATED:20251228T195709Z
LAST-MODIFIED:20251228T195709Z
UID:10016339-1788991200-1788996600@wseo.digital
SUMMARY:Slim Bot Wed 10pm -12am
DESCRIPTION:Please email join@slimradio.co.uk if you would like to take this slot
URL:https://wseo.digital/event/vacant-show-wed-10pm-12am-2/2026-09-09/
ATTACH;FMTTYPE=image/jpeg:https://wseo.digital/wp-content/uploads/2025/12/Slimbot.jpg
LOCATION:
END:VEVENT
BEGIN:VEVENT
DTSTART;TZID=Europe/London:20260916T220000
DTEND;TZID=Europe/London:20260916T233000
DTSTAMP:20260421T205916
CREATED:20251228T195709Z
LAST-MODIFIED:20251228T195709Z
UID:10016340-1789596000-1789601400@wseo.digital
SUMMARY:Slim Bot Wed 10pm -12am
DESCRIPTION:Please email join@slimradio.co.uk if you would like to take this slot
URL:https://wseo.digital/event/vacant-show-wed-10pm-12am-2/2026-09-16/
ATTACH;FMTTYPE=image/jpeg:https://wseo.digital/wp-content/uploads/2025/12/Slimbot.jpg
LOCATION:
END:VEVENT
BEGIN:VEVENT
DTSTART;TZID=Europe/London:20260923T220000
DTEND;TZID=Europe/London:20260923T233000
DTSTAMP:20260421T205916
CREATED:20251228T195709Z
LAST-MODIFIED:20251228T195709Z
UID:10016341-1790200800-1790206200@wseo.digital
SUMMARY:Slim Bot Wed 10pm -12am
DESCRIPTION:Please email join@slimradio.co.uk if you would like to take this slot
URL:https://wseo.digital/event/vacant-show-wed-10pm-12am-2/2026-09-23/
ATTACH;FMTTYPE=image/jpeg:https://wseo.digital/wp-content/uploads/2025/12/Slimbot.jpg
LOCATION:
END:VEVENT
BEGIN:VEVENT
DTSTART;TZID=Europe/London:20260930T220000
DTEND;TZID=Europe/London:20260930T233000
DTSTAMP:20260421T205916
CREATED:20251228T195709Z
LAST-MODIFIED:20251228T195709Z
UID:10016342-1790805600-1790811000@wseo.digital
SUMMARY:Slim Bot Wed 10pm -12am
DESCRIPTION:Please email join@slimradio.co.uk if you would like to take this slot
URL:https://wseo.digital/event/vacant-show-wed-10pm-12am-2/2026-09-30/
ATTACH;FMTTYPE=image/jpeg:https://wseo.digital/wp-content/uploads/2025/12/Slimbot.jpg
LOCATION:
END:VEVENT
BEGIN:VEVENT
DTSTART;TZID=Europe/London:20261007T220000
DTEND;TZID=Europe/London:20261007T233000
DTSTAMP:20260421T205916
CREATED:20251228T195709Z
LAST-MODIFIED:20251228T195709Z
UID:10016343-1791410400-1791415800@wseo.digital
SUMMARY:Slim Bot Wed 10pm -12am
DESCRIPTION:Please email join@slimradio.co.uk if you would like to take this slot
URL:https://wseo.digital/event/vacant-show-wed-10pm-12am-2/2026-10-07/
ATTACH;FMTTYPE=image/jpeg:https://wseo.digital/wp-content/uploads/2025/12/Slimbot.jpg
LOCATION:
END:VEVENT
BEGIN:VEVENT
DTSTART;TZID=Europe/London:20261014T220000
DTEND;TZID=Europe/London:20261014T233000
DTSTAMP:20260421T205916
CREATED:20251228T195709Z
LAST-MODIFIED:20251228T195709Z
UID:10016344-1792015200-1792020600@wseo.digital
SUMMARY:Slim Bot Wed 10pm -12am
DESCRIPTION:Please email join@slimradio.co.uk if you would like to take this slot
URL:https://wseo.digital/event/vacant-show-wed-10pm-12am-2/2026-10-14/
ATTACH;FMTTYPE=image/jpeg:https://wseo.digital/wp-content/uploads/2025/12/Slimbot.jpg
LOCATION:
END:VEVENT
BEGIN:VEVENT
DTSTART;TZID=Europe/London:20261021T220000
DTEND;TZID=Europe/London:20261021T233000
DTSTAMP:20260421T205917
CREATED:20251228T195709Z
LAST-MODIFIED:20251228T195709Z
UID:10016345-1792620000-1792625400@wseo.digital
SUMMARY:Slim Bot Wed 10pm -12am
DESCRIPTION:Please email join@slimradio.co.uk if you would like to take this slot
URL:https://wseo.digital/event/vacant-show-wed-10pm-12am-2/2026-10-21/
ATTACH;FMTTYPE=image/jpeg:https://wseo.digital/wp-content/uploads/2025/12/Slimbot.jpg
LOCATION:
END:VEVENT
BEGIN:VEVENT
DTSTART;TZID=Europe/London:20261028T220000
DTEND;TZID=Europe/London:20261028T233000
DTSTAMP:20260421T205917
CREATED:20251228T195709Z
LAST-MODIFIED:20251228T195709Z
UID:10016346-1793224800-1793230200@wseo.digital
SUMMARY:Slim Bot Wed 10pm -12am
DESCRIPTION:Please email join@slimradio.co.uk if you would like to take this slot
URL:https://wseo.digital/event/vacant-show-wed-10pm-12am-2/2026-10-28/
ATTACH;FMTTYPE=image/jpeg:https://wseo.digital/wp-content/uploads/2025/12/Slimbot.jpg
LOCATION:
END:VEVENT
BEGIN:VEVENT
DTSTART;TZID=Europe/London:20261104T220000
DTEND;TZID=Europe/London:20261104T233000
DTSTAMP:20260421T205917
CREATED:20251228T195709Z
LAST-MODIFIED:20251228T195709Z
UID:10016347-1793829600-1793835000@wseo.digital
SUMMARY:Slim Bot Wed 10pm -12am
DESCRIPTION:Please email join@slimradio.co.uk if you would like to take this slot
URL:https://wseo.digital/event/vacant-show-wed-10pm-12am-2/2026-11-04/
ATTACH;FMTTYPE=image/jpeg:https://wseo.digital/wp-content/uploads/2025/12/Slimbot.jpg
LOCATION:
END:VEVENT
BEGIN:VEVENT
DTSTART;TZID=Europe/London:20261111T220000
DTEND;TZID=Europe/London:20261111T233000
DTSTAMP:20260421T205917
CREATED:20251228T195709Z
LAST-MODIFIED:20251228T195709Z
UID:10016348-1794434400-1794439800@wseo.digital
SUMMARY:Slim Bot Wed 10pm -12am
DESCRIPTION:Please email join@slimradio.co.uk if you would like to take this slot
URL:https://wseo.digital/event/vacant-show-wed-10pm-12am-2/2026-11-11/
ATTACH;FMTTYPE=image/jpeg:https://wseo.digital/wp-content/uploads/2025/12/Slimbot.jpg
LOCATION:
END:VEVENT
END:VCALENDAR