BEGIN:VCALENDAR
VERSION:2.0
PRODID:-//wseodigital - ECPv6.15.13//NONSGML v1.0//EN
CALSCALE:GREGORIAN
METHOD:PUBLISH
X-WR-CALNAME:wseodigital
X-ORIGINAL-URL:https://wseo.digital
X-WR-CALDESC:Events for wseodigital
REFRESH-INTERVAL;VALUE=DURATION:PT1H
X-Robots-Tag:noindex
X-PUBLISHED-TTL:PT1H
BEGIN:VTIMEZONE
TZID:Europe/London
BEGIN:DAYLIGHT
TZOFFSETFROM:+0000
TZOFFSETTO:+0100
TZNAME:BST
DTSTART:20250330T010000
END:DAYLIGHT
BEGIN:STANDARD
TZOFFSETFROM:+0100
TZOFFSETTO:+0000
TZNAME:GMT
DTSTART:20251026T010000
END:STANDARD
BEGIN:DAYLIGHT
TZOFFSETFROM:+0000
TZOFFSETTO:+0100
TZNAME:BST
DTSTART:20260329T010000
END:DAYLIGHT
BEGIN:STANDARD
TZOFFSETFROM:+0100
TZOFFSETTO:+0000
TZNAME:GMT
DTSTART:20261025T010000
END:STANDARD
BEGIN:DAYLIGHT
TZOFFSETFROM:+0000
TZOFFSETTO:+0100
TZNAME:BST
DTSTART:20270328T010000
END:DAYLIGHT
BEGIN:STANDARD
TZOFFSETFROM:+0100
TZOFFSETTO:+0000
TZNAME:GMT
DTSTART:20271031T010000
END:STANDARD
END:VTIMEZONE
BEGIN:VEVENT
DTSTART;TZID=Europe/London:20260423T200000
DTEND;TZID=Europe/London:20260423T220000
DTSTAMP:20260421T212710
CREATED:20251228T191046Z
LAST-MODIFIED:20251228T191046Z
UID:10017886-1776974400-1776981600@wseo.digital
SUMMARY:Mark Ruston
DESCRIPTION:
URL:https://wseo.digital/event/vacant-show-thurs-8pm-10pm-2/2026-04-23/
ATTACH;FMTTYPE=image/webp:https://wseo.digital/wp-content/uploads/2025/11/slim-radio-show-1.webp
END:VEVENT
BEGIN:VEVENT
DTSTART;TZID=Europe/London:20260430T200000
DTEND;TZID=Europe/London:20260430T220000
DTSTAMP:20260421T212710
CREATED:20251228T191046Z
LAST-MODIFIED:20251228T191046Z
UID:10017887-1777579200-1777586400@wseo.digital
SUMMARY:Mark Ruston
DESCRIPTION:
URL:https://wseo.digital/event/vacant-show-thurs-8pm-10pm-2/2026-04-30/
ATTACH;FMTTYPE=image/webp:https://wseo.digital/wp-content/uploads/2025/11/slim-radio-show-1.webp
END:VEVENT
BEGIN:VEVENT
DTSTART;TZID=Europe/London:20260507T200000
DTEND;TZID=Europe/London:20260507T220000
DTSTAMP:20260421T212710
CREATED:20251228T191046Z
LAST-MODIFIED:20251228T191046Z
UID:10017888-1778184000-1778191200@wseo.digital
SUMMARY:Mark Ruston
DESCRIPTION:
URL:https://wseo.digital/event/vacant-show-thurs-8pm-10pm-2/2026-05-07/
ATTACH;FMTTYPE=image/webp:https://wseo.digital/wp-content/uploads/2025/11/slim-radio-show-1.webp
END:VEVENT
BEGIN:VEVENT
DTSTART;TZID=Europe/London:20260514T200000
DTEND;TZID=Europe/London:20260514T220000
DTSTAMP:20260421T212710
CREATED:20251228T191046Z
LAST-MODIFIED:20251228T191046Z
UID:10017889-1778788800-1778796000@wseo.digital
SUMMARY:Mark Ruston
DESCRIPTION:
URL:https://wseo.digital/event/vacant-show-thurs-8pm-10pm-2/2026-05-14/
ATTACH;FMTTYPE=image/webp:https://wseo.digital/wp-content/uploads/2025/11/slim-radio-show-1.webp
END:VEVENT
BEGIN:VEVENT
DTSTART;TZID=Europe/London:20260521T200000
DTEND;TZID=Europe/London:20260521T220000
DTSTAMP:20260421T212710
CREATED:20251228T191046Z
LAST-MODIFIED:20251228T191046Z
UID:10017890-1779393600-1779400800@wseo.digital
SUMMARY:Mark Ruston
DESCRIPTION:
URL:https://wseo.digital/event/vacant-show-thurs-8pm-10pm-2/2026-05-21/
ATTACH;FMTTYPE=image/webp:https://wseo.digital/wp-content/uploads/2025/11/slim-radio-show-1.webp
END:VEVENT
BEGIN:VEVENT
DTSTART;TZID=Europe/London:20260528T200000
DTEND;TZID=Europe/London:20260528T220000
DTSTAMP:20260421T212710
CREATED:20251228T191046Z
LAST-MODIFIED:20251228T191046Z
UID:10017891-1779998400-1780005600@wseo.digital
SUMMARY:Mark Ruston
DESCRIPTION:
URL:https://wseo.digital/event/vacant-show-thurs-8pm-10pm-2/2026-05-28/
ATTACH;FMTTYPE=image/webp:https://wseo.digital/wp-content/uploads/2025/11/slim-radio-show-1.webp
END:VEVENT
BEGIN:VEVENT
DTSTART;TZID=Europe/London:20260604T200000
DTEND;TZID=Europe/London:20260604T220000
DTSTAMP:20260421T212710
CREATED:20251228T191046Z
LAST-MODIFIED:20251228T191046Z
UID:10017892-1780603200-1780610400@wseo.digital
SUMMARY:Mark Ruston
DESCRIPTION:
URL:https://wseo.digital/event/vacant-show-thurs-8pm-10pm-2/2026-06-04/
ATTACH;FMTTYPE=image/webp:https://wseo.digital/wp-content/uploads/2025/11/slim-radio-show-1.webp
END:VEVENT
BEGIN:VEVENT
DTSTART;TZID=Europe/London:20260611T200000
DTEND;TZID=Europe/London:20260611T220000
DTSTAMP:20260421T212710
CREATED:20251228T191046Z
LAST-MODIFIED:20251228T191046Z
UID:10017893-1781208000-1781215200@wseo.digital
SUMMARY:Mark Ruston
DESCRIPTION:
URL:https://wseo.digital/event/vacant-show-thurs-8pm-10pm-2/2026-06-11/
ATTACH;FMTTYPE=image/webp:https://wseo.digital/wp-content/uploads/2025/11/slim-radio-show-1.webp
END:VEVENT
BEGIN:VEVENT
DTSTART;TZID=Europe/London:20260618T200000
DTEND;TZID=Europe/London:20260618T220000
DTSTAMP:20260421T212710
CREATED:20251228T191046Z
LAST-MODIFIED:20251228T191046Z
UID:10017894-1781812800-1781820000@wseo.digital
SUMMARY:Mark Ruston
DESCRIPTION:
URL:https://wseo.digital/event/vacant-show-thurs-8pm-10pm-2/2026-06-18/
ATTACH;FMTTYPE=image/webp:https://wseo.digital/wp-content/uploads/2025/11/slim-radio-show-1.webp
END:VEVENT
BEGIN:VEVENT
DTSTART;TZID=Europe/London:20260625T200000
DTEND;TZID=Europe/London:20260625T220000
DTSTAMP:20260421T212710
CREATED:20251228T191046Z
LAST-MODIFIED:20251228T191046Z
UID:10017895-1782417600-1782424800@wseo.digital
SUMMARY:Mark Ruston
DESCRIPTION:
URL:https://wseo.digital/event/vacant-show-thurs-8pm-10pm-2/2026-06-25/
ATTACH;FMTTYPE=image/webp:https://wseo.digital/wp-content/uploads/2025/11/slim-radio-show-1.webp
END:VEVENT
BEGIN:VEVENT
DTSTART;TZID=Europe/London:20260702T200000
DTEND;TZID=Europe/London:20260702T220000
DTSTAMP:20260421T212710
CREATED:20251228T191046Z
LAST-MODIFIED:20251228T191046Z
UID:10017896-1783022400-1783029600@wseo.digital
SUMMARY:Mark Ruston
DESCRIPTION:
URL:https://wseo.digital/event/vacant-show-thurs-8pm-10pm-2/2026-07-02/
ATTACH;FMTTYPE=image/webp:https://wseo.digital/wp-content/uploads/2025/11/slim-radio-show-1.webp
END:VEVENT
BEGIN:VEVENT
DTSTART;TZID=Europe/London:20260709T200000
DTEND;TZID=Europe/London:20260709T220000
DTSTAMP:20260421T212710
CREATED:20251228T191046Z
LAST-MODIFIED:20251228T191046Z
UID:10017897-1783627200-1783634400@wseo.digital
SUMMARY:Mark Ruston
DESCRIPTION:
URL:https://wseo.digital/event/vacant-show-thurs-8pm-10pm-2/2026-07-09/
ATTACH;FMTTYPE=image/webp:https://wseo.digital/wp-content/uploads/2025/11/slim-radio-show-1.webp
END:VEVENT
BEGIN:VEVENT
DTSTART;TZID=Europe/London:20260716T200000
DTEND;TZID=Europe/London:20260716T220000
DTSTAMP:20260421T212710
CREATED:20251228T191046Z
LAST-MODIFIED:20251228T191046Z
UID:10017898-1784232000-1784239200@wseo.digital
SUMMARY:Mark Ruston
DESCRIPTION:
URL:https://wseo.digital/event/vacant-show-thurs-8pm-10pm-2/2026-07-16/
ATTACH;FMTTYPE=image/webp:https://wseo.digital/wp-content/uploads/2025/11/slim-radio-show-1.webp
END:VEVENT
BEGIN:VEVENT
DTSTART;TZID=Europe/London:20260723T200000
DTEND;TZID=Europe/London:20260723T220000
DTSTAMP:20260421T212710
CREATED:20251228T191046Z
LAST-MODIFIED:20251228T191046Z
UID:10017899-1784836800-1784844000@wseo.digital
SUMMARY:Mark Ruston
DESCRIPTION:
URL:https://wseo.digital/event/vacant-show-thurs-8pm-10pm-2/2026-07-23/
ATTACH;FMTTYPE=image/webp:https://wseo.digital/wp-content/uploads/2025/11/slim-radio-show-1.webp
END:VEVENT
BEGIN:VEVENT
DTSTART;TZID=Europe/London:20260730T200000
DTEND;TZID=Europe/London:20260730T220000
DTSTAMP:20260421T212710
CREATED:20251228T191046Z
LAST-MODIFIED:20251228T191046Z
UID:10017900-1785441600-1785448800@wseo.digital
SUMMARY:Mark Ruston
DESCRIPTION:
URL:https://wseo.digital/event/vacant-show-thurs-8pm-10pm-2/2026-07-30/
ATTACH;FMTTYPE=image/webp:https://wseo.digital/wp-content/uploads/2025/11/slim-radio-show-1.webp
END:VEVENT
BEGIN:VEVENT
DTSTART;TZID=Europe/London:20260806T200000
DTEND;TZID=Europe/London:20260806T220000
DTSTAMP:20260421T212710
CREATED:20251228T191046Z
LAST-MODIFIED:20251228T191046Z
UID:10017901-1786046400-1786053600@wseo.digital
SUMMARY:Mark Ruston
DESCRIPTION:
URL:https://wseo.digital/event/vacant-show-thurs-8pm-10pm-2/2026-08-06/
ATTACH;FMTTYPE=image/webp:https://wseo.digital/wp-content/uploads/2025/11/slim-radio-show-1.webp
END:VEVENT
BEGIN:VEVENT
DTSTART;TZID=Europe/London:20260813T200000
DTEND;TZID=Europe/London:20260813T220000
DTSTAMP:20260421T212710
CREATED:20251228T191046Z
LAST-MODIFIED:20251228T191046Z
UID:10017902-1786651200-1786658400@wseo.digital
SUMMARY:Mark Ruston
DESCRIPTION:
URL:https://wseo.digital/event/vacant-show-thurs-8pm-10pm-2/2026-08-13/
ATTACH;FMTTYPE=image/webp:https://wseo.digital/wp-content/uploads/2025/11/slim-radio-show-1.webp
END:VEVENT
BEGIN:VEVENT
DTSTART;TZID=Europe/London:20260820T200000
DTEND;TZID=Europe/London:20260820T220000
DTSTAMP:20260421T212710
CREATED:20251228T191046Z
LAST-MODIFIED:20251228T191046Z
UID:10017903-1787256000-1787263200@wseo.digital
SUMMARY:Mark Ruston
DESCRIPTION:
URL:https://wseo.digital/event/vacant-show-thurs-8pm-10pm-2/2026-08-20/
ATTACH;FMTTYPE=image/webp:https://wseo.digital/wp-content/uploads/2025/11/slim-radio-show-1.webp
END:VEVENT
BEGIN:VEVENT
DTSTART;TZID=Europe/London:20260827T200000
DTEND;TZID=Europe/London:20260827T220000
DTSTAMP:20260421T212710
CREATED:20251228T191046Z
LAST-MODIFIED:20251228T191046Z
UID:10017904-1787860800-1787868000@wseo.digital
SUMMARY:Mark Ruston
DESCRIPTION:
URL:https://wseo.digital/event/vacant-show-thurs-8pm-10pm-2/2026-08-27/
ATTACH;FMTTYPE=image/webp:https://wseo.digital/wp-content/uploads/2025/11/slim-radio-show-1.webp
END:VEVENT
BEGIN:VEVENT
DTSTART;TZID=Europe/London:20260903T200000
DTEND;TZID=Europe/London:20260903T220000
DTSTAMP:20260421T212711
CREATED:20251228T191046Z
LAST-MODIFIED:20251228T191046Z
UID:10017905-1788465600-1788472800@wseo.digital
SUMMARY:Mark Ruston
DESCRIPTION:
URL:https://wseo.digital/event/vacant-show-thurs-8pm-10pm-2/2026-09-03/
ATTACH;FMTTYPE=image/webp:https://wseo.digital/wp-content/uploads/2025/11/slim-radio-show-1.webp
END:VEVENT
BEGIN:VEVENT
DTSTART;TZID=Europe/London:20260910T200000
DTEND;TZID=Europe/London:20260910T220000
DTSTAMP:20260421T212711
CREATED:20251228T191046Z
LAST-MODIFIED:20251228T191046Z
UID:10017906-1789070400-1789077600@wseo.digital
SUMMARY:Mark Ruston
DESCRIPTION:
URL:https://wseo.digital/event/vacant-show-thurs-8pm-10pm-2/2026-09-10/
ATTACH;FMTTYPE=image/webp:https://wseo.digital/wp-content/uploads/2025/11/slim-radio-show-1.webp
END:VEVENT
BEGIN:VEVENT
DTSTART;TZID=Europe/London:20260917T200000
DTEND;TZID=Europe/London:20260917T220000
DTSTAMP:20260421T212711
CREATED:20251228T191046Z
LAST-MODIFIED:20251228T191046Z
UID:10017907-1789675200-1789682400@wseo.digital
SUMMARY:Mark Ruston
DESCRIPTION:
URL:https://wseo.digital/event/vacant-show-thurs-8pm-10pm-2/2026-09-17/
ATTACH;FMTTYPE=image/webp:https://wseo.digital/wp-content/uploads/2025/11/slim-radio-show-1.webp
END:VEVENT
BEGIN:VEVENT
DTSTART;TZID=Europe/London:20260924T200000
DTEND;TZID=Europe/London:20260924T220000
DTSTAMP:20260421T212711
CREATED:20251228T191046Z
LAST-MODIFIED:20251228T191046Z
UID:10017908-1790280000-1790287200@wseo.digital
SUMMARY:Mark Ruston
DESCRIPTION:
URL:https://wseo.digital/event/vacant-show-thurs-8pm-10pm-2/2026-09-24/
ATTACH;FMTTYPE=image/webp:https://wseo.digital/wp-content/uploads/2025/11/slim-radio-show-1.webp
END:VEVENT
BEGIN:VEVENT
DTSTART;TZID=Europe/London:20261001T200000
DTEND;TZID=Europe/London:20261001T220000
DTSTAMP:20260421T212711
CREATED:20251228T191046Z
LAST-MODIFIED:20251228T191046Z
UID:10017909-1790884800-1790892000@wseo.digital
SUMMARY:Mark Ruston
DESCRIPTION:
URL:https://wseo.digital/event/vacant-show-thurs-8pm-10pm-2/2026-10-01/
ATTACH;FMTTYPE=image/webp:https://wseo.digital/wp-content/uploads/2025/11/slim-radio-show-1.webp
END:VEVENT
BEGIN:VEVENT
DTSTART;TZID=Europe/London:20261008T200000
DTEND;TZID=Europe/London:20261008T220000
DTSTAMP:20260421T212711
CREATED:20251228T191046Z
LAST-MODIFIED:20251228T191046Z
UID:10017910-1791489600-1791496800@wseo.digital
SUMMARY:Mark Ruston
DESCRIPTION:
URL:https://wseo.digital/event/vacant-show-thurs-8pm-10pm-2/2026-10-08/
ATTACH;FMTTYPE=image/webp:https://wseo.digital/wp-content/uploads/2025/11/slim-radio-show-1.webp
END:VEVENT
BEGIN:VEVENT
DTSTART;TZID=Europe/London:20261015T200000
DTEND;TZID=Europe/London:20261015T220000
DTSTAMP:20260421T212711
CREATED:20251228T191046Z
LAST-MODIFIED:20251228T191046Z
UID:10017911-1792094400-1792101600@wseo.digital
SUMMARY:Mark Ruston
DESCRIPTION:
URL:https://wseo.digital/event/vacant-show-thurs-8pm-10pm-2/2026-10-15/
ATTACH;FMTTYPE=image/webp:https://wseo.digital/wp-content/uploads/2025/11/slim-radio-show-1.webp
END:VEVENT
BEGIN:VEVENT
DTSTART;TZID=Europe/London:20261022T200000
DTEND;TZID=Europe/London:20261022T220000
DTSTAMP:20260421T212711
CREATED:20251228T191046Z
LAST-MODIFIED:20251228T191046Z
UID:10017912-1792699200-1792706400@wseo.digital
SUMMARY:Mark Ruston
DESCRIPTION:
URL:https://wseo.digital/event/vacant-show-thurs-8pm-10pm-2/2026-10-22/
ATTACH;FMTTYPE=image/webp:https://wseo.digital/wp-content/uploads/2025/11/slim-radio-show-1.webp
END:VEVENT
BEGIN:VEVENT
DTSTART;TZID=Europe/London:20261029T200000
DTEND;TZID=Europe/London:20261029T220000
DTSTAMP:20260421T212711
CREATED:20251228T191046Z
LAST-MODIFIED:20251228T191046Z
UID:10017913-1793304000-1793311200@wseo.digital
SUMMARY:Mark Ruston
DESCRIPTION:
URL:https://wseo.digital/event/vacant-show-thurs-8pm-10pm-2/2026-10-29/
ATTACH;FMTTYPE=image/webp:https://wseo.digital/wp-content/uploads/2025/11/slim-radio-show-1.webp
END:VEVENT
BEGIN:VEVENT
DTSTART;TZID=Europe/London:20261105T200000
DTEND;TZID=Europe/London:20261105T220000
DTSTAMP:20260421T212711
CREATED:20251228T191046Z
LAST-MODIFIED:20251228T191046Z
UID:10017914-1793908800-1793916000@wseo.digital
SUMMARY:Mark Ruston
DESCRIPTION:
URL:https://wseo.digital/event/vacant-show-thurs-8pm-10pm-2/2026-11-05/
ATTACH;FMTTYPE=image/webp:https://wseo.digital/wp-content/uploads/2025/11/slim-radio-show-1.webp
END:VEVENT
BEGIN:VEVENT
DTSTART;TZID=Europe/London:20261112T200000
DTEND;TZID=Europe/London:20261112T220000
DTSTAMP:20260421T212711
CREATED:20251228T191046Z
LAST-MODIFIED:20251228T191046Z
UID:10017915-1794513600-1794520800@wseo.digital
SUMMARY:Mark Ruston
DESCRIPTION:
URL:https://wseo.digital/event/vacant-show-thurs-8pm-10pm-2/2026-11-12/
ATTACH;FMTTYPE=image/webp:https://wseo.digital/wp-content/uploads/2025/11/slim-radio-show-1.webp
END:VEVENT
END:VCALENDAR