BEGIN:VCALENDAR
VERSION:2.0
PRODID:-//wseodigital - ECPv6.15.13//NONSGML v1.0//EN
CALSCALE:GREGORIAN
METHOD:PUBLISH
X-WR-CALNAME:wseodigital
X-ORIGINAL-URL:https://wseo.digital
X-WR-CALDESC:Events for wseodigital
REFRESH-INTERVAL;VALUE=DURATION:PT1H
X-Robots-Tag:noindex
X-PUBLISHED-TTL:PT1H
BEGIN:VTIMEZONE
TZID:Europe/London
BEGIN:DAYLIGHT
TZOFFSETFROM:+0000
TZOFFSETTO:+0100
TZNAME:BST
DTSTART:20250330T010000
END:DAYLIGHT
BEGIN:STANDARD
TZOFFSETFROM:+0100
TZOFFSETTO:+0000
TZNAME:GMT
DTSTART:20251026T010000
END:STANDARD
BEGIN:DAYLIGHT
TZOFFSETFROM:+0000
TZOFFSETTO:+0100
TZNAME:BST
DTSTART:20260329T010000
END:DAYLIGHT
BEGIN:STANDARD
TZOFFSETFROM:+0100
TZOFFSETTO:+0000
TZNAME:GMT
DTSTART:20261025T010000
END:STANDARD
BEGIN:DAYLIGHT
TZOFFSETFROM:+0000
TZOFFSETTO:+0100
TZNAME:BST
DTSTART:20270328T010000
END:DAYLIGHT
BEGIN:STANDARD
TZOFFSETFROM:+0100
TZOFFSETTO:+0000
TZNAME:GMT
DTSTART:20271031T010000
END:STANDARD
END:VTIMEZONE
BEGIN:VEVENT
DTSTART;TZID=Europe/London:20260424T120000
DTEND;TZID=Europe/London:20260424T140000
DTSTAMP:20260421T153701
CREATED:20251113T140213Z
LAST-MODIFIED:20251228T192546Z
UID:10018669-1777032000-1777039200@wseo.digital
SUMMARY:Slim Bot Fri 10am – 12pm
DESCRIPTION:Please email join@slimradio.co.uk if you would like to take this slot
URL:https://wseo.digital/event/vacant-show-fri-12pm-2pm/2026-04-24/
ATTACH;FMTTYPE=image/jpeg:https://wseo.digital/wp-content/uploads/2025/12/Slimbot.jpg
LOCATION:
END:VEVENT
BEGIN:VEVENT
DTSTART;TZID=Europe/London:20260501T120000
DTEND;TZID=Europe/London:20260501T140000
DTSTAMP:20260421T153701
CREATED:20251113T140213Z
LAST-MODIFIED:20251228T192546Z
UID:10018670-1777636800-1777644000@wseo.digital
SUMMARY:Slim Bot Fri 10am – 12pm
DESCRIPTION:Please email join@slimradio.co.uk if you would like to take this slot
URL:https://wseo.digital/event/vacant-show-fri-12pm-2pm/2026-05-01/
ATTACH;FMTTYPE=image/jpeg:https://wseo.digital/wp-content/uploads/2025/12/Slimbot.jpg
LOCATION:
END:VEVENT
BEGIN:VEVENT
DTSTART;TZID=Europe/London:20260508T120000
DTEND;TZID=Europe/London:20260508T140000
DTSTAMP:20260421T153701
CREATED:20251113T140213Z
LAST-MODIFIED:20251228T192546Z
UID:10018671-1778241600-1778248800@wseo.digital
SUMMARY:Slim Bot Fri 10am – 12pm
DESCRIPTION:Please email join@slimradio.co.uk if you would like to take this slot
URL:https://wseo.digital/event/vacant-show-fri-12pm-2pm/2026-05-08/
ATTACH;FMTTYPE=image/jpeg:https://wseo.digital/wp-content/uploads/2025/12/Slimbot.jpg
LOCATION:
END:VEVENT
BEGIN:VEVENT
DTSTART;TZID=Europe/London:20260515T120000
DTEND;TZID=Europe/London:20260515T140000
DTSTAMP:20260421T153701
CREATED:20251113T140213Z
LAST-MODIFIED:20251228T192546Z
UID:10018672-1778846400-1778853600@wseo.digital
SUMMARY:Slim Bot Fri 10am – 12pm
DESCRIPTION:Please email join@slimradio.co.uk if you would like to take this slot
URL:https://wseo.digital/event/vacant-show-fri-12pm-2pm/2026-05-15/
ATTACH;FMTTYPE=image/jpeg:https://wseo.digital/wp-content/uploads/2025/12/Slimbot.jpg
LOCATION:
END:VEVENT
BEGIN:VEVENT
DTSTART;TZID=Europe/London:20260522T120000
DTEND;TZID=Europe/London:20260522T140000
DTSTAMP:20260421T153701
CREATED:20251113T140213Z
LAST-MODIFIED:20251228T192546Z
UID:10018673-1779451200-1779458400@wseo.digital
SUMMARY:Slim Bot Fri 10am – 12pm
DESCRIPTION:Please email join@slimradio.co.uk if you would like to take this slot
URL:https://wseo.digital/event/vacant-show-fri-12pm-2pm/2026-05-22/
ATTACH;FMTTYPE=image/jpeg:https://wseo.digital/wp-content/uploads/2025/12/Slimbot.jpg
LOCATION:
END:VEVENT
BEGIN:VEVENT
DTSTART;TZID=Europe/London:20260529T120000
DTEND;TZID=Europe/London:20260529T140000
DTSTAMP:20260421T153701
CREATED:20251113T140213Z
LAST-MODIFIED:20251228T192546Z
UID:10018674-1780056000-1780063200@wseo.digital
SUMMARY:Slim Bot Fri 10am – 12pm
DESCRIPTION:Please email join@slimradio.co.uk if you would like to take this slot
URL:https://wseo.digital/event/vacant-show-fri-12pm-2pm/2026-05-29/
ATTACH;FMTTYPE=image/jpeg:https://wseo.digital/wp-content/uploads/2025/12/Slimbot.jpg
LOCATION:
END:VEVENT
BEGIN:VEVENT
DTSTART;TZID=Europe/London:20260605T120000
DTEND;TZID=Europe/London:20260605T140000
DTSTAMP:20260421T153701
CREATED:20251113T140213Z
LAST-MODIFIED:20251228T192546Z
UID:10018675-1780660800-1780668000@wseo.digital
SUMMARY:Slim Bot Fri 10am – 12pm
DESCRIPTION:Please email join@slimradio.co.uk if you would like to take this slot
URL:https://wseo.digital/event/vacant-show-fri-12pm-2pm/2026-06-05/
ATTACH;FMTTYPE=image/jpeg:https://wseo.digital/wp-content/uploads/2025/12/Slimbot.jpg
LOCATION:
END:VEVENT
BEGIN:VEVENT
DTSTART;TZID=Europe/London:20260612T120000
DTEND;TZID=Europe/London:20260612T140000
DTSTAMP:20260421T153701
CREATED:20251113T140213Z
LAST-MODIFIED:20251228T192546Z
UID:10018676-1781265600-1781272800@wseo.digital
SUMMARY:Slim Bot Fri 10am – 12pm
DESCRIPTION:Please email join@slimradio.co.uk if you would like to take this slot
URL:https://wseo.digital/event/vacant-show-fri-12pm-2pm/2026-06-12/
ATTACH;FMTTYPE=image/jpeg:https://wseo.digital/wp-content/uploads/2025/12/Slimbot.jpg
LOCATION:
END:VEVENT
BEGIN:VEVENT
DTSTART;TZID=Europe/London:20260619T120000
DTEND;TZID=Europe/London:20260619T140000
DTSTAMP:20260421T153701
CREATED:20251113T140213Z
LAST-MODIFIED:20251228T192546Z
UID:10018677-1781870400-1781877600@wseo.digital
SUMMARY:Slim Bot Fri 10am – 12pm
DESCRIPTION:Please email join@slimradio.co.uk if you would like to take this slot
URL:https://wseo.digital/event/vacant-show-fri-12pm-2pm/2026-06-19/
ATTACH;FMTTYPE=image/jpeg:https://wseo.digital/wp-content/uploads/2025/12/Slimbot.jpg
LOCATION:
END:VEVENT
BEGIN:VEVENT
DTSTART;TZID=Europe/London:20260626T120000
DTEND;TZID=Europe/London:20260626T140000
DTSTAMP:20260421T153701
CREATED:20251113T140213Z
LAST-MODIFIED:20251228T192546Z
UID:10018678-1782475200-1782482400@wseo.digital
SUMMARY:Slim Bot Fri 10am – 12pm
DESCRIPTION:Please email join@slimradio.co.uk if you would like to take this slot
URL:https://wseo.digital/event/vacant-show-fri-12pm-2pm/2026-06-26/
ATTACH;FMTTYPE=image/jpeg:https://wseo.digital/wp-content/uploads/2025/12/Slimbot.jpg
LOCATION:
END:VEVENT
BEGIN:VEVENT
DTSTART;TZID=Europe/London:20260703T120000
DTEND;TZID=Europe/London:20260703T140000
DTSTAMP:20260421T153701
CREATED:20251113T140213Z
LAST-MODIFIED:20251228T192546Z
UID:10018679-1783080000-1783087200@wseo.digital
SUMMARY:Slim Bot Fri 10am – 12pm
DESCRIPTION:Please email join@slimradio.co.uk if you would like to take this slot
URL:https://wseo.digital/event/vacant-show-fri-12pm-2pm/2026-07-03/
ATTACH;FMTTYPE=image/jpeg:https://wseo.digital/wp-content/uploads/2025/12/Slimbot.jpg
LOCATION:
END:VEVENT
BEGIN:VEVENT
DTSTART;TZID=Europe/London:20260710T120000
DTEND;TZID=Europe/London:20260710T140000
DTSTAMP:20260421T153701
CREATED:20251113T140213Z
LAST-MODIFIED:20251228T192546Z
UID:10018680-1783684800-1783692000@wseo.digital
SUMMARY:Slim Bot Fri 10am – 12pm
DESCRIPTION:Please email join@slimradio.co.uk if you would like to take this slot
URL:https://wseo.digital/event/vacant-show-fri-12pm-2pm/2026-07-10/
ATTACH;FMTTYPE=image/jpeg:https://wseo.digital/wp-content/uploads/2025/12/Slimbot.jpg
LOCATION:
END:VEVENT
BEGIN:VEVENT
DTSTART;TZID=Europe/London:20260717T120000
DTEND;TZID=Europe/London:20260717T140000
DTSTAMP:20260421T153701
CREATED:20251113T140213Z
LAST-MODIFIED:20251228T192546Z
UID:10018681-1784289600-1784296800@wseo.digital
SUMMARY:Slim Bot Fri 10am – 12pm
DESCRIPTION:Please email join@slimradio.co.uk if you would like to take this slot
URL:https://wseo.digital/event/vacant-show-fri-12pm-2pm/2026-07-17/
ATTACH;FMTTYPE=image/jpeg:https://wseo.digital/wp-content/uploads/2025/12/Slimbot.jpg
LOCATION:
END:VEVENT
BEGIN:VEVENT
DTSTART;TZID=Europe/London:20260724T120000
DTEND;TZID=Europe/London:20260724T140000
DTSTAMP:20260421T153701
CREATED:20251113T140213Z
LAST-MODIFIED:20251228T192546Z
UID:10018682-1784894400-1784901600@wseo.digital
SUMMARY:Slim Bot Fri 10am – 12pm
DESCRIPTION:Please email join@slimradio.co.uk if you would like to take this slot
URL:https://wseo.digital/event/vacant-show-fri-12pm-2pm/2026-07-24/
ATTACH;FMTTYPE=image/jpeg:https://wseo.digital/wp-content/uploads/2025/12/Slimbot.jpg
LOCATION:
END:VEVENT
BEGIN:VEVENT
DTSTART;TZID=Europe/London:20260731T120000
DTEND;TZID=Europe/London:20260731T140000
DTSTAMP:20260421T153701
CREATED:20251113T140213Z
LAST-MODIFIED:20251228T192546Z
UID:10018683-1785499200-1785506400@wseo.digital
SUMMARY:Slim Bot Fri 10am – 12pm
DESCRIPTION:Please email join@slimradio.co.uk if you would like to take this slot
URL:https://wseo.digital/event/vacant-show-fri-12pm-2pm/2026-07-31/
ATTACH;FMTTYPE=image/jpeg:https://wseo.digital/wp-content/uploads/2025/12/Slimbot.jpg
LOCATION:
END:VEVENT
BEGIN:VEVENT
DTSTART;TZID=Europe/London:20260807T120000
DTEND;TZID=Europe/London:20260807T140000
DTSTAMP:20260421T153701
CREATED:20251113T140213Z
LAST-MODIFIED:20251228T192546Z
UID:10018684-1786104000-1786111200@wseo.digital
SUMMARY:Slim Bot Fri 10am – 12pm
DESCRIPTION:Please email join@slimradio.co.uk if you would like to take this slot
URL:https://wseo.digital/event/vacant-show-fri-12pm-2pm/2026-08-07/
ATTACH;FMTTYPE=image/jpeg:https://wseo.digital/wp-content/uploads/2025/12/Slimbot.jpg
LOCATION:
END:VEVENT
BEGIN:VEVENT
DTSTART;TZID=Europe/London:20260814T120000
DTEND;TZID=Europe/London:20260814T140000
DTSTAMP:20260421T153701
CREATED:20251113T140213Z
LAST-MODIFIED:20251228T192546Z
UID:10018685-1786708800-1786716000@wseo.digital
SUMMARY:Slim Bot Fri 10am – 12pm
DESCRIPTION:Please email join@slimradio.co.uk if you would like to take this slot
URL:https://wseo.digital/event/vacant-show-fri-12pm-2pm/2026-08-14/
ATTACH;FMTTYPE=image/jpeg:https://wseo.digital/wp-content/uploads/2025/12/Slimbot.jpg
LOCATION:
END:VEVENT
BEGIN:VEVENT
DTSTART;TZID=Europe/London:20260821T120000
DTEND;TZID=Europe/London:20260821T140000
DTSTAMP:20260421T153701
CREATED:20251113T140213Z
LAST-MODIFIED:20251228T192546Z
UID:10018686-1787313600-1787320800@wseo.digital
SUMMARY:Slim Bot Fri 10am – 12pm
DESCRIPTION:Please email join@slimradio.co.uk if you would like to take this slot
URL:https://wseo.digital/event/vacant-show-fri-12pm-2pm/2026-08-21/
ATTACH;FMTTYPE=image/jpeg:https://wseo.digital/wp-content/uploads/2025/12/Slimbot.jpg
LOCATION:
END:VEVENT
BEGIN:VEVENT
DTSTART;TZID=Europe/London:20260828T120000
DTEND;TZID=Europe/London:20260828T140000
DTSTAMP:20260421T153701
CREATED:20251113T140213Z
LAST-MODIFIED:20251228T192546Z
UID:10018687-1787918400-1787925600@wseo.digital
SUMMARY:Slim Bot Fri 10am – 12pm
DESCRIPTION:Please email join@slimradio.co.uk if you would like to take this slot
URL:https://wseo.digital/event/vacant-show-fri-12pm-2pm/2026-08-28/
ATTACH;FMTTYPE=image/jpeg:https://wseo.digital/wp-content/uploads/2025/12/Slimbot.jpg
LOCATION:
END:VEVENT
BEGIN:VEVENT
DTSTART;TZID=Europe/London:20260904T120000
DTEND;TZID=Europe/London:20260904T140000
DTSTAMP:20260421T153701
CREATED:20251113T140213Z
LAST-MODIFIED:20251228T192546Z
UID:10018688-1788523200-1788530400@wseo.digital
SUMMARY:Slim Bot Fri 10am – 12pm
DESCRIPTION:Please email join@slimradio.co.uk if you would like to take this slot
URL:https://wseo.digital/event/vacant-show-fri-12pm-2pm/2026-09-04/
ATTACH;FMTTYPE=image/jpeg:https://wseo.digital/wp-content/uploads/2025/12/Slimbot.jpg
LOCATION:
END:VEVENT
BEGIN:VEVENT
DTSTART;TZID=Europe/London:20260911T120000
DTEND;TZID=Europe/London:20260911T140000
DTSTAMP:20260421T153701
CREATED:20251113T140213Z
LAST-MODIFIED:20251228T192546Z
UID:10018689-1789128000-1789135200@wseo.digital
SUMMARY:Slim Bot Fri 10am – 12pm
DESCRIPTION:Please email join@slimradio.co.uk if you would like to take this slot
URL:https://wseo.digital/event/vacant-show-fri-12pm-2pm/2026-09-11/
ATTACH;FMTTYPE=image/jpeg:https://wseo.digital/wp-content/uploads/2025/12/Slimbot.jpg
LOCATION:
END:VEVENT
BEGIN:VEVENT
DTSTART;TZID=Europe/London:20260918T120000
DTEND;TZID=Europe/London:20260918T140000
DTSTAMP:20260421T153701
CREATED:20251113T140213Z
LAST-MODIFIED:20251228T192546Z
UID:10018690-1789732800-1789740000@wseo.digital
SUMMARY:Slim Bot Fri 10am – 12pm
DESCRIPTION:Please email join@slimradio.co.uk if you would like to take this slot
URL:https://wseo.digital/event/vacant-show-fri-12pm-2pm/2026-09-18/
ATTACH;FMTTYPE=image/jpeg:https://wseo.digital/wp-content/uploads/2025/12/Slimbot.jpg
LOCATION:
END:VEVENT
BEGIN:VEVENT
DTSTART;TZID=Europe/London:20260925T120000
DTEND;TZID=Europe/London:20260925T140000
DTSTAMP:20260421T153701
CREATED:20251113T140213Z
LAST-MODIFIED:20251228T192546Z
UID:10018691-1790337600-1790344800@wseo.digital
SUMMARY:Slim Bot Fri 10am – 12pm
DESCRIPTION:Please email join@slimradio.co.uk if you would like to take this slot
URL:https://wseo.digital/event/vacant-show-fri-12pm-2pm/2026-09-25/
ATTACH;FMTTYPE=image/jpeg:https://wseo.digital/wp-content/uploads/2025/12/Slimbot.jpg
LOCATION:
END:VEVENT
BEGIN:VEVENT
DTSTART;TZID=Europe/London:20261002T120000
DTEND;TZID=Europe/London:20261002T140000
DTSTAMP:20260421T153701
CREATED:20251113T140213Z
LAST-MODIFIED:20251228T192546Z
UID:10018692-1790942400-1790949600@wseo.digital
SUMMARY:Slim Bot Fri 10am – 12pm
DESCRIPTION:Please email join@slimradio.co.uk if you would like to take this slot
URL:https://wseo.digital/event/vacant-show-fri-12pm-2pm/2026-10-02/
ATTACH;FMTTYPE=image/jpeg:https://wseo.digital/wp-content/uploads/2025/12/Slimbot.jpg
LOCATION:
END:VEVENT
BEGIN:VEVENT
DTSTART;TZID=Europe/London:20261009T120000
DTEND;TZID=Europe/London:20261009T140000
DTSTAMP:20260421T153701
CREATED:20251113T140213Z
LAST-MODIFIED:20251228T192546Z
UID:10018693-1791547200-1791554400@wseo.digital
SUMMARY:Slim Bot Fri 10am – 12pm
DESCRIPTION:Please email join@slimradio.co.uk if you would like to take this slot
URL:https://wseo.digital/event/vacant-show-fri-12pm-2pm/2026-10-09/
ATTACH;FMTTYPE=image/jpeg:https://wseo.digital/wp-content/uploads/2025/12/Slimbot.jpg
LOCATION:
END:VEVENT
BEGIN:VEVENT
DTSTART;TZID=Europe/London:20261016T120000
DTEND;TZID=Europe/London:20261016T140000
DTSTAMP:20260421T153701
CREATED:20251113T140213Z
LAST-MODIFIED:20251228T192546Z
UID:10018694-1792152000-1792159200@wseo.digital
SUMMARY:Slim Bot Fri 10am – 12pm
DESCRIPTION:Please email join@slimradio.co.uk if you would like to take this slot
URL:https://wseo.digital/event/vacant-show-fri-12pm-2pm/2026-10-16/
ATTACH;FMTTYPE=image/jpeg:https://wseo.digital/wp-content/uploads/2025/12/Slimbot.jpg
LOCATION:
END:VEVENT
BEGIN:VEVENT
DTSTART;TZID=Europe/London:20261023T120000
DTEND;TZID=Europe/London:20261023T140000
DTSTAMP:20260421T153701
CREATED:20251113T140213Z
LAST-MODIFIED:20251228T192546Z
UID:10018695-1792756800-1792764000@wseo.digital
SUMMARY:Slim Bot Fri 10am – 12pm
DESCRIPTION:Please email join@slimradio.co.uk if you would like to take this slot
URL:https://wseo.digital/event/vacant-show-fri-12pm-2pm/2026-10-23/
ATTACH;FMTTYPE=image/jpeg:https://wseo.digital/wp-content/uploads/2025/12/Slimbot.jpg
LOCATION:
END:VEVENT
BEGIN:VEVENT
DTSTART;TZID=Europe/London:20261030T120000
DTEND;TZID=Europe/London:20261030T140000
DTSTAMP:20260421T153701
CREATED:20251113T140213Z
LAST-MODIFIED:20251228T192546Z
UID:10018696-1793361600-1793368800@wseo.digital
SUMMARY:Slim Bot Fri 10am – 12pm
DESCRIPTION:Please email join@slimradio.co.uk if you would like to take this slot
URL:https://wseo.digital/event/vacant-show-fri-12pm-2pm/2026-10-30/
ATTACH;FMTTYPE=image/jpeg:https://wseo.digital/wp-content/uploads/2025/12/Slimbot.jpg
LOCATION:
END:VEVENT
BEGIN:VEVENT
DTSTART;TZID=Europe/London:20261106T120000
DTEND;TZID=Europe/London:20261106T140000
DTSTAMP:20260421T153701
CREATED:20251113T140213Z
LAST-MODIFIED:20251228T192546Z
UID:10018697-1793966400-1793973600@wseo.digital
SUMMARY:Slim Bot Fri 10am – 12pm
DESCRIPTION:Please email join@slimradio.co.uk if you would like to take this slot
URL:https://wseo.digital/event/vacant-show-fri-12pm-2pm/2026-11-06/
ATTACH;FMTTYPE=image/jpeg:https://wseo.digital/wp-content/uploads/2025/12/Slimbot.jpg
LOCATION:
END:VEVENT
BEGIN:VEVENT
DTSTART;TZID=Europe/London:20261113T120000
DTEND;TZID=Europe/London:20261113T140000
DTSTAMP:20260421T153701
CREATED:20251113T140213Z
LAST-MODIFIED:20251228T192546Z
UID:10018698-1794571200-1794578400@wseo.digital
SUMMARY:Slim Bot Fri 10am – 12pm
DESCRIPTION:Please email join@slimradio.co.uk if you would like to take this slot
URL:https://wseo.digital/event/vacant-show-fri-12pm-2pm/2026-11-13/
ATTACH;FMTTYPE=image/jpeg:https://wseo.digital/wp-content/uploads/2025/12/Slimbot.jpg
LOCATION:
END:VEVENT
END:VCALENDAR