BEGIN:VCALENDAR
VERSION:2.0
PRODID:-//wseodigital - ECPv6.15.13//NONSGML v1.0//EN
CALSCALE:GREGORIAN
METHOD:PUBLISH
X-WR-CALNAME:wseodigital
X-ORIGINAL-URL:https://wseo.digital
X-WR-CALDESC:Events for wseodigital
REFRESH-INTERVAL;VALUE=DURATION:PT1H
X-Robots-Tag:noindex
X-PUBLISHED-TTL:PT1H
BEGIN:VTIMEZONE
TZID:Europe/London
BEGIN:DAYLIGHT
TZOFFSETFROM:+0000
TZOFFSETTO:+0100
TZNAME:BST
DTSTART:20250330T010000
END:DAYLIGHT
BEGIN:STANDARD
TZOFFSETFROM:+0100
TZOFFSETTO:+0000
TZNAME:GMT
DTSTART:20251026T010000
END:STANDARD
BEGIN:DAYLIGHT
TZOFFSETFROM:+0000
TZOFFSETTO:+0100
TZNAME:BST
DTSTART:20260329T010000
END:DAYLIGHT
BEGIN:STANDARD
TZOFFSETFROM:+0100
TZOFFSETTO:+0000
TZNAME:GMT
DTSTART:20261025T010000
END:STANDARD
BEGIN:DAYLIGHT
TZOFFSETFROM:+0000
TZOFFSETTO:+0100
TZNAME:BST
DTSTART:20270328T010000
END:DAYLIGHT
BEGIN:STANDARD
TZOFFSETFROM:+0100
TZOFFSETTO:+0000
TZNAME:GMT
DTSTART:20271031T010000
END:STANDARD
END:VTIMEZONE
BEGIN:VEVENT
DTSTART;TZID=Europe/London:20260424T140000
DTEND;TZID=Europe/London:20260424T160000
DTSTAMP:20260421T205925
CREATED:20251113T140347Z
LAST-MODIFIED:20251228T192716Z
UID:10018930-1777039200-1777046400@wseo.digital
SUMMARY:Slim Bot 2pm - 4pm
DESCRIPTION:Please email join@slimradio.co.uk if you would like to take this slot
URL:https://wseo.digital/event/vacant-show-fri-2pm-4pm/2026-04-24/
ATTACH;FMTTYPE=image/jpeg:https://wseo.digital/wp-content/uploads/2025/12/Slimbot.jpg
LOCATION:
END:VEVENT
BEGIN:VEVENT
DTSTART;TZID=Europe/London:20260501T140000
DTEND;TZID=Europe/London:20260501T160000
DTSTAMP:20260421T205925
CREATED:20251113T140347Z
LAST-MODIFIED:20251228T192716Z
UID:10018931-1777644000-1777651200@wseo.digital
SUMMARY:Slim Bot 2pm - 4pm
DESCRIPTION:Please email join@slimradio.co.uk if you would like to take this slot
URL:https://wseo.digital/event/vacant-show-fri-2pm-4pm/2026-05-01/
ATTACH;FMTTYPE=image/jpeg:https://wseo.digital/wp-content/uploads/2025/12/Slimbot.jpg
LOCATION:
END:VEVENT
BEGIN:VEVENT
DTSTART;TZID=Europe/London:20260508T140000
DTEND;TZID=Europe/London:20260508T160000
DTSTAMP:20260421T205925
CREATED:20251113T140347Z
LAST-MODIFIED:20251228T192716Z
UID:10018932-1778248800-1778256000@wseo.digital
SUMMARY:Slim Bot 2pm - 4pm
DESCRIPTION:Please email join@slimradio.co.uk if you would like to take this slot
URL:https://wseo.digital/event/vacant-show-fri-2pm-4pm/2026-05-08/
ATTACH;FMTTYPE=image/jpeg:https://wseo.digital/wp-content/uploads/2025/12/Slimbot.jpg
LOCATION:
END:VEVENT
BEGIN:VEVENT
DTSTART;TZID=Europe/London:20260515T140000
DTEND;TZID=Europe/London:20260515T160000
DTSTAMP:20260421T205925
CREATED:20251113T140347Z
LAST-MODIFIED:20251228T192716Z
UID:10018933-1778853600-1778860800@wseo.digital
SUMMARY:Slim Bot 2pm - 4pm
DESCRIPTION:Please email join@slimradio.co.uk if you would like to take this slot
URL:https://wseo.digital/event/vacant-show-fri-2pm-4pm/2026-05-15/
ATTACH;FMTTYPE=image/jpeg:https://wseo.digital/wp-content/uploads/2025/12/Slimbot.jpg
LOCATION:
END:VEVENT
BEGIN:VEVENT
DTSTART;TZID=Europe/London:20260522T140000
DTEND;TZID=Europe/London:20260522T160000
DTSTAMP:20260421T205925
CREATED:20251113T140347Z
LAST-MODIFIED:20251228T192716Z
UID:10018934-1779458400-1779465600@wseo.digital
SUMMARY:Slim Bot 2pm - 4pm
DESCRIPTION:Please email join@slimradio.co.uk if you would like to take this slot
URL:https://wseo.digital/event/vacant-show-fri-2pm-4pm/2026-05-22/
ATTACH;FMTTYPE=image/jpeg:https://wseo.digital/wp-content/uploads/2025/12/Slimbot.jpg
LOCATION:
END:VEVENT
BEGIN:VEVENT
DTSTART;TZID=Europe/London:20260529T140000
DTEND;TZID=Europe/London:20260529T160000
DTSTAMP:20260421T205925
CREATED:20251113T140347Z
LAST-MODIFIED:20251228T192716Z
UID:10018935-1780063200-1780070400@wseo.digital
SUMMARY:Slim Bot 2pm - 4pm
DESCRIPTION:Please email join@slimradio.co.uk if you would like to take this slot
URL:https://wseo.digital/event/vacant-show-fri-2pm-4pm/2026-05-29/
ATTACH;FMTTYPE=image/jpeg:https://wseo.digital/wp-content/uploads/2025/12/Slimbot.jpg
LOCATION:
END:VEVENT
BEGIN:VEVENT
DTSTART;TZID=Europe/London:20260605T140000
DTEND;TZID=Europe/London:20260605T160000
DTSTAMP:20260421T205925
CREATED:20251113T140347Z
LAST-MODIFIED:20251228T192716Z
UID:10018936-1780668000-1780675200@wseo.digital
SUMMARY:Slim Bot 2pm - 4pm
DESCRIPTION:Please email join@slimradio.co.uk if you would like to take this slot
URL:https://wseo.digital/event/vacant-show-fri-2pm-4pm/2026-06-05/
ATTACH;FMTTYPE=image/jpeg:https://wseo.digital/wp-content/uploads/2025/12/Slimbot.jpg
LOCATION:
END:VEVENT
BEGIN:VEVENT
DTSTART;TZID=Europe/London:20260612T140000
DTEND;TZID=Europe/London:20260612T160000
DTSTAMP:20260421T205925
CREATED:20251113T140347Z
LAST-MODIFIED:20251228T192716Z
UID:10018937-1781272800-1781280000@wseo.digital
SUMMARY:Slim Bot 2pm - 4pm
DESCRIPTION:Please email join@slimradio.co.uk if you would like to take this slot
URL:https://wseo.digital/event/vacant-show-fri-2pm-4pm/2026-06-12/
ATTACH;FMTTYPE=image/jpeg:https://wseo.digital/wp-content/uploads/2025/12/Slimbot.jpg
LOCATION:
END:VEVENT
BEGIN:VEVENT
DTSTART;TZID=Europe/London:20260619T140000
DTEND;TZID=Europe/London:20260619T160000
DTSTAMP:20260421T205925
CREATED:20251113T140347Z
LAST-MODIFIED:20251228T192716Z
UID:10018938-1781877600-1781884800@wseo.digital
SUMMARY:Slim Bot 2pm - 4pm
DESCRIPTION:Please email join@slimradio.co.uk if you would like to take this slot
URL:https://wseo.digital/event/vacant-show-fri-2pm-4pm/2026-06-19/
ATTACH;FMTTYPE=image/jpeg:https://wseo.digital/wp-content/uploads/2025/12/Slimbot.jpg
LOCATION:
END:VEVENT
BEGIN:VEVENT
DTSTART;TZID=Europe/London:20260626T140000
DTEND;TZID=Europe/London:20260626T160000
DTSTAMP:20260421T205925
CREATED:20251113T140347Z
LAST-MODIFIED:20251228T192716Z
UID:10018939-1782482400-1782489600@wseo.digital
SUMMARY:Slim Bot 2pm - 4pm
DESCRIPTION:Please email join@slimradio.co.uk if you would like to take this slot
URL:https://wseo.digital/event/vacant-show-fri-2pm-4pm/2026-06-26/
ATTACH;FMTTYPE=image/jpeg:https://wseo.digital/wp-content/uploads/2025/12/Slimbot.jpg
LOCATION:
END:VEVENT
BEGIN:VEVENT
DTSTART;TZID=Europe/London:20260703T140000
DTEND;TZID=Europe/London:20260703T160000
DTSTAMP:20260421T205925
CREATED:20251113T140347Z
LAST-MODIFIED:20251228T192716Z
UID:10018940-1783087200-1783094400@wseo.digital
SUMMARY:Slim Bot 2pm - 4pm
DESCRIPTION:Please email join@slimradio.co.uk if you would like to take this slot
URL:https://wseo.digital/event/vacant-show-fri-2pm-4pm/2026-07-03/
ATTACH;FMTTYPE=image/jpeg:https://wseo.digital/wp-content/uploads/2025/12/Slimbot.jpg
LOCATION:
END:VEVENT
BEGIN:VEVENT
DTSTART;TZID=Europe/London:20260710T140000
DTEND;TZID=Europe/London:20260710T160000
DTSTAMP:20260421T205925
CREATED:20251113T140347Z
LAST-MODIFIED:20251228T192716Z
UID:10018941-1783692000-1783699200@wseo.digital
SUMMARY:Slim Bot 2pm - 4pm
DESCRIPTION:Please email join@slimradio.co.uk if you would like to take this slot
URL:https://wseo.digital/event/vacant-show-fri-2pm-4pm/2026-07-10/
ATTACH;FMTTYPE=image/jpeg:https://wseo.digital/wp-content/uploads/2025/12/Slimbot.jpg
LOCATION:
END:VEVENT
BEGIN:VEVENT
DTSTART;TZID=Europe/London:20260717T140000
DTEND;TZID=Europe/London:20260717T160000
DTSTAMP:20260421T205925
CREATED:20251113T140347Z
LAST-MODIFIED:20251228T192716Z
UID:10018942-1784296800-1784304000@wseo.digital
SUMMARY:Slim Bot 2pm - 4pm
DESCRIPTION:Please email join@slimradio.co.uk if you would like to take this slot
URL:https://wseo.digital/event/vacant-show-fri-2pm-4pm/2026-07-17/
ATTACH;FMTTYPE=image/jpeg:https://wseo.digital/wp-content/uploads/2025/12/Slimbot.jpg
LOCATION:
END:VEVENT
BEGIN:VEVENT
DTSTART;TZID=Europe/London:20260724T140000
DTEND;TZID=Europe/London:20260724T160000
DTSTAMP:20260421T205925
CREATED:20251113T140347Z
LAST-MODIFIED:20251228T192716Z
UID:10018943-1784901600-1784908800@wseo.digital
SUMMARY:Slim Bot 2pm - 4pm
DESCRIPTION:Please email join@slimradio.co.uk if you would like to take this slot
URL:https://wseo.digital/event/vacant-show-fri-2pm-4pm/2026-07-24/
ATTACH;FMTTYPE=image/jpeg:https://wseo.digital/wp-content/uploads/2025/12/Slimbot.jpg
LOCATION:
END:VEVENT
BEGIN:VEVENT
DTSTART;TZID=Europe/London:20260731T140000
DTEND;TZID=Europe/London:20260731T160000
DTSTAMP:20260421T205925
CREATED:20251113T140347Z
LAST-MODIFIED:20251228T192716Z
UID:10018944-1785506400-1785513600@wseo.digital
SUMMARY:Slim Bot 2pm - 4pm
DESCRIPTION:Please email join@slimradio.co.uk if you would like to take this slot
URL:https://wseo.digital/event/vacant-show-fri-2pm-4pm/2026-07-31/
ATTACH;FMTTYPE=image/jpeg:https://wseo.digital/wp-content/uploads/2025/12/Slimbot.jpg
LOCATION:
END:VEVENT
BEGIN:VEVENT
DTSTART;TZID=Europe/London:20260807T140000
DTEND;TZID=Europe/London:20260807T160000
DTSTAMP:20260421T205925
CREATED:20251113T140347Z
LAST-MODIFIED:20251228T192716Z
UID:10018945-1786111200-1786118400@wseo.digital
SUMMARY:Slim Bot 2pm - 4pm
DESCRIPTION:Please email join@slimradio.co.uk if you would like to take this slot
URL:https://wseo.digital/event/vacant-show-fri-2pm-4pm/2026-08-07/
ATTACH;FMTTYPE=image/jpeg:https://wseo.digital/wp-content/uploads/2025/12/Slimbot.jpg
LOCATION:
END:VEVENT
BEGIN:VEVENT
DTSTART;TZID=Europe/London:20260814T140000
DTEND;TZID=Europe/London:20260814T160000
DTSTAMP:20260421T205925
CREATED:20251113T140347Z
LAST-MODIFIED:20251228T192716Z
UID:10018946-1786716000-1786723200@wseo.digital
SUMMARY:Slim Bot 2pm - 4pm
DESCRIPTION:Please email join@slimradio.co.uk if you would like to take this slot
URL:https://wseo.digital/event/vacant-show-fri-2pm-4pm/2026-08-14/
ATTACH;FMTTYPE=image/jpeg:https://wseo.digital/wp-content/uploads/2025/12/Slimbot.jpg
LOCATION:
END:VEVENT
BEGIN:VEVENT
DTSTART;TZID=Europe/London:20260821T140000
DTEND;TZID=Europe/London:20260821T160000
DTSTAMP:20260421T205925
CREATED:20251113T140347Z
LAST-MODIFIED:20251228T192716Z
UID:10018947-1787320800-1787328000@wseo.digital
SUMMARY:Slim Bot 2pm - 4pm
DESCRIPTION:Please email join@slimradio.co.uk if you would like to take this slot
URL:https://wseo.digital/event/vacant-show-fri-2pm-4pm/2026-08-21/
ATTACH;FMTTYPE=image/jpeg:https://wseo.digital/wp-content/uploads/2025/12/Slimbot.jpg
LOCATION:
END:VEVENT
BEGIN:VEVENT
DTSTART;TZID=Europe/London:20260828T140000
DTEND;TZID=Europe/London:20260828T160000
DTSTAMP:20260421T205925
CREATED:20251113T140347Z
LAST-MODIFIED:20251228T192716Z
UID:10018948-1787925600-1787932800@wseo.digital
SUMMARY:Slim Bot 2pm - 4pm
DESCRIPTION:Please email join@slimradio.co.uk if you would like to take this slot
URL:https://wseo.digital/event/vacant-show-fri-2pm-4pm/2026-08-28/
ATTACH;FMTTYPE=image/jpeg:https://wseo.digital/wp-content/uploads/2025/12/Slimbot.jpg
LOCATION:
END:VEVENT
BEGIN:VEVENT
DTSTART;TZID=Europe/London:20260904T140000
DTEND;TZID=Europe/London:20260904T160000
DTSTAMP:20260421T205925
CREATED:20251113T140347Z
LAST-MODIFIED:20251228T192716Z
UID:10018949-1788530400-1788537600@wseo.digital
SUMMARY:Slim Bot 2pm - 4pm
DESCRIPTION:Please email join@slimradio.co.uk if you would like to take this slot
URL:https://wseo.digital/event/vacant-show-fri-2pm-4pm/2026-09-04/
ATTACH;FMTTYPE=image/jpeg:https://wseo.digital/wp-content/uploads/2025/12/Slimbot.jpg
LOCATION:
END:VEVENT
BEGIN:VEVENT
DTSTART;TZID=Europe/London:20260911T140000
DTEND;TZID=Europe/London:20260911T160000
DTSTAMP:20260421T205925
CREATED:20251113T140347Z
LAST-MODIFIED:20251228T192716Z
UID:10018950-1789135200-1789142400@wseo.digital
SUMMARY:Slim Bot 2pm - 4pm
DESCRIPTION:Please email join@slimradio.co.uk if you would like to take this slot
URL:https://wseo.digital/event/vacant-show-fri-2pm-4pm/2026-09-11/
ATTACH;FMTTYPE=image/jpeg:https://wseo.digital/wp-content/uploads/2025/12/Slimbot.jpg
LOCATION:
END:VEVENT
BEGIN:VEVENT
DTSTART;TZID=Europe/London:20260918T140000
DTEND;TZID=Europe/London:20260918T160000
DTSTAMP:20260421T205925
CREATED:20251113T140347Z
LAST-MODIFIED:20251228T192716Z
UID:10018951-1789740000-1789747200@wseo.digital
SUMMARY:Slim Bot 2pm - 4pm
DESCRIPTION:Please email join@slimradio.co.uk if you would like to take this slot
URL:https://wseo.digital/event/vacant-show-fri-2pm-4pm/2026-09-18/
ATTACH;FMTTYPE=image/jpeg:https://wseo.digital/wp-content/uploads/2025/12/Slimbot.jpg
LOCATION:
END:VEVENT
BEGIN:VEVENT
DTSTART;TZID=Europe/London:20260925T140000
DTEND;TZID=Europe/London:20260925T160000
DTSTAMP:20260421T205925
CREATED:20251113T140347Z
LAST-MODIFIED:20251228T192716Z
UID:10018952-1790344800-1790352000@wseo.digital
SUMMARY:Slim Bot 2pm - 4pm
DESCRIPTION:Please email join@slimradio.co.uk if you would like to take this slot
URL:https://wseo.digital/event/vacant-show-fri-2pm-4pm/2026-09-25/
ATTACH;FMTTYPE=image/jpeg:https://wseo.digital/wp-content/uploads/2025/12/Slimbot.jpg
LOCATION:
END:VEVENT
BEGIN:VEVENT
DTSTART;TZID=Europe/London:20261002T140000
DTEND;TZID=Europe/London:20261002T160000
DTSTAMP:20260421T205925
CREATED:20251113T140347Z
LAST-MODIFIED:20251228T192716Z
UID:10018953-1790949600-1790956800@wseo.digital
SUMMARY:Slim Bot 2pm - 4pm
DESCRIPTION:Please email join@slimradio.co.uk if you would like to take this slot
URL:https://wseo.digital/event/vacant-show-fri-2pm-4pm/2026-10-02/
ATTACH;FMTTYPE=image/jpeg:https://wseo.digital/wp-content/uploads/2025/12/Slimbot.jpg
LOCATION:
END:VEVENT
BEGIN:VEVENT
DTSTART;TZID=Europe/London:20261009T140000
DTEND;TZID=Europe/London:20261009T160000
DTSTAMP:20260421T205925
CREATED:20251113T140347Z
LAST-MODIFIED:20251228T192716Z
UID:10018954-1791554400-1791561600@wseo.digital
SUMMARY:Slim Bot 2pm - 4pm
DESCRIPTION:Please email join@slimradio.co.uk if you would like to take this slot
URL:https://wseo.digital/event/vacant-show-fri-2pm-4pm/2026-10-09/
ATTACH;FMTTYPE=image/jpeg:https://wseo.digital/wp-content/uploads/2025/12/Slimbot.jpg
LOCATION:
END:VEVENT
BEGIN:VEVENT
DTSTART;TZID=Europe/London:20261016T140000
DTEND;TZID=Europe/London:20261016T160000
DTSTAMP:20260421T205925
CREATED:20251113T140347Z
LAST-MODIFIED:20251228T192716Z
UID:10018955-1792159200-1792166400@wseo.digital
SUMMARY:Slim Bot 2pm - 4pm
DESCRIPTION:Please email join@slimradio.co.uk if you would like to take this slot
URL:https://wseo.digital/event/vacant-show-fri-2pm-4pm/2026-10-16/
ATTACH;FMTTYPE=image/jpeg:https://wseo.digital/wp-content/uploads/2025/12/Slimbot.jpg
LOCATION:
END:VEVENT
BEGIN:VEVENT
DTSTART;TZID=Europe/London:20261023T140000
DTEND;TZID=Europe/London:20261023T160000
DTSTAMP:20260421T205925
CREATED:20251113T140347Z
LAST-MODIFIED:20251228T192716Z
UID:10018956-1792764000-1792771200@wseo.digital
SUMMARY:Slim Bot 2pm - 4pm
DESCRIPTION:Please email join@slimradio.co.uk if you would like to take this slot
URL:https://wseo.digital/event/vacant-show-fri-2pm-4pm/2026-10-23/
ATTACH;FMTTYPE=image/jpeg:https://wseo.digital/wp-content/uploads/2025/12/Slimbot.jpg
LOCATION:
END:VEVENT
BEGIN:VEVENT
DTSTART;TZID=Europe/London:20261030T140000
DTEND;TZID=Europe/London:20261030T160000
DTSTAMP:20260421T205925
CREATED:20251113T140347Z
LAST-MODIFIED:20251228T192716Z
UID:10018957-1793368800-1793376000@wseo.digital
SUMMARY:Slim Bot 2pm - 4pm
DESCRIPTION:Please email join@slimradio.co.uk if you would like to take this slot
URL:https://wseo.digital/event/vacant-show-fri-2pm-4pm/2026-10-30/
ATTACH;FMTTYPE=image/jpeg:https://wseo.digital/wp-content/uploads/2025/12/Slimbot.jpg
LOCATION:
END:VEVENT
BEGIN:VEVENT
DTSTART;TZID=Europe/London:20261106T140000
DTEND;TZID=Europe/London:20261106T160000
DTSTAMP:20260421T205925
CREATED:20251113T140347Z
LAST-MODIFIED:20251228T192716Z
UID:10018958-1793973600-1793980800@wseo.digital
SUMMARY:Slim Bot 2pm - 4pm
DESCRIPTION:Please email join@slimradio.co.uk if you would like to take this slot
URL:https://wseo.digital/event/vacant-show-fri-2pm-4pm/2026-11-06/
ATTACH;FMTTYPE=image/jpeg:https://wseo.digital/wp-content/uploads/2025/12/Slimbot.jpg
LOCATION:
END:VEVENT
BEGIN:VEVENT
DTSTART;TZID=Europe/London:20261113T140000
DTEND;TZID=Europe/London:20261113T160000
DTSTAMP:20260421T205925
CREATED:20251113T140347Z
LAST-MODIFIED:20251228T192716Z
UID:10018959-1794578400-1794585600@wseo.digital
SUMMARY:Slim Bot 2pm - 4pm
DESCRIPTION:Please email join@slimradio.co.uk if you would like to take this slot
URL:https://wseo.digital/event/vacant-show-fri-2pm-4pm/2026-11-13/
ATTACH;FMTTYPE=image/jpeg:https://wseo.digital/wp-content/uploads/2025/12/Slimbot.jpg
LOCATION:
END:VEVENT
END:VCALENDAR