BEGIN:VCALENDAR
VERSION:2.0
PRODID:-//wseodigital - ECPv6.15.13//NONSGML v1.0//EN
CALSCALE:GREGORIAN
METHOD:PUBLISH
X-WR-CALNAME:wseodigital
X-ORIGINAL-URL:https://wseo.digital
X-WR-CALDESC:Events for wseodigital
REFRESH-INTERVAL;VALUE=DURATION:PT1H
X-Robots-Tag:noindex
X-PUBLISHED-TTL:PT1H
BEGIN:VTIMEZONE
TZID:Europe/London
BEGIN:DAYLIGHT
TZOFFSETFROM:+0000
TZOFFSETTO:+0100
TZNAME:BST
DTSTART:20250330T010000
END:DAYLIGHT
BEGIN:STANDARD
TZOFFSETFROM:+0100
TZOFFSETTO:+0000
TZNAME:GMT
DTSTART:20251026T010000
END:STANDARD
BEGIN:DAYLIGHT
TZOFFSETFROM:+0000
TZOFFSETTO:+0100
TZNAME:BST
DTSTART:20260329T010000
END:DAYLIGHT
BEGIN:STANDARD
TZOFFSETFROM:+0100
TZOFFSETTO:+0000
TZNAME:GMT
DTSTART:20261025T010000
END:STANDARD
BEGIN:DAYLIGHT
TZOFFSETFROM:+0000
TZOFFSETTO:+0100
TZNAME:BST
DTSTART:20270328T010000
END:DAYLIGHT
BEGIN:STANDARD
TZOFFSETFROM:+0100
TZOFFSETTO:+0000
TZNAME:GMT
DTSTART:20271031T010000
END:STANDARD
END:VTIMEZONE
BEGIN:VEVENT
DTSTART;TZID=Europe/London:20260424T220000
DTEND;TZID=Europe/London:20260424T233000
DTSTAMP:20260421T175458
CREATED:20251113T140531Z
LAST-MODIFIED:20251228T192127Z
UID:10019192-1777068000-1777073400@wseo.digital
SUMMARY:Slim Bot Fri 10pm - 12am
DESCRIPTION:Please email join@slimradio.co.uk if you would like to take this slot
URL:https://wseo.digital/event/vacant-show-fri-10pm-12am/2026-04-24/
ATTACH;FMTTYPE=image/jpeg:https://wseo.digital/wp-content/uploads/2025/12/Slimbot.jpg
LOCATION:
END:VEVENT
BEGIN:VEVENT
DTSTART;TZID=Europe/London:20260501T220000
DTEND;TZID=Europe/London:20260501T233000
DTSTAMP:20260421T175458
CREATED:20251113T140531Z
LAST-MODIFIED:20251228T192127Z
UID:10019193-1777672800-1777678200@wseo.digital
SUMMARY:Slim Bot Fri 10pm - 12am
DESCRIPTION:Please email join@slimradio.co.uk if you would like to take this slot
URL:https://wseo.digital/event/vacant-show-fri-10pm-12am/2026-05-01/
ATTACH;FMTTYPE=image/jpeg:https://wseo.digital/wp-content/uploads/2025/12/Slimbot.jpg
LOCATION:
END:VEVENT
BEGIN:VEVENT
DTSTART;TZID=Europe/London:20260508T220000
DTEND;TZID=Europe/London:20260508T233000
DTSTAMP:20260421T175458
CREATED:20251113T140531Z
LAST-MODIFIED:20251228T192127Z
UID:10019194-1778277600-1778283000@wseo.digital
SUMMARY:Slim Bot Fri 10pm - 12am
DESCRIPTION:Please email join@slimradio.co.uk if you would like to take this slot
URL:https://wseo.digital/event/vacant-show-fri-10pm-12am/2026-05-08/
ATTACH;FMTTYPE=image/jpeg:https://wseo.digital/wp-content/uploads/2025/12/Slimbot.jpg
LOCATION:
END:VEVENT
BEGIN:VEVENT
DTSTART;TZID=Europe/London:20260515T220000
DTEND;TZID=Europe/London:20260515T233000
DTSTAMP:20260421T175458
CREATED:20251113T140531Z
LAST-MODIFIED:20251228T192127Z
UID:10019195-1778882400-1778887800@wseo.digital
SUMMARY:Slim Bot Fri 10pm - 12am
DESCRIPTION:Please email join@slimradio.co.uk if you would like to take this slot
URL:https://wseo.digital/event/vacant-show-fri-10pm-12am/2026-05-15/
ATTACH;FMTTYPE=image/jpeg:https://wseo.digital/wp-content/uploads/2025/12/Slimbot.jpg
LOCATION:
END:VEVENT
BEGIN:VEVENT
DTSTART;TZID=Europe/London:20260522T220000
DTEND;TZID=Europe/London:20260522T233000
DTSTAMP:20260421T175458
CREATED:20251113T140531Z
LAST-MODIFIED:20251228T192127Z
UID:10019196-1779487200-1779492600@wseo.digital
SUMMARY:Slim Bot Fri 10pm - 12am
DESCRIPTION:Please email join@slimradio.co.uk if you would like to take this slot
URL:https://wseo.digital/event/vacant-show-fri-10pm-12am/2026-05-22/
ATTACH;FMTTYPE=image/jpeg:https://wseo.digital/wp-content/uploads/2025/12/Slimbot.jpg
LOCATION:
END:VEVENT
BEGIN:VEVENT
DTSTART;TZID=Europe/London:20260529T220000
DTEND;TZID=Europe/London:20260529T233000
DTSTAMP:20260421T175458
CREATED:20251113T140531Z
LAST-MODIFIED:20251228T192127Z
UID:10019197-1780092000-1780097400@wseo.digital
SUMMARY:Slim Bot Fri 10pm - 12am
DESCRIPTION:Please email join@slimradio.co.uk if you would like to take this slot
URL:https://wseo.digital/event/vacant-show-fri-10pm-12am/2026-05-29/
ATTACH;FMTTYPE=image/jpeg:https://wseo.digital/wp-content/uploads/2025/12/Slimbot.jpg
LOCATION:
END:VEVENT
BEGIN:VEVENT
DTSTART;TZID=Europe/London:20260605T220000
DTEND;TZID=Europe/London:20260605T233000
DTSTAMP:20260421T175458
CREATED:20251113T140531Z
LAST-MODIFIED:20251228T192127Z
UID:10019198-1780696800-1780702200@wseo.digital
SUMMARY:Slim Bot Fri 10pm - 12am
DESCRIPTION:Please email join@slimradio.co.uk if you would like to take this slot
URL:https://wseo.digital/event/vacant-show-fri-10pm-12am/2026-06-05/
ATTACH;FMTTYPE=image/jpeg:https://wseo.digital/wp-content/uploads/2025/12/Slimbot.jpg
LOCATION:
END:VEVENT
BEGIN:VEVENT
DTSTART;TZID=Europe/London:20260612T220000
DTEND;TZID=Europe/London:20260612T233000
DTSTAMP:20260421T175458
CREATED:20251113T140531Z
LAST-MODIFIED:20251228T192127Z
UID:10019199-1781301600-1781307000@wseo.digital
SUMMARY:Slim Bot Fri 10pm - 12am
DESCRIPTION:Please email join@slimradio.co.uk if you would like to take this slot
URL:https://wseo.digital/event/vacant-show-fri-10pm-12am/2026-06-12/
ATTACH;FMTTYPE=image/jpeg:https://wseo.digital/wp-content/uploads/2025/12/Slimbot.jpg
LOCATION:
END:VEVENT
BEGIN:VEVENT
DTSTART;TZID=Europe/London:20260619T220000
DTEND;TZID=Europe/London:20260619T233000
DTSTAMP:20260421T175458
CREATED:20251113T140531Z
LAST-MODIFIED:20251228T192127Z
UID:10019200-1781906400-1781911800@wseo.digital
SUMMARY:Slim Bot Fri 10pm - 12am
DESCRIPTION:Please email join@slimradio.co.uk if you would like to take this slot
URL:https://wseo.digital/event/vacant-show-fri-10pm-12am/2026-06-19/
ATTACH;FMTTYPE=image/jpeg:https://wseo.digital/wp-content/uploads/2025/12/Slimbot.jpg
LOCATION:
END:VEVENT
BEGIN:VEVENT
DTSTART;TZID=Europe/London:20260626T220000
DTEND;TZID=Europe/London:20260626T233000
DTSTAMP:20260421T175458
CREATED:20251113T140531Z
LAST-MODIFIED:20251228T192127Z
UID:10019201-1782511200-1782516600@wseo.digital
SUMMARY:Slim Bot Fri 10pm - 12am
DESCRIPTION:Please email join@slimradio.co.uk if you would like to take this slot
URL:https://wseo.digital/event/vacant-show-fri-10pm-12am/2026-06-26/
ATTACH;FMTTYPE=image/jpeg:https://wseo.digital/wp-content/uploads/2025/12/Slimbot.jpg
LOCATION:
END:VEVENT
BEGIN:VEVENT
DTSTART;TZID=Europe/London:20260703T220000
DTEND;TZID=Europe/London:20260703T233000
DTSTAMP:20260421T175458
CREATED:20251113T140531Z
LAST-MODIFIED:20251228T192127Z
UID:10019202-1783116000-1783121400@wseo.digital
SUMMARY:Slim Bot Fri 10pm - 12am
DESCRIPTION:Please email join@slimradio.co.uk if you would like to take this slot
URL:https://wseo.digital/event/vacant-show-fri-10pm-12am/2026-07-03/
ATTACH;FMTTYPE=image/jpeg:https://wseo.digital/wp-content/uploads/2025/12/Slimbot.jpg
LOCATION:
END:VEVENT
BEGIN:VEVENT
DTSTART;TZID=Europe/London:20260710T220000
DTEND;TZID=Europe/London:20260710T233000
DTSTAMP:20260421T175458
CREATED:20251113T140531Z
LAST-MODIFIED:20251228T192127Z
UID:10019203-1783720800-1783726200@wseo.digital
SUMMARY:Slim Bot Fri 10pm - 12am
DESCRIPTION:Please email join@slimradio.co.uk if you would like to take this slot
URL:https://wseo.digital/event/vacant-show-fri-10pm-12am/2026-07-10/
ATTACH;FMTTYPE=image/jpeg:https://wseo.digital/wp-content/uploads/2025/12/Slimbot.jpg
LOCATION:
END:VEVENT
BEGIN:VEVENT
DTSTART;TZID=Europe/London:20260717T220000
DTEND;TZID=Europe/London:20260717T233000
DTSTAMP:20260421T175458
CREATED:20251113T140531Z
LAST-MODIFIED:20251228T192127Z
UID:10019204-1784325600-1784331000@wseo.digital
SUMMARY:Slim Bot Fri 10pm - 12am
DESCRIPTION:Please email join@slimradio.co.uk if you would like to take this slot
URL:https://wseo.digital/event/vacant-show-fri-10pm-12am/2026-07-17/
ATTACH;FMTTYPE=image/jpeg:https://wseo.digital/wp-content/uploads/2025/12/Slimbot.jpg
LOCATION:
END:VEVENT
BEGIN:VEVENT
DTSTART;TZID=Europe/London:20260724T220000
DTEND;TZID=Europe/London:20260724T233000
DTSTAMP:20260421T175458
CREATED:20251113T140531Z
LAST-MODIFIED:20251228T192127Z
UID:10019205-1784930400-1784935800@wseo.digital
SUMMARY:Slim Bot Fri 10pm - 12am
DESCRIPTION:Please email join@slimradio.co.uk if you would like to take this slot
URL:https://wseo.digital/event/vacant-show-fri-10pm-12am/2026-07-24/
ATTACH;FMTTYPE=image/jpeg:https://wseo.digital/wp-content/uploads/2025/12/Slimbot.jpg
LOCATION:
END:VEVENT
BEGIN:VEVENT
DTSTART;TZID=Europe/London:20260731T220000
DTEND;TZID=Europe/London:20260731T233000
DTSTAMP:20260421T175458
CREATED:20251113T140531Z
LAST-MODIFIED:20251228T192127Z
UID:10019206-1785535200-1785540600@wseo.digital
SUMMARY:Slim Bot Fri 10pm - 12am
DESCRIPTION:Please email join@slimradio.co.uk if you would like to take this slot
URL:https://wseo.digital/event/vacant-show-fri-10pm-12am/2026-07-31/
ATTACH;FMTTYPE=image/jpeg:https://wseo.digital/wp-content/uploads/2025/12/Slimbot.jpg
LOCATION:
END:VEVENT
BEGIN:VEVENT
DTSTART;TZID=Europe/London:20260807T220000
DTEND;TZID=Europe/London:20260807T233000
DTSTAMP:20260421T175458
CREATED:20251113T140531Z
LAST-MODIFIED:20251228T192127Z
UID:10019207-1786140000-1786145400@wseo.digital
SUMMARY:Slim Bot Fri 10pm - 12am
DESCRIPTION:Please email join@slimradio.co.uk if you would like to take this slot
URL:https://wseo.digital/event/vacant-show-fri-10pm-12am/2026-08-07/
ATTACH;FMTTYPE=image/jpeg:https://wseo.digital/wp-content/uploads/2025/12/Slimbot.jpg
LOCATION:
END:VEVENT
BEGIN:VEVENT
DTSTART;TZID=Europe/London:20260814T220000
DTEND;TZID=Europe/London:20260814T233000
DTSTAMP:20260421T175458
CREATED:20251113T140531Z
LAST-MODIFIED:20251228T192127Z
UID:10019208-1786744800-1786750200@wseo.digital
SUMMARY:Slim Bot Fri 10pm - 12am
DESCRIPTION:Please email join@slimradio.co.uk if you would like to take this slot
URL:https://wseo.digital/event/vacant-show-fri-10pm-12am/2026-08-14/
ATTACH;FMTTYPE=image/jpeg:https://wseo.digital/wp-content/uploads/2025/12/Slimbot.jpg
LOCATION:
END:VEVENT
BEGIN:VEVENT
DTSTART;TZID=Europe/London:20260821T220000
DTEND;TZID=Europe/London:20260821T233000
DTSTAMP:20260421T175458
CREATED:20251113T140531Z
LAST-MODIFIED:20251228T192127Z
UID:10019209-1787349600-1787355000@wseo.digital
SUMMARY:Slim Bot Fri 10pm - 12am
DESCRIPTION:Please email join@slimradio.co.uk if you would like to take this slot
URL:https://wseo.digital/event/vacant-show-fri-10pm-12am/2026-08-21/
ATTACH;FMTTYPE=image/jpeg:https://wseo.digital/wp-content/uploads/2025/12/Slimbot.jpg
LOCATION:
END:VEVENT
BEGIN:VEVENT
DTSTART;TZID=Europe/London:20260828T220000
DTEND;TZID=Europe/London:20260828T233000
DTSTAMP:20260421T175458
CREATED:20251113T140531Z
LAST-MODIFIED:20251228T192127Z
UID:10019210-1787954400-1787959800@wseo.digital
SUMMARY:Slim Bot Fri 10pm - 12am
DESCRIPTION:Please email join@slimradio.co.uk if you would like to take this slot
URL:https://wseo.digital/event/vacant-show-fri-10pm-12am/2026-08-28/
ATTACH;FMTTYPE=image/jpeg:https://wseo.digital/wp-content/uploads/2025/12/Slimbot.jpg
LOCATION:
END:VEVENT
BEGIN:VEVENT
DTSTART;TZID=Europe/London:20260904T220000
DTEND;TZID=Europe/London:20260904T233000
DTSTAMP:20260421T175458
CREATED:20251113T140531Z
LAST-MODIFIED:20251228T192127Z
UID:10019211-1788559200-1788564600@wseo.digital
SUMMARY:Slim Bot Fri 10pm - 12am
DESCRIPTION:Please email join@slimradio.co.uk if you would like to take this slot
URL:https://wseo.digital/event/vacant-show-fri-10pm-12am/2026-09-04/
ATTACH;FMTTYPE=image/jpeg:https://wseo.digital/wp-content/uploads/2025/12/Slimbot.jpg
LOCATION:
END:VEVENT
BEGIN:VEVENT
DTSTART;TZID=Europe/London:20260911T220000
DTEND;TZID=Europe/London:20260911T233000
DTSTAMP:20260421T175458
CREATED:20251113T140531Z
LAST-MODIFIED:20251228T192127Z
UID:10019212-1789164000-1789169400@wseo.digital
SUMMARY:Slim Bot Fri 10pm - 12am
DESCRIPTION:Please email join@slimradio.co.uk if you would like to take this slot
URL:https://wseo.digital/event/vacant-show-fri-10pm-12am/2026-09-11/
ATTACH;FMTTYPE=image/jpeg:https://wseo.digital/wp-content/uploads/2025/12/Slimbot.jpg
LOCATION:
END:VEVENT
BEGIN:VEVENT
DTSTART;TZID=Europe/London:20260918T220000
DTEND;TZID=Europe/London:20260918T233000
DTSTAMP:20260421T175458
CREATED:20251113T140531Z
LAST-MODIFIED:20251228T192127Z
UID:10019213-1789768800-1789774200@wseo.digital
SUMMARY:Slim Bot Fri 10pm - 12am
DESCRIPTION:Please email join@slimradio.co.uk if you would like to take this slot
URL:https://wseo.digital/event/vacant-show-fri-10pm-12am/2026-09-18/
ATTACH;FMTTYPE=image/jpeg:https://wseo.digital/wp-content/uploads/2025/12/Slimbot.jpg
LOCATION:
END:VEVENT
BEGIN:VEVENT
DTSTART;TZID=Europe/London:20260925T220000
DTEND;TZID=Europe/London:20260925T233000
DTSTAMP:20260421T175458
CREATED:20251113T140531Z
LAST-MODIFIED:20251228T192127Z
UID:10019214-1790373600-1790379000@wseo.digital
SUMMARY:Slim Bot Fri 10pm - 12am
DESCRIPTION:Please email join@slimradio.co.uk if you would like to take this slot
URL:https://wseo.digital/event/vacant-show-fri-10pm-12am/2026-09-25/
ATTACH;FMTTYPE=image/jpeg:https://wseo.digital/wp-content/uploads/2025/12/Slimbot.jpg
LOCATION:
END:VEVENT
BEGIN:VEVENT
DTSTART;TZID=Europe/London:20261002T220000
DTEND;TZID=Europe/London:20261002T233000
DTSTAMP:20260421T175458
CREATED:20251113T140531Z
LAST-MODIFIED:20251228T192127Z
UID:10019215-1790978400-1790983800@wseo.digital
SUMMARY:Slim Bot Fri 10pm - 12am
DESCRIPTION:Please email join@slimradio.co.uk if you would like to take this slot
URL:https://wseo.digital/event/vacant-show-fri-10pm-12am/2026-10-02/
ATTACH;FMTTYPE=image/jpeg:https://wseo.digital/wp-content/uploads/2025/12/Slimbot.jpg
LOCATION:
END:VEVENT
BEGIN:VEVENT
DTSTART;TZID=Europe/London:20261009T220000
DTEND;TZID=Europe/London:20261009T233000
DTSTAMP:20260421T175458
CREATED:20251113T140531Z
LAST-MODIFIED:20251228T192127Z
UID:10019216-1791583200-1791588600@wseo.digital
SUMMARY:Slim Bot Fri 10pm - 12am
DESCRIPTION:Please email join@slimradio.co.uk if you would like to take this slot
URL:https://wseo.digital/event/vacant-show-fri-10pm-12am/2026-10-09/
ATTACH;FMTTYPE=image/jpeg:https://wseo.digital/wp-content/uploads/2025/12/Slimbot.jpg
LOCATION:
END:VEVENT
BEGIN:VEVENT
DTSTART;TZID=Europe/London:20261016T220000
DTEND;TZID=Europe/London:20261016T233000
DTSTAMP:20260421T175458
CREATED:20251113T140531Z
LAST-MODIFIED:20251228T192127Z
UID:10019217-1792188000-1792193400@wseo.digital
SUMMARY:Slim Bot Fri 10pm - 12am
DESCRIPTION:Please email join@slimradio.co.uk if you would like to take this slot
URL:https://wseo.digital/event/vacant-show-fri-10pm-12am/2026-10-16/
ATTACH;FMTTYPE=image/jpeg:https://wseo.digital/wp-content/uploads/2025/12/Slimbot.jpg
LOCATION:
END:VEVENT
BEGIN:VEVENT
DTSTART;TZID=Europe/London:20261023T220000
DTEND;TZID=Europe/London:20261023T233000
DTSTAMP:20260421T175458
CREATED:20251113T140531Z
LAST-MODIFIED:20251228T192127Z
UID:10019218-1792792800-1792798200@wseo.digital
SUMMARY:Slim Bot Fri 10pm - 12am
DESCRIPTION:Please email join@slimradio.co.uk if you would like to take this slot
URL:https://wseo.digital/event/vacant-show-fri-10pm-12am/2026-10-23/
ATTACH;FMTTYPE=image/jpeg:https://wseo.digital/wp-content/uploads/2025/12/Slimbot.jpg
LOCATION:
END:VEVENT
BEGIN:VEVENT
DTSTART;TZID=Europe/London:20261030T220000
DTEND;TZID=Europe/London:20261030T233000
DTSTAMP:20260421T175458
CREATED:20251113T140531Z
LAST-MODIFIED:20251228T192127Z
UID:10019219-1793397600-1793403000@wseo.digital
SUMMARY:Slim Bot Fri 10pm - 12am
DESCRIPTION:Please email join@slimradio.co.uk if you would like to take this slot
URL:https://wseo.digital/event/vacant-show-fri-10pm-12am/2026-10-30/
ATTACH;FMTTYPE=image/jpeg:https://wseo.digital/wp-content/uploads/2025/12/Slimbot.jpg
LOCATION:
END:VEVENT
BEGIN:VEVENT
DTSTART;TZID=Europe/London:20261106T220000
DTEND;TZID=Europe/London:20261106T233000
DTSTAMP:20260421T175458
CREATED:20251113T140531Z
LAST-MODIFIED:20251228T192127Z
UID:10019220-1794002400-1794007800@wseo.digital
SUMMARY:Slim Bot Fri 10pm - 12am
DESCRIPTION:Please email join@slimradio.co.uk if you would like to take this slot
URL:https://wseo.digital/event/vacant-show-fri-10pm-12am/2026-11-06/
ATTACH;FMTTYPE=image/jpeg:https://wseo.digital/wp-content/uploads/2025/12/Slimbot.jpg
LOCATION:
END:VEVENT
BEGIN:VEVENT
DTSTART;TZID=Europe/London:20261113T220000
DTEND;TZID=Europe/London:20261113T233000
DTSTAMP:20260421T175458
CREATED:20251113T140531Z
LAST-MODIFIED:20251228T192127Z
UID:10019221-1794607200-1794612600@wseo.digital
SUMMARY:Slim Bot Fri 10pm - 12am
DESCRIPTION:Please email join@slimradio.co.uk if you would like to take this slot
URL:https://wseo.digital/event/vacant-show-fri-10pm-12am/2026-11-13/
ATTACH;FMTTYPE=image/jpeg:https://wseo.digital/wp-content/uploads/2025/12/Slimbot.jpg
LOCATION:
END:VEVENT
END:VCALENDAR