BEGIN:VCALENDAR
VERSION:2.0
PRODID:-//wseodigital - ECPv6.15.13//NONSGML v1.0//EN
CALSCALE:GREGORIAN
METHOD:PUBLISH
X-WR-CALNAME:wseodigital
X-ORIGINAL-URL:https://wseo.digital
X-WR-CALDESC:Events for wseodigital
REFRESH-INTERVAL;VALUE=DURATION:PT1H
X-Robots-Tag:noindex
X-PUBLISHED-TTL:PT1H
BEGIN:VTIMEZONE
TZID:Europe/London
BEGIN:DAYLIGHT
TZOFFSETFROM:+0000
TZOFFSETTO:+0100
TZNAME:BST
DTSTART:20250330T010000
END:DAYLIGHT
BEGIN:STANDARD
TZOFFSETFROM:+0100
TZOFFSETTO:+0000
TZNAME:GMT
DTSTART:20251026T010000
END:STANDARD
BEGIN:DAYLIGHT
TZOFFSETFROM:+0000
TZOFFSETTO:+0100
TZNAME:BST
DTSTART:20260329T010000
END:DAYLIGHT
BEGIN:STANDARD
TZOFFSETFROM:+0100
TZOFFSETTO:+0000
TZNAME:GMT
DTSTART:20261025T010000
END:STANDARD
BEGIN:DAYLIGHT
TZOFFSETFROM:+0000
TZOFFSETTO:+0100
TZNAME:BST
DTSTART:20270328T010000
END:DAYLIGHT
BEGIN:STANDARD
TZOFFSETFROM:+0100
TZOFFSETTO:+0000
TZNAME:GMT
DTSTART:20271031T010000
END:STANDARD
END:VTIMEZONE
BEGIN:VEVENT
DTSTART;TZID=Europe/London:20260425T070000
DTEND;TZID=Europe/London:20260425T100000
DTSTAMP:20260421T153655
CREATED:20251222T170949Z
LAST-MODIFIED:20251228T192851Z
UID:10020759-1777100400-1777111200@wseo.digital
SUMMARY:Slim Bot Sat 8am – 10pm
DESCRIPTION:Please email join@slimradio.co.uk if you would like to take this slot
URL:https://wseo.digital/event/vacant-show-sat-8am-10am-2/2026-04-25/
ATTACH;FMTTYPE=image/jpeg:https://wseo.digital/wp-content/uploads/2025/12/Slimbot.jpg
LOCATION:
END:VEVENT
BEGIN:VEVENT
DTSTART;TZID=Europe/London:20260502T070000
DTEND;TZID=Europe/London:20260502T100000
DTSTAMP:20260421T153655
CREATED:20251222T170949Z
LAST-MODIFIED:20251228T192851Z
UID:10020760-1777705200-1777716000@wseo.digital
SUMMARY:Slim Bot Sat 8am – 10pm
DESCRIPTION:Please email join@slimradio.co.uk if you would like to take this slot
URL:https://wseo.digital/event/vacant-show-sat-8am-10am-2/2026-05-02/
ATTACH;FMTTYPE=image/jpeg:https://wseo.digital/wp-content/uploads/2025/12/Slimbot.jpg
LOCATION:
END:VEVENT
BEGIN:VEVENT
DTSTART;TZID=Europe/London:20260509T070000
DTEND;TZID=Europe/London:20260509T100000
DTSTAMP:20260421T153655
CREATED:20251222T170949Z
LAST-MODIFIED:20251228T192851Z
UID:10020761-1778310000-1778320800@wseo.digital
SUMMARY:Slim Bot Sat 8am – 10pm
DESCRIPTION:Please email join@slimradio.co.uk if you would like to take this slot
URL:https://wseo.digital/event/vacant-show-sat-8am-10am-2/2026-05-09/
ATTACH;FMTTYPE=image/jpeg:https://wseo.digital/wp-content/uploads/2025/12/Slimbot.jpg
LOCATION:
END:VEVENT
BEGIN:VEVENT
DTSTART;TZID=Europe/London:20260516T070000
DTEND;TZID=Europe/London:20260516T100000
DTSTAMP:20260421T153655
CREATED:20251222T170949Z
LAST-MODIFIED:20251228T192851Z
UID:10020762-1778914800-1778925600@wseo.digital
SUMMARY:Slim Bot Sat 8am – 10pm
DESCRIPTION:Please email join@slimradio.co.uk if you would like to take this slot
URL:https://wseo.digital/event/vacant-show-sat-8am-10am-2/2026-05-16/
ATTACH;FMTTYPE=image/jpeg:https://wseo.digital/wp-content/uploads/2025/12/Slimbot.jpg
LOCATION:
END:VEVENT
BEGIN:VEVENT
DTSTART;TZID=Europe/London:20260523T070000
DTEND;TZID=Europe/London:20260523T100000
DTSTAMP:20260421T153655
CREATED:20251222T170949Z
LAST-MODIFIED:20251228T192851Z
UID:10020763-1779519600-1779530400@wseo.digital
SUMMARY:Slim Bot Sat 8am – 10pm
DESCRIPTION:Please email join@slimradio.co.uk if you would like to take this slot
URL:https://wseo.digital/event/vacant-show-sat-8am-10am-2/2026-05-23/
ATTACH;FMTTYPE=image/jpeg:https://wseo.digital/wp-content/uploads/2025/12/Slimbot.jpg
LOCATION:
END:VEVENT
BEGIN:VEVENT
DTSTART;TZID=Europe/London:20260530T070000
DTEND;TZID=Europe/London:20260530T100000
DTSTAMP:20260421T153655
CREATED:20251222T170949Z
LAST-MODIFIED:20251228T192851Z
UID:10020764-1780124400-1780135200@wseo.digital
SUMMARY:Slim Bot Sat 8am – 10pm
DESCRIPTION:Please email join@slimradio.co.uk if you would like to take this slot
URL:https://wseo.digital/event/vacant-show-sat-8am-10am-2/2026-05-30/
ATTACH;FMTTYPE=image/jpeg:https://wseo.digital/wp-content/uploads/2025/12/Slimbot.jpg
LOCATION:
END:VEVENT
BEGIN:VEVENT
DTSTART;TZID=Europe/London:20260606T070000
DTEND;TZID=Europe/London:20260606T100000
DTSTAMP:20260421T153655
CREATED:20251222T170949Z
LAST-MODIFIED:20251228T192851Z
UID:10020765-1780729200-1780740000@wseo.digital
SUMMARY:Slim Bot Sat 8am – 10pm
DESCRIPTION:Please email join@slimradio.co.uk if you would like to take this slot
URL:https://wseo.digital/event/vacant-show-sat-8am-10am-2/2026-06-06/
ATTACH;FMTTYPE=image/jpeg:https://wseo.digital/wp-content/uploads/2025/12/Slimbot.jpg
LOCATION:
END:VEVENT
BEGIN:VEVENT
DTSTART;TZID=Europe/London:20260613T070000
DTEND;TZID=Europe/London:20260613T100000
DTSTAMP:20260421T153655
CREATED:20251222T170949Z
LAST-MODIFIED:20251228T192851Z
UID:10020766-1781334000-1781344800@wseo.digital
SUMMARY:Slim Bot Sat 8am – 10pm
DESCRIPTION:Please email join@slimradio.co.uk if you would like to take this slot
URL:https://wseo.digital/event/vacant-show-sat-8am-10am-2/2026-06-13/
ATTACH;FMTTYPE=image/jpeg:https://wseo.digital/wp-content/uploads/2025/12/Slimbot.jpg
LOCATION:
END:VEVENT
BEGIN:VEVENT
DTSTART;TZID=Europe/London:20260620T070000
DTEND;TZID=Europe/London:20260620T100000
DTSTAMP:20260421T153655
CREATED:20251222T170949Z
LAST-MODIFIED:20251228T192851Z
UID:10020767-1781938800-1781949600@wseo.digital
SUMMARY:Slim Bot Sat 8am – 10pm
DESCRIPTION:Please email join@slimradio.co.uk if you would like to take this slot
URL:https://wseo.digital/event/vacant-show-sat-8am-10am-2/2026-06-20/
ATTACH;FMTTYPE=image/jpeg:https://wseo.digital/wp-content/uploads/2025/12/Slimbot.jpg
LOCATION:
END:VEVENT
BEGIN:VEVENT
DTSTART;TZID=Europe/London:20260627T070000
DTEND;TZID=Europe/London:20260627T100000
DTSTAMP:20260421T153655
CREATED:20251222T170949Z
LAST-MODIFIED:20251228T192851Z
UID:10020768-1782543600-1782554400@wseo.digital
SUMMARY:Slim Bot Sat 8am – 10pm
DESCRIPTION:Please email join@slimradio.co.uk if you would like to take this slot
URL:https://wseo.digital/event/vacant-show-sat-8am-10am-2/2026-06-27/
ATTACH;FMTTYPE=image/jpeg:https://wseo.digital/wp-content/uploads/2025/12/Slimbot.jpg
LOCATION:
END:VEVENT
BEGIN:VEVENT
DTSTART;TZID=Europe/London:20260704T070000
DTEND;TZID=Europe/London:20260704T100000
DTSTAMP:20260421T153655
CREATED:20251222T170949Z
LAST-MODIFIED:20251228T192851Z
UID:10020769-1783148400-1783159200@wseo.digital
SUMMARY:Slim Bot Sat 8am – 10pm
DESCRIPTION:Please email join@slimradio.co.uk if you would like to take this slot
URL:https://wseo.digital/event/vacant-show-sat-8am-10am-2/2026-07-04/
ATTACH;FMTTYPE=image/jpeg:https://wseo.digital/wp-content/uploads/2025/12/Slimbot.jpg
LOCATION:
END:VEVENT
BEGIN:VEVENT
DTSTART;TZID=Europe/London:20260711T070000
DTEND;TZID=Europe/London:20260711T100000
DTSTAMP:20260421T153655
CREATED:20251222T170949Z
LAST-MODIFIED:20251228T192851Z
UID:10020770-1783753200-1783764000@wseo.digital
SUMMARY:Slim Bot Sat 8am – 10pm
DESCRIPTION:Please email join@slimradio.co.uk if you would like to take this slot
URL:https://wseo.digital/event/vacant-show-sat-8am-10am-2/2026-07-11/
ATTACH;FMTTYPE=image/jpeg:https://wseo.digital/wp-content/uploads/2025/12/Slimbot.jpg
LOCATION:
END:VEVENT
BEGIN:VEVENT
DTSTART;TZID=Europe/London:20260718T070000
DTEND;TZID=Europe/London:20260718T100000
DTSTAMP:20260421T153655
CREATED:20251222T170949Z
LAST-MODIFIED:20251228T192851Z
UID:10020771-1784358000-1784368800@wseo.digital
SUMMARY:Slim Bot Sat 8am – 10pm
DESCRIPTION:Please email join@slimradio.co.uk if you would like to take this slot
URL:https://wseo.digital/event/vacant-show-sat-8am-10am-2/2026-07-18/
ATTACH;FMTTYPE=image/jpeg:https://wseo.digital/wp-content/uploads/2025/12/Slimbot.jpg
LOCATION:
END:VEVENT
BEGIN:VEVENT
DTSTART;TZID=Europe/London:20260725T070000
DTEND;TZID=Europe/London:20260725T100000
DTSTAMP:20260421T153655
CREATED:20251222T170949Z
LAST-MODIFIED:20251228T192851Z
UID:10020772-1784962800-1784973600@wseo.digital
SUMMARY:Slim Bot Sat 8am – 10pm
DESCRIPTION:Please email join@slimradio.co.uk if you would like to take this slot
URL:https://wseo.digital/event/vacant-show-sat-8am-10am-2/2026-07-25/
ATTACH;FMTTYPE=image/jpeg:https://wseo.digital/wp-content/uploads/2025/12/Slimbot.jpg
LOCATION:
END:VEVENT
BEGIN:VEVENT
DTSTART;TZID=Europe/London:20260801T070000
DTEND;TZID=Europe/London:20260801T100000
DTSTAMP:20260421T153655
CREATED:20251222T170949Z
LAST-MODIFIED:20251228T192851Z
UID:10020773-1785567600-1785578400@wseo.digital
SUMMARY:Slim Bot Sat 8am – 10pm
DESCRIPTION:Please email join@slimradio.co.uk if you would like to take this slot
URL:https://wseo.digital/event/vacant-show-sat-8am-10am-2/2026-08-01/
ATTACH;FMTTYPE=image/jpeg:https://wseo.digital/wp-content/uploads/2025/12/Slimbot.jpg
LOCATION:
END:VEVENT
BEGIN:VEVENT
DTSTART;TZID=Europe/London:20260808T070000
DTEND;TZID=Europe/London:20260808T100000
DTSTAMP:20260421T153655
CREATED:20251222T170949Z
LAST-MODIFIED:20251228T192851Z
UID:10020774-1786172400-1786183200@wseo.digital
SUMMARY:Slim Bot Sat 8am – 10pm
DESCRIPTION:Please email join@slimradio.co.uk if you would like to take this slot
URL:https://wseo.digital/event/vacant-show-sat-8am-10am-2/2026-08-08/
ATTACH;FMTTYPE=image/jpeg:https://wseo.digital/wp-content/uploads/2025/12/Slimbot.jpg
LOCATION:
END:VEVENT
BEGIN:VEVENT
DTSTART;TZID=Europe/London:20260815T070000
DTEND;TZID=Europe/London:20260815T100000
DTSTAMP:20260421T153655
CREATED:20251222T170949Z
LAST-MODIFIED:20251228T192851Z
UID:10020775-1786777200-1786788000@wseo.digital
SUMMARY:Slim Bot Sat 8am – 10pm
DESCRIPTION:Please email join@slimradio.co.uk if you would like to take this slot
URL:https://wseo.digital/event/vacant-show-sat-8am-10am-2/2026-08-15/
ATTACH;FMTTYPE=image/jpeg:https://wseo.digital/wp-content/uploads/2025/12/Slimbot.jpg
LOCATION:
END:VEVENT
BEGIN:VEVENT
DTSTART;TZID=Europe/London:20260822T070000
DTEND;TZID=Europe/London:20260822T100000
DTSTAMP:20260421T153655
CREATED:20251222T170949Z
LAST-MODIFIED:20251228T192851Z
UID:10020776-1787382000-1787392800@wseo.digital
SUMMARY:Slim Bot Sat 8am – 10pm
DESCRIPTION:Please email join@slimradio.co.uk if you would like to take this slot
URL:https://wseo.digital/event/vacant-show-sat-8am-10am-2/2026-08-22/
ATTACH;FMTTYPE=image/jpeg:https://wseo.digital/wp-content/uploads/2025/12/Slimbot.jpg
LOCATION:
END:VEVENT
BEGIN:VEVENT
DTSTART;TZID=Europe/London:20260829T070000
DTEND;TZID=Europe/London:20260829T100000
DTSTAMP:20260421T153655
CREATED:20251222T170949Z
LAST-MODIFIED:20251228T192851Z
UID:10020777-1787986800-1787997600@wseo.digital
SUMMARY:Slim Bot Sat 8am – 10pm
DESCRIPTION:Please email join@slimradio.co.uk if you would like to take this slot
URL:https://wseo.digital/event/vacant-show-sat-8am-10am-2/2026-08-29/
ATTACH;FMTTYPE=image/jpeg:https://wseo.digital/wp-content/uploads/2025/12/Slimbot.jpg
LOCATION:
END:VEVENT
BEGIN:VEVENT
DTSTART;TZID=Europe/London:20260905T070000
DTEND;TZID=Europe/London:20260905T100000
DTSTAMP:20260421T153655
CREATED:20251222T170949Z
LAST-MODIFIED:20251228T192851Z
UID:10020778-1788591600-1788602400@wseo.digital
SUMMARY:Slim Bot Sat 8am – 10pm
DESCRIPTION:Please email join@slimradio.co.uk if you would like to take this slot
URL:https://wseo.digital/event/vacant-show-sat-8am-10am-2/2026-09-05/
ATTACH;FMTTYPE=image/jpeg:https://wseo.digital/wp-content/uploads/2025/12/Slimbot.jpg
LOCATION:
END:VEVENT
BEGIN:VEVENT
DTSTART;TZID=Europe/London:20260912T070000
DTEND;TZID=Europe/London:20260912T100000
DTSTAMP:20260421T153655
CREATED:20251222T170949Z
LAST-MODIFIED:20251228T192851Z
UID:10020779-1789196400-1789207200@wseo.digital
SUMMARY:Slim Bot Sat 8am – 10pm
DESCRIPTION:Please email join@slimradio.co.uk if you would like to take this slot
URL:https://wseo.digital/event/vacant-show-sat-8am-10am-2/2026-09-12/
ATTACH;FMTTYPE=image/jpeg:https://wseo.digital/wp-content/uploads/2025/12/Slimbot.jpg
LOCATION:
END:VEVENT
BEGIN:VEVENT
DTSTART;TZID=Europe/London:20260919T070000
DTEND;TZID=Europe/London:20260919T100000
DTSTAMP:20260421T153655
CREATED:20251222T170949Z
LAST-MODIFIED:20251228T192851Z
UID:10020780-1789801200-1789812000@wseo.digital
SUMMARY:Slim Bot Sat 8am – 10pm
DESCRIPTION:Please email join@slimradio.co.uk if you would like to take this slot
URL:https://wseo.digital/event/vacant-show-sat-8am-10am-2/2026-09-19/
ATTACH;FMTTYPE=image/jpeg:https://wseo.digital/wp-content/uploads/2025/12/Slimbot.jpg
LOCATION:
END:VEVENT
BEGIN:VEVENT
DTSTART;TZID=Europe/London:20260926T070000
DTEND;TZID=Europe/London:20260926T100000
DTSTAMP:20260421T153655
CREATED:20251222T170949Z
LAST-MODIFIED:20251228T192851Z
UID:10020781-1790406000-1790416800@wseo.digital
SUMMARY:Slim Bot Sat 8am – 10pm
DESCRIPTION:Please email join@slimradio.co.uk if you would like to take this slot
URL:https://wseo.digital/event/vacant-show-sat-8am-10am-2/2026-09-26/
ATTACH;FMTTYPE=image/jpeg:https://wseo.digital/wp-content/uploads/2025/12/Slimbot.jpg
LOCATION:
END:VEVENT
BEGIN:VEVENT
DTSTART;TZID=Europe/London:20261003T070000
DTEND;TZID=Europe/London:20261003T100000
DTSTAMP:20260421T153655
CREATED:20251222T170949Z
LAST-MODIFIED:20251228T192851Z
UID:10020782-1791010800-1791021600@wseo.digital
SUMMARY:Slim Bot Sat 8am – 10pm
DESCRIPTION:Please email join@slimradio.co.uk if you would like to take this slot
URL:https://wseo.digital/event/vacant-show-sat-8am-10am-2/2026-10-03/
ATTACH;FMTTYPE=image/jpeg:https://wseo.digital/wp-content/uploads/2025/12/Slimbot.jpg
LOCATION:
END:VEVENT
BEGIN:VEVENT
DTSTART;TZID=Europe/London:20261010T070000
DTEND;TZID=Europe/London:20261010T100000
DTSTAMP:20260421T153655
CREATED:20251222T170949Z
LAST-MODIFIED:20251228T192851Z
UID:10020783-1791615600-1791626400@wseo.digital
SUMMARY:Slim Bot Sat 8am – 10pm
DESCRIPTION:Please email join@slimradio.co.uk if you would like to take this slot
URL:https://wseo.digital/event/vacant-show-sat-8am-10am-2/2026-10-10/
ATTACH;FMTTYPE=image/jpeg:https://wseo.digital/wp-content/uploads/2025/12/Slimbot.jpg
LOCATION:
END:VEVENT
BEGIN:VEVENT
DTSTART;TZID=Europe/London:20261017T070000
DTEND;TZID=Europe/London:20261017T100000
DTSTAMP:20260421T153655
CREATED:20251222T170949Z
LAST-MODIFIED:20251228T192851Z
UID:10020784-1792220400-1792231200@wseo.digital
SUMMARY:Slim Bot Sat 8am – 10pm
DESCRIPTION:Please email join@slimradio.co.uk if you would like to take this slot
URL:https://wseo.digital/event/vacant-show-sat-8am-10am-2/2026-10-17/
ATTACH;FMTTYPE=image/jpeg:https://wseo.digital/wp-content/uploads/2025/12/Slimbot.jpg
LOCATION:
END:VEVENT
BEGIN:VEVENT
DTSTART;TZID=Europe/London:20261024T070000
DTEND;TZID=Europe/London:20261024T100000
DTSTAMP:20260421T153656
CREATED:20251222T170949Z
LAST-MODIFIED:20251228T192851Z
UID:10020785-1792825200-1792836000@wseo.digital
SUMMARY:Slim Bot Sat 8am – 10pm
DESCRIPTION:Please email join@slimradio.co.uk if you would like to take this slot
URL:https://wseo.digital/event/vacant-show-sat-8am-10am-2/2026-10-24/
ATTACH;FMTTYPE=image/jpeg:https://wseo.digital/wp-content/uploads/2025/12/Slimbot.jpg
LOCATION:
END:VEVENT
BEGIN:VEVENT
DTSTART;TZID=Europe/London:20261031T070000
DTEND;TZID=Europe/London:20261031T100000
DTSTAMP:20260421T153656
CREATED:20251222T170949Z
LAST-MODIFIED:20251228T192851Z
UID:10020786-1793430000-1793440800@wseo.digital
SUMMARY:Slim Bot Sat 8am – 10pm
DESCRIPTION:Please email join@slimradio.co.uk if you would like to take this slot
URL:https://wseo.digital/event/vacant-show-sat-8am-10am-2/2026-10-31/
ATTACH;FMTTYPE=image/jpeg:https://wseo.digital/wp-content/uploads/2025/12/Slimbot.jpg
LOCATION:
END:VEVENT
BEGIN:VEVENT
DTSTART;TZID=Europe/London:20261107T070000
DTEND;TZID=Europe/London:20261107T100000
DTSTAMP:20260421T153656
CREATED:20251222T170949Z
LAST-MODIFIED:20251228T192851Z
UID:10020787-1794034800-1794045600@wseo.digital
SUMMARY:Slim Bot Sat 8am – 10pm
DESCRIPTION:Please email join@slimradio.co.uk if you would like to take this slot
URL:https://wseo.digital/event/vacant-show-sat-8am-10am-2/2026-11-07/
ATTACH;FMTTYPE=image/jpeg:https://wseo.digital/wp-content/uploads/2025/12/Slimbot.jpg
LOCATION:
END:VEVENT
BEGIN:VEVENT
DTSTART;TZID=Europe/London:20261114T070000
DTEND;TZID=Europe/London:20261114T100000
DTSTAMP:20260421T153656
CREATED:20251222T170949Z
LAST-MODIFIED:20251228T192851Z
UID:10020788-1794639600-1794650400@wseo.digital
SUMMARY:Slim Bot Sat 8am – 10pm
DESCRIPTION:Please email join@slimradio.co.uk if you would like to take this slot
URL:https://wseo.digital/event/vacant-show-sat-8am-10am-2/2026-11-14/
ATTACH;FMTTYPE=image/jpeg:https://wseo.digital/wp-content/uploads/2025/12/Slimbot.jpg
LOCATION:
END:VEVENT
END:VCALENDAR