BEGIN:VCALENDAR
VERSION:2.0
PRODID:-//wseodigital - ECPv6.15.13//NONSGML v1.0//EN
CALSCALE:GREGORIAN
METHOD:PUBLISH
X-WR-CALNAME:wseodigital
X-ORIGINAL-URL:https://wseo.digital
X-WR-CALDESC:Events for wseodigital
REFRESH-INTERVAL;VALUE=DURATION:PT1H
X-Robots-Tag:noindex
X-PUBLISHED-TTL:PT1H
BEGIN:VTIMEZONE
TZID:Europe/London
BEGIN:DAYLIGHT
TZOFFSETFROM:+0000
TZOFFSETTO:+0100
TZNAME:BST
DTSTART:20250330T010000
END:DAYLIGHT
BEGIN:STANDARD
TZOFFSETFROM:+0100
TZOFFSETTO:+0000
TZNAME:GMT
DTSTART:20251026T010000
END:STANDARD
BEGIN:DAYLIGHT
TZOFFSETFROM:+0000
TZOFFSETTO:+0100
TZNAME:BST
DTSTART:20260329T010000
END:DAYLIGHT
BEGIN:STANDARD
TZOFFSETFROM:+0100
TZOFFSETTO:+0000
TZNAME:GMT
DTSTART:20261025T010000
END:STANDARD
BEGIN:DAYLIGHT
TZOFFSETFROM:+0000
TZOFFSETTO:+0100
TZNAME:BST
DTSTART:20270328T010000
END:DAYLIGHT
BEGIN:STANDARD
TZOFFSETFROM:+0100
TZOFFSETTO:+0000
TZNAME:GMT
DTSTART:20271031T010000
END:STANDARD
END:VTIMEZONE
BEGIN:VEVENT
DTSTART;TZID=Europe/London:20260427T070000
DTEND;TZID=Europe/London:20260427T100000
DTSTAMP:20260421T153732
CREATED:20251112T145525Z
LAST-MODIFIED:20251228T165338Z
UID:10021346-1777273200-1777284000@wseo.digital
SUMMARY:Slim Bot Mon 7am -10am
DESCRIPTION:Please email join@slimradio.co.uk if you would like to take this slot
URL:https://wseo.digital/event/wally-walton/2026-04-27/
ATTACH;FMTTYPE=image/jpeg:https://wseo.digital/wp-content/uploads/2025/12/Slimbot.jpg
LOCATION:
END:VEVENT
BEGIN:VEVENT
DTSTART;TZID=Europe/London:20260504T070000
DTEND;TZID=Europe/London:20260504T100000
DTSTAMP:20260421T153732
CREATED:20251112T145525Z
LAST-MODIFIED:20251228T165338Z
UID:10021347-1777878000-1777888800@wseo.digital
SUMMARY:Slim Bot Mon 7am -10am
DESCRIPTION:Please email join@slimradio.co.uk if you would like to take this slot
URL:https://wseo.digital/event/wally-walton/2026-05-04/
ATTACH;FMTTYPE=image/jpeg:https://wseo.digital/wp-content/uploads/2025/12/Slimbot.jpg
LOCATION:
END:VEVENT
BEGIN:VEVENT
DTSTART;TZID=Europe/London:20260511T070000
DTEND;TZID=Europe/London:20260511T100000
DTSTAMP:20260421T153732
CREATED:20251112T145525Z
LAST-MODIFIED:20251228T165338Z
UID:10021348-1778482800-1778493600@wseo.digital
SUMMARY:Slim Bot Mon 7am -10am
DESCRIPTION:Please email join@slimradio.co.uk if you would like to take this slot
URL:https://wseo.digital/event/wally-walton/2026-05-11/
ATTACH;FMTTYPE=image/jpeg:https://wseo.digital/wp-content/uploads/2025/12/Slimbot.jpg
LOCATION:
END:VEVENT
BEGIN:VEVENT
DTSTART;TZID=Europe/London:20260518T070000
DTEND;TZID=Europe/London:20260518T100000
DTSTAMP:20260421T153732
CREATED:20251112T145525Z
LAST-MODIFIED:20251228T165338Z
UID:10021349-1779087600-1779098400@wseo.digital
SUMMARY:Slim Bot Mon 7am -10am
DESCRIPTION:Please email join@slimradio.co.uk if you would like to take this slot
URL:https://wseo.digital/event/wally-walton/2026-05-18/
ATTACH;FMTTYPE=image/jpeg:https://wseo.digital/wp-content/uploads/2025/12/Slimbot.jpg
LOCATION:
END:VEVENT
BEGIN:VEVENT
DTSTART;TZID=Europe/London:20260525T070000
DTEND;TZID=Europe/London:20260525T100000
DTSTAMP:20260421T153732
CREATED:20251112T145525Z
LAST-MODIFIED:20251228T165338Z
UID:10021350-1779692400-1779703200@wseo.digital
SUMMARY:Slim Bot Mon 7am -10am
DESCRIPTION:Please email join@slimradio.co.uk if you would like to take this slot
URL:https://wseo.digital/event/wally-walton/2026-05-25/
ATTACH;FMTTYPE=image/jpeg:https://wseo.digital/wp-content/uploads/2025/12/Slimbot.jpg
LOCATION:
END:VEVENT
BEGIN:VEVENT
DTSTART;TZID=Europe/London:20260601T070000
DTEND;TZID=Europe/London:20260601T100000
DTSTAMP:20260421T153732
CREATED:20251112T145525Z
LAST-MODIFIED:20251228T165338Z
UID:10021351-1780297200-1780308000@wseo.digital
SUMMARY:Slim Bot Mon 7am -10am
DESCRIPTION:Please email join@slimradio.co.uk if you would like to take this slot
URL:https://wseo.digital/event/wally-walton/2026-06-01/
ATTACH;FMTTYPE=image/jpeg:https://wseo.digital/wp-content/uploads/2025/12/Slimbot.jpg
LOCATION:
END:VEVENT
BEGIN:VEVENT
DTSTART;TZID=Europe/London:20260608T070000
DTEND;TZID=Europe/London:20260608T100000
DTSTAMP:20260421T153732
CREATED:20251112T145525Z
LAST-MODIFIED:20251228T165338Z
UID:10021352-1780902000-1780912800@wseo.digital
SUMMARY:Slim Bot Mon 7am -10am
DESCRIPTION:Please email join@slimradio.co.uk if you would like to take this slot
URL:https://wseo.digital/event/wally-walton/2026-06-08/
ATTACH;FMTTYPE=image/jpeg:https://wseo.digital/wp-content/uploads/2025/12/Slimbot.jpg
LOCATION:
END:VEVENT
BEGIN:VEVENT
DTSTART;TZID=Europe/London:20260615T070000
DTEND;TZID=Europe/London:20260615T100000
DTSTAMP:20260421T153732
CREATED:20251112T145525Z
LAST-MODIFIED:20251228T165338Z
UID:10021353-1781506800-1781517600@wseo.digital
SUMMARY:Slim Bot Mon 7am -10am
DESCRIPTION:Please email join@slimradio.co.uk if you would like to take this slot
URL:https://wseo.digital/event/wally-walton/2026-06-15/
ATTACH;FMTTYPE=image/jpeg:https://wseo.digital/wp-content/uploads/2025/12/Slimbot.jpg
LOCATION:
END:VEVENT
BEGIN:VEVENT
DTSTART;TZID=Europe/London:20260622T070000
DTEND;TZID=Europe/London:20260622T100000
DTSTAMP:20260421T153732
CREATED:20251112T145525Z
LAST-MODIFIED:20251228T165338Z
UID:10021354-1782111600-1782122400@wseo.digital
SUMMARY:Slim Bot Mon 7am -10am
DESCRIPTION:Please email join@slimradio.co.uk if you would like to take this slot
URL:https://wseo.digital/event/wally-walton/2026-06-22/
ATTACH;FMTTYPE=image/jpeg:https://wseo.digital/wp-content/uploads/2025/12/Slimbot.jpg
LOCATION:
END:VEVENT
BEGIN:VEVENT
DTSTART;TZID=Europe/London:20260629T070000
DTEND;TZID=Europe/London:20260629T100000
DTSTAMP:20260421T153732
CREATED:20251112T145525Z
LAST-MODIFIED:20251228T165338Z
UID:10021355-1782716400-1782727200@wseo.digital
SUMMARY:Slim Bot Mon 7am -10am
DESCRIPTION:Please email join@slimradio.co.uk if you would like to take this slot
URL:https://wseo.digital/event/wally-walton/2026-06-29/
ATTACH;FMTTYPE=image/jpeg:https://wseo.digital/wp-content/uploads/2025/12/Slimbot.jpg
LOCATION:
END:VEVENT
BEGIN:VEVENT
DTSTART;TZID=Europe/London:20260706T070000
DTEND;TZID=Europe/London:20260706T100000
DTSTAMP:20260421T153732
CREATED:20251112T145525Z
LAST-MODIFIED:20251228T165338Z
UID:10021356-1783321200-1783332000@wseo.digital
SUMMARY:Slim Bot Mon 7am -10am
DESCRIPTION:Please email join@slimradio.co.uk if you would like to take this slot
URL:https://wseo.digital/event/wally-walton/2026-07-06/
ATTACH;FMTTYPE=image/jpeg:https://wseo.digital/wp-content/uploads/2025/12/Slimbot.jpg
LOCATION:
END:VEVENT
BEGIN:VEVENT
DTSTART;TZID=Europe/London:20260713T070000
DTEND;TZID=Europe/London:20260713T100000
DTSTAMP:20260421T153732
CREATED:20251112T145525Z
LAST-MODIFIED:20251228T165338Z
UID:10021357-1783926000-1783936800@wseo.digital
SUMMARY:Slim Bot Mon 7am -10am
DESCRIPTION:Please email join@slimradio.co.uk if you would like to take this slot
URL:https://wseo.digital/event/wally-walton/2026-07-13/
ATTACH;FMTTYPE=image/jpeg:https://wseo.digital/wp-content/uploads/2025/12/Slimbot.jpg
LOCATION:
END:VEVENT
BEGIN:VEVENT
DTSTART;TZID=Europe/London:20260720T070000
DTEND;TZID=Europe/London:20260720T100000
DTSTAMP:20260421T153732
CREATED:20251112T145525Z
LAST-MODIFIED:20251228T165338Z
UID:10021358-1784530800-1784541600@wseo.digital
SUMMARY:Slim Bot Mon 7am -10am
DESCRIPTION:Please email join@slimradio.co.uk if you would like to take this slot
URL:https://wseo.digital/event/wally-walton/2026-07-20/
ATTACH;FMTTYPE=image/jpeg:https://wseo.digital/wp-content/uploads/2025/12/Slimbot.jpg
LOCATION:
END:VEVENT
BEGIN:VEVENT
DTSTART;TZID=Europe/London:20260727T070000
DTEND;TZID=Europe/London:20260727T100000
DTSTAMP:20260421T153732
CREATED:20251112T145525Z
LAST-MODIFIED:20251228T165338Z
UID:10021359-1785135600-1785146400@wseo.digital
SUMMARY:Slim Bot Mon 7am -10am
DESCRIPTION:Please email join@slimradio.co.uk if you would like to take this slot
URL:https://wseo.digital/event/wally-walton/2026-07-27/
ATTACH;FMTTYPE=image/jpeg:https://wseo.digital/wp-content/uploads/2025/12/Slimbot.jpg
LOCATION:
END:VEVENT
BEGIN:VEVENT
DTSTART;TZID=Europe/London:20260803T070000
DTEND;TZID=Europe/London:20260803T100000
DTSTAMP:20260421T153732
CREATED:20251112T145525Z
LAST-MODIFIED:20251228T165338Z
UID:10021360-1785740400-1785751200@wseo.digital
SUMMARY:Slim Bot Mon 7am -10am
DESCRIPTION:Please email join@slimradio.co.uk if you would like to take this slot
URL:https://wseo.digital/event/wally-walton/2026-08-03/
ATTACH;FMTTYPE=image/jpeg:https://wseo.digital/wp-content/uploads/2025/12/Slimbot.jpg
LOCATION:
END:VEVENT
BEGIN:VEVENT
DTSTART;TZID=Europe/London:20260810T070000
DTEND;TZID=Europe/London:20260810T100000
DTSTAMP:20260421T153732
CREATED:20251112T145525Z
LAST-MODIFIED:20251228T165338Z
UID:10021361-1786345200-1786356000@wseo.digital
SUMMARY:Slim Bot Mon 7am -10am
DESCRIPTION:Please email join@slimradio.co.uk if you would like to take this slot
URL:https://wseo.digital/event/wally-walton/2026-08-10/
ATTACH;FMTTYPE=image/jpeg:https://wseo.digital/wp-content/uploads/2025/12/Slimbot.jpg
LOCATION:
END:VEVENT
BEGIN:VEVENT
DTSTART;TZID=Europe/London:20260817T070000
DTEND;TZID=Europe/London:20260817T100000
DTSTAMP:20260421T153732
CREATED:20251112T145525Z
LAST-MODIFIED:20251228T165338Z
UID:10021362-1786950000-1786960800@wseo.digital
SUMMARY:Slim Bot Mon 7am -10am
DESCRIPTION:Please email join@slimradio.co.uk if you would like to take this slot
URL:https://wseo.digital/event/wally-walton/2026-08-17/
ATTACH;FMTTYPE=image/jpeg:https://wseo.digital/wp-content/uploads/2025/12/Slimbot.jpg
LOCATION:
END:VEVENT
BEGIN:VEVENT
DTSTART;TZID=Europe/London:20260824T070000
DTEND;TZID=Europe/London:20260824T100000
DTSTAMP:20260421T153732
CREATED:20251112T145525Z
LAST-MODIFIED:20251228T165338Z
UID:10021363-1787554800-1787565600@wseo.digital
SUMMARY:Slim Bot Mon 7am -10am
DESCRIPTION:Please email join@slimradio.co.uk if you would like to take this slot
URL:https://wseo.digital/event/wally-walton/2026-08-24/
ATTACH;FMTTYPE=image/jpeg:https://wseo.digital/wp-content/uploads/2025/12/Slimbot.jpg
LOCATION:
END:VEVENT
BEGIN:VEVENT
DTSTART;TZID=Europe/London:20260831T070000
DTEND;TZID=Europe/London:20260831T100000
DTSTAMP:20260421T153732
CREATED:20251112T145525Z
LAST-MODIFIED:20251228T165338Z
UID:10021364-1788159600-1788170400@wseo.digital
SUMMARY:Slim Bot Mon 7am -10am
DESCRIPTION:Please email join@slimradio.co.uk if you would like to take this slot
URL:https://wseo.digital/event/wally-walton/2026-08-31/
ATTACH;FMTTYPE=image/jpeg:https://wseo.digital/wp-content/uploads/2025/12/Slimbot.jpg
LOCATION:
END:VEVENT
BEGIN:VEVENT
DTSTART;TZID=Europe/London:20260907T070000
DTEND;TZID=Europe/London:20260907T100000
DTSTAMP:20260421T153732
CREATED:20251112T145525Z
LAST-MODIFIED:20251228T165338Z
UID:10021365-1788764400-1788775200@wseo.digital
SUMMARY:Slim Bot Mon 7am -10am
DESCRIPTION:Please email join@slimradio.co.uk if you would like to take this slot
URL:https://wseo.digital/event/wally-walton/2026-09-07/
ATTACH;FMTTYPE=image/jpeg:https://wseo.digital/wp-content/uploads/2025/12/Slimbot.jpg
LOCATION:
END:VEVENT
BEGIN:VEVENT
DTSTART;TZID=Europe/London:20260914T070000
DTEND;TZID=Europe/London:20260914T100000
DTSTAMP:20260421T153732
CREATED:20251112T145525Z
LAST-MODIFIED:20251228T165338Z
UID:10021366-1789369200-1789380000@wseo.digital
SUMMARY:Slim Bot Mon 7am -10am
DESCRIPTION:Please email join@slimradio.co.uk if you would like to take this slot
URL:https://wseo.digital/event/wally-walton/2026-09-14/
ATTACH;FMTTYPE=image/jpeg:https://wseo.digital/wp-content/uploads/2025/12/Slimbot.jpg
LOCATION:
END:VEVENT
BEGIN:VEVENT
DTSTART;TZID=Europe/London:20260921T070000
DTEND;TZID=Europe/London:20260921T100000
DTSTAMP:20260421T153732
CREATED:20251112T145525Z
LAST-MODIFIED:20251228T165338Z
UID:10021367-1789974000-1789984800@wseo.digital
SUMMARY:Slim Bot Mon 7am -10am
DESCRIPTION:Please email join@slimradio.co.uk if you would like to take this slot
URL:https://wseo.digital/event/wally-walton/2026-09-21/
ATTACH;FMTTYPE=image/jpeg:https://wseo.digital/wp-content/uploads/2025/12/Slimbot.jpg
LOCATION:
END:VEVENT
BEGIN:VEVENT
DTSTART;TZID=Europe/London:20260928T070000
DTEND;TZID=Europe/London:20260928T100000
DTSTAMP:20260421T153732
CREATED:20251112T145525Z
LAST-MODIFIED:20251228T165338Z
UID:10021368-1790578800-1790589600@wseo.digital
SUMMARY:Slim Bot Mon 7am -10am
DESCRIPTION:Please email join@slimradio.co.uk if you would like to take this slot
URL:https://wseo.digital/event/wally-walton/2026-09-28/
ATTACH;FMTTYPE=image/jpeg:https://wseo.digital/wp-content/uploads/2025/12/Slimbot.jpg
LOCATION:
END:VEVENT
BEGIN:VEVENT
DTSTART;TZID=Europe/London:20261005T070000
DTEND;TZID=Europe/London:20261005T100000
DTSTAMP:20260421T153732
CREATED:20251112T145525Z
LAST-MODIFIED:20251228T165338Z
UID:10021369-1791183600-1791194400@wseo.digital
SUMMARY:Slim Bot Mon 7am -10am
DESCRIPTION:Please email join@slimradio.co.uk if you would like to take this slot
URL:https://wseo.digital/event/wally-walton/2026-10-05/
ATTACH;FMTTYPE=image/jpeg:https://wseo.digital/wp-content/uploads/2025/12/Slimbot.jpg
LOCATION:
END:VEVENT
BEGIN:VEVENT
DTSTART;TZID=Europe/London:20261012T070000
DTEND;TZID=Europe/London:20261012T100000
DTSTAMP:20260421T153732
CREATED:20251112T145525Z
LAST-MODIFIED:20251228T165338Z
UID:10021370-1791788400-1791799200@wseo.digital
SUMMARY:Slim Bot Mon 7am -10am
DESCRIPTION:Please email join@slimradio.co.uk if you would like to take this slot
URL:https://wseo.digital/event/wally-walton/2026-10-12/
ATTACH;FMTTYPE=image/jpeg:https://wseo.digital/wp-content/uploads/2025/12/Slimbot.jpg
LOCATION:
END:VEVENT
BEGIN:VEVENT
DTSTART;TZID=Europe/London:20261019T070000
DTEND;TZID=Europe/London:20261019T100000
DTSTAMP:20260421T153732
CREATED:20251112T145525Z
LAST-MODIFIED:20251228T165338Z
UID:10021371-1792393200-1792404000@wseo.digital
SUMMARY:Slim Bot Mon 7am -10am
DESCRIPTION:Please email join@slimradio.co.uk if you would like to take this slot
URL:https://wseo.digital/event/wally-walton/2026-10-19/
ATTACH;FMTTYPE=image/jpeg:https://wseo.digital/wp-content/uploads/2025/12/Slimbot.jpg
LOCATION:
END:VEVENT
BEGIN:VEVENT
DTSTART;TZID=Europe/London:20261026T070000
DTEND;TZID=Europe/London:20261026T100000
DTSTAMP:20260421T153732
CREATED:20251112T145525Z
LAST-MODIFIED:20251228T165338Z
UID:10021372-1792998000-1793008800@wseo.digital
SUMMARY:Slim Bot Mon 7am -10am
DESCRIPTION:Please email join@slimradio.co.uk if you would like to take this slot
URL:https://wseo.digital/event/wally-walton/2026-10-26/
ATTACH;FMTTYPE=image/jpeg:https://wseo.digital/wp-content/uploads/2025/12/Slimbot.jpg
LOCATION:
END:VEVENT
BEGIN:VEVENT
DTSTART;TZID=Europe/London:20261102T070000
DTEND;TZID=Europe/London:20261102T100000
DTSTAMP:20260421T153732
CREATED:20251112T145525Z
LAST-MODIFIED:20251228T165338Z
UID:10021373-1793602800-1793613600@wseo.digital
SUMMARY:Slim Bot Mon 7am -10am
DESCRIPTION:Please email join@slimradio.co.uk if you would like to take this slot
URL:https://wseo.digital/event/wally-walton/2026-11-02/
ATTACH;FMTTYPE=image/jpeg:https://wseo.digital/wp-content/uploads/2025/12/Slimbot.jpg
LOCATION:
END:VEVENT
BEGIN:VEVENT
DTSTART;TZID=Europe/London:20261109T070000
DTEND;TZID=Europe/London:20261109T100000
DTSTAMP:20260421T153732
CREATED:20251112T145525Z
LAST-MODIFIED:20251228T165338Z
UID:10021374-1794207600-1794218400@wseo.digital
SUMMARY:Slim Bot Mon 7am -10am
DESCRIPTION:Please email join@slimradio.co.uk if you would like to take this slot
URL:https://wseo.digital/event/wally-walton/2026-11-09/
ATTACH;FMTTYPE=image/jpeg:https://wseo.digital/wp-content/uploads/2025/12/Slimbot.jpg
LOCATION:
END:VEVENT
BEGIN:VEVENT
DTSTART;TZID=Europe/London:20261116T070000
DTEND;TZID=Europe/London:20261116T100000
DTSTAMP:20260421T153732
CREATED:20251112T145525Z
LAST-MODIFIED:20251228T165338Z
UID:10021375-1794812400-1794823200@wseo.digital
SUMMARY:Slim Bot Mon 7am -10am
DESCRIPTION:Please email join@slimradio.co.uk if you would like to take this slot
URL:https://wseo.digital/event/wally-walton/2026-11-16/
ATTACH;FMTTYPE=image/jpeg:https://wseo.digital/wp-content/uploads/2025/12/Slimbot.jpg
LOCATION:
END:VEVENT
END:VCALENDAR