BEGIN:VCALENDAR
VERSION:2.0
PRODID:-//wseodigital - ECPv6.15.13//NONSGML v1.0//EN
CALSCALE:GREGORIAN
METHOD:PUBLISH
X-WR-CALNAME:wseodigital
X-ORIGINAL-URL:https://wseo.digital
X-WR-CALDESC:Events for wseodigital
REFRESH-INTERVAL;VALUE=DURATION:PT1H
X-Robots-Tag:noindex
X-PUBLISHED-TTL:PT1H
BEGIN:VTIMEZONE
TZID:Europe/London
BEGIN:DAYLIGHT
TZOFFSETFROM:+0000
TZOFFSETTO:+0100
TZNAME:BST
DTSTART:20250330T010000
END:DAYLIGHT
BEGIN:STANDARD
TZOFFSETFROM:+0100
TZOFFSETTO:+0000
TZNAME:GMT
DTSTART:20251026T010000
END:STANDARD
BEGIN:DAYLIGHT
TZOFFSETFROM:+0000
TZOFFSETTO:+0100
TZNAME:BST
DTSTART:20260329T010000
END:DAYLIGHT
BEGIN:STANDARD
TZOFFSETFROM:+0100
TZOFFSETTO:+0000
TZNAME:GMT
DTSTART:20261025T010000
END:STANDARD
BEGIN:DAYLIGHT
TZOFFSETFROM:+0000
TZOFFSETTO:+0100
TZNAME:BST
DTSTART:20270328T010000
END:DAYLIGHT
BEGIN:STANDARD
TZOFFSETFROM:+0100
TZOFFSETTO:+0000
TZNAME:GMT
DTSTART:20271031T010000
END:STANDARD
END:VTIMEZONE
BEGIN:VEVENT
DTSTART;TZID=Europe/London:20260427T180000
DTEND;TZID=Europe/London:20260427T200000
DTSTAMP:20260421T212146
CREATED:20251228T163939Z
LAST-MODIFIED:20251228T165441Z
UID:10010812-1777312800-1777320000@wseo.digital
SUMMARY:Wally Walton Drive Time (Start Date TBC)
DESCRIPTION:
URL:https://wseo.digital/event/gareth-morgan-2-2/2026-04-27/
ATTACH;FMTTYPE=image/jpeg:https://wseo.digital/wp-content/uploads/2025/11/Wally-Walton.jpg
LOCATION:
END:VEVENT
BEGIN:VEVENT
DTSTART;TZID=Europe/London:20260504T180000
DTEND;TZID=Europe/London:20260504T200000
DTSTAMP:20260421T212147
CREATED:20251228T163939Z
LAST-MODIFIED:20251228T165441Z
UID:10010813-1777917600-1777924800@wseo.digital
SUMMARY:Wally Walton Drive Time (Start Date TBC)
DESCRIPTION:
URL:https://wseo.digital/event/gareth-morgan-2-2/2026-05-04/
ATTACH;FMTTYPE=image/jpeg:https://wseo.digital/wp-content/uploads/2025/11/Wally-Walton.jpg
LOCATION:
END:VEVENT
BEGIN:VEVENT
DTSTART;TZID=Europe/London:20260511T180000
DTEND;TZID=Europe/London:20260511T200000
DTSTAMP:20260421T212147
CREATED:20251228T163939Z
LAST-MODIFIED:20251228T165441Z
UID:10010814-1778522400-1778529600@wseo.digital
SUMMARY:Wally Walton Drive Time (Start Date TBC)
DESCRIPTION:
URL:https://wseo.digital/event/gareth-morgan-2-2/2026-05-11/
ATTACH;FMTTYPE=image/jpeg:https://wseo.digital/wp-content/uploads/2025/11/Wally-Walton.jpg
LOCATION:
END:VEVENT
BEGIN:VEVENT
DTSTART;TZID=Europe/London:20260518T180000
DTEND;TZID=Europe/London:20260518T200000
DTSTAMP:20260421T212147
CREATED:20251228T163939Z
LAST-MODIFIED:20251228T165441Z
UID:10010815-1779127200-1779134400@wseo.digital
SUMMARY:Wally Walton Drive Time (Start Date TBC)
DESCRIPTION:
URL:https://wseo.digital/event/gareth-morgan-2-2/2026-05-18/
ATTACH;FMTTYPE=image/jpeg:https://wseo.digital/wp-content/uploads/2025/11/Wally-Walton.jpg
LOCATION:
END:VEVENT
BEGIN:VEVENT
DTSTART;TZID=Europe/London:20260525T180000
DTEND;TZID=Europe/London:20260525T200000
DTSTAMP:20260421T212147
CREATED:20251228T163939Z
LAST-MODIFIED:20251228T165441Z
UID:10010816-1779732000-1779739200@wseo.digital
SUMMARY:Wally Walton Drive Time (Start Date TBC)
DESCRIPTION:
URL:https://wseo.digital/event/gareth-morgan-2-2/2026-05-25/
ATTACH;FMTTYPE=image/jpeg:https://wseo.digital/wp-content/uploads/2025/11/Wally-Walton.jpg
LOCATION:
END:VEVENT
BEGIN:VEVENT
DTSTART;TZID=Europe/London:20260601T180000
DTEND;TZID=Europe/London:20260601T200000
DTSTAMP:20260421T212147
CREATED:20251228T163939Z
LAST-MODIFIED:20251228T165441Z
UID:10010817-1780336800-1780344000@wseo.digital
SUMMARY:Wally Walton Drive Time (Start Date TBC)
DESCRIPTION:
URL:https://wseo.digital/event/gareth-morgan-2-2/2026-06-01/
ATTACH;FMTTYPE=image/jpeg:https://wseo.digital/wp-content/uploads/2025/11/Wally-Walton.jpg
LOCATION:
END:VEVENT
BEGIN:VEVENT
DTSTART;TZID=Europe/London:20260608T180000
DTEND;TZID=Europe/London:20260608T200000
DTSTAMP:20260421T212147
CREATED:20251228T163939Z
LAST-MODIFIED:20251228T165441Z
UID:10010818-1780941600-1780948800@wseo.digital
SUMMARY:Wally Walton Drive Time (Start Date TBC)
DESCRIPTION:
URL:https://wseo.digital/event/gareth-morgan-2-2/2026-06-08/
ATTACH;FMTTYPE=image/jpeg:https://wseo.digital/wp-content/uploads/2025/11/Wally-Walton.jpg
LOCATION:
END:VEVENT
BEGIN:VEVENT
DTSTART;TZID=Europe/London:20260615T180000
DTEND;TZID=Europe/London:20260615T200000
DTSTAMP:20260421T212147
CREATED:20251228T163939Z
LAST-MODIFIED:20251228T165441Z
UID:10010819-1781546400-1781553600@wseo.digital
SUMMARY:Wally Walton Drive Time (Start Date TBC)
DESCRIPTION:
URL:https://wseo.digital/event/gareth-morgan-2-2/2026-06-15/
ATTACH;FMTTYPE=image/jpeg:https://wseo.digital/wp-content/uploads/2025/11/Wally-Walton.jpg
LOCATION:
END:VEVENT
BEGIN:VEVENT
DTSTART;TZID=Europe/London:20260622T180000
DTEND;TZID=Europe/London:20260622T200000
DTSTAMP:20260421T212147
CREATED:20251228T163939Z
LAST-MODIFIED:20251228T165441Z
UID:10010820-1782151200-1782158400@wseo.digital
SUMMARY:Wally Walton Drive Time (Start Date TBC)
DESCRIPTION:
URL:https://wseo.digital/event/gareth-morgan-2-2/2026-06-22/
ATTACH;FMTTYPE=image/jpeg:https://wseo.digital/wp-content/uploads/2025/11/Wally-Walton.jpg
LOCATION:
END:VEVENT
BEGIN:VEVENT
DTSTART;TZID=Europe/London:20260629T180000
DTEND;TZID=Europe/London:20260629T200000
DTSTAMP:20260421T212147
CREATED:20251228T163939Z
LAST-MODIFIED:20251228T165441Z
UID:10010821-1782756000-1782763200@wseo.digital
SUMMARY:Wally Walton Drive Time (Start Date TBC)
DESCRIPTION:
URL:https://wseo.digital/event/gareth-morgan-2-2/2026-06-29/
ATTACH;FMTTYPE=image/jpeg:https://wseo.digital/wp-content/uploads/2025/11/Wally-Walton.jpg
LOCATION:
END:VEVENT
BEGIN:VEVENT
DTSTART;TZID=Europe/London:20260706T180000
DTEND;TZID=Europe/London:20260706T200000
DTSTAMP:20260421T212147
CREATED:20251228T163939Z
LAST-MODIFIED:20251228T165441Z
UID:10010822-1783360800-1783368000@wseo.digital
SUMMARY:Wally Walton Drive Time (Start Date TBC)
DESCRIPTION:
URL:https://wseo.digital/event/gareth-morgan-2-2/2026-07-06/
ATTACH;FMTTYPE=image/jpeg:https://wseo.digital/wp-content/uploads/2025/11/Wally-Walton.jpg
LOCATION:
END:VEVENT
BEGIN:VEVENT
DTSTART;TZID=Europe/London:20260713T180000
DTEND;TZID=Europe/London:20260713T200000
DTSTAMP:20260421T212147
CREATED:20251228T163939Z
LAST-MODIFIED:20251228T165441Z
UID:10010823-1783965600-1783972800@wseo.digital
SUMMARY:Wally Walton Drive Time (Start Date TBC)
DESCRIPTION:
URL:https://wseo.digital/event/gareth-morgan-2-2/2026-07-13/
ATTACH;FMTTYPE=image/jpeg:https://wseo.digital/wp-content/uploads/2025/11/Wally-Walton.jpg
LOCATION:
END:VEVENT
BEGIN:VEVENT
DTSTART;TZID=Europe/London:20260720T180000
DTEND;TZID=Europe/London:20260720T200000
DTSTAMP:20260421T212147
CREATED:20251228T163939Z
LAST-MODIFIED:20251228T165441Z
UID:10010824-1784570400-1784577600@wseo.digital
SUMMARY:Wally Walton Drive Time (Start Date TBC)
DESCRIPTION:
URL:https://wseo.digital/event/gareth-morgan-2-2/2026-07-20/
ATTACH;FMTTYPE=image/jpeg:https://wseo.digital/wp-content/uploads/2025/11/Wally-Walton.jpg
LOCATION:
END:VEVENT
BEGIN:VEVENT
DTSTART;TZID=Europe/London:20260727T180000
DTEND;TZID=Europe/London:20260727T200000
DTSTAMP:20260421T212147
CREATED:20251228T163939Z
LAST-MODIFIED:20251228T165441Z
UID:10010825-1785175200-1785182400@wseo.digital
SUMMARY:Wally Walton Drive Time (Start Date TBC)
DESCRIPTION:
URL:https://wseo.digital/event/gareth-morgan-2-2/2026-07-27/
ATTACH;FMTTYPE=image/jpeg:https://wseo.digital/wp-content/uploads/2025/11/Wally-Walton.jpg
LOCATION:
END:VEVENT
BEGIN:VEVENT
DTSTART;TZID=Europe/London:20260803T180000
DTEND;TZID=Europe/London:20260803T200000
DTSTAMP:20260421T212147
CREATED:20251228T163939Z
LAST-MODIFIED:20251228T165441Z
UID:10010826-1785780000-1785787200@wseo.digital
SUMMARY:Wally Walton Drive Time (Start Date TBC)
DESCRIPTION:
URL:https://wseo.digital/event/gareth-morgan-2-2/2026-08-03/
ATTACH;FMTTYPE=image/jpeg:https://wseo.digital/wp-content/uploads/2025/11/Wally-Walton.jpg
LOCATION:
END:VEVENT
BEGIN:VEVENT
DTSTART;TZID=Europe/London:20260810T180000
DTEND;TZID=Europe/London:20260810T200000
DTSTAMP:20260421T212147
CREATED:20251228T163939Z
LAST-MODIFIED:20251228T165441Z
UID:10010827-1786384800-1786392000@wseo.digital
SUMMARY:Wally Walton Drive Time (Start Date TBC)
DESCRIPTION:
URL:https://wseo.digital/event/gareth-morgan-2-2/2026-08-10/
ATTACH;FMTTYPE=image/jpeg:https://wseo.digital/wp-content/uploads/2025/11/Wally-Walton.jpg
LOCATION:
END:VEVENT
BEGIN:VEVENT
DTSTART;TZID=Europe/London:20260817T180000
DTEND;TZID=Europe/London:20260817T200000
DTSTAMP:20260421T212147
CREATED:20251228T163939Z
LAST-MODIFIED:20251228T165441Z
UID:10010828-1786989600-1786996800@wseo.digital
SUMMARY:Wally Walton Drive Time (Start Date TBC)
DESCRIPTION:
URL:https://wseo.digital/event/gareth-morgan-2-2/2026-08-17/
ATTACH;FMTTYPE=image/jpeg:https://wseo.digital/wp-content/uploads/2025/11/Wally-Walton.jpg
LOCATION:
END:VEVENT
BEGIN:VEVENT
DTSTART;TZID=Europe/London:20260824T180000
DTEND;TZID=Europe/London:20260824T200000
DTSTAMP:20260421T212147
CREATED:20251228T163939Z
LAST-MODIFIED:20251228T165441Z
UID:10010829-1787594400-1787601600@wseo.digital
SUMMARY:Wally Walton Drive Time (Start Date TBC)
DESCRIPTION:
URL:https://wseo.digital/event/gareth-morgan-2-2/2026-08-24/
ATTACH;FMTTYPE=image/jpeg:https://wseo.digital/wp-content/uploads/2025/11/Wally-Walton.jpg
LOCATION:
END:VEVENT
BEGIN:VEVENT
DTSTART;TZID=Europe/London:20260831T180000
DTEND;TZID=Europe/London:20260831T200000
DTSTAMP:20260421T212147
CREATED:20251228T163939Z
LAST-MODIFIED:20251228T165441Z
UID:10010830-1788199200-1788206400@wseo.digital
SUMMARY:Wally Walton Drive Time (Start Date TBC)
DESCRIPTION:
URL:https://wseo.digital/event/gareth-morgan-2-2/2026-08-31/
ATTACH;FMTTYPE=image/jpeg:https://wseo.digital/wp-content/uploads/2025/11/Wally-Walton.jpg
LOCATION:
END:VEVENT
BEGIN:VEVENT
DTSTART;TZID=Europe/London:20260907T180000
DTEND;TZID=Europe/London:20260907T200000
DTSTAMP:20260421T212147
CREATED:20251228T163939Z
LAST-MODIFIED:20251228T165441Z
UID:10010831-1788804000-1788811200@wseo.digital
SUMMARY:Wally Walton Drive Time (Start Date TBC)
DESCRIPTION:
URL:https://wseo.digital/event/gareth-morgan-2-2/2026-09-07/
ATTACH;FMTTYPE=image/jpeg:https://wseo.digital/wp-content/uploads/2025/11/Wally-Walton.jpg
LOCATION:
END:VEVENT
BEGIN:VEVENT
DTSTART;TZID=Europe/London:20260914T180000
DTEND;TZID=Europe/London:20260914T200000
DTSTAMP:20260421T212147
CREATED:20251228T163939Z
LAST-MODIFIED:20251228T165441Z
UID:10010832-1789408800-1789416000@wseo.digital
SUMMARY:Wally Walton Drive Time (Start Date TBC)
DESCRIPTION:
URL:https://wseo.digital/event/gareth-morgan-2-2/2026-09-14/
ATTACH;FMTTYPE=image/jpeg:https://wseo.digital/wp-content/uploads/2025/11/Wally-Walton.jpg
LOCATION:
END:VEVENT
BEGIN:VEVENT
DTSTART;TZID=Europe/London:20260921T180000
DTEND;TZID=Europe/London:20260921T200000
DTSTAMP:20260421T212147
CREATED:20251228T163939Z
LAST-MODIFIED:20251228T165441Z
UID:10010833-1790013600-1790020800@wseo.digital
SUMMARY:Wally Walton Drive Time (Start Date TBC)
DESCRIPTION:
URL:https://wseo.digital/event/gareth-morgan-2-2/2026-09-21/
ATTACH;FMTTYPE=image/jpeg:https://wseo.digital/wp-content/uploads/2025/11/Wally-Walton.jpg
LOCATION:
END:VEVENT
BEGIN:VEVENT
DTSTART;TZID=Europe/London:20260928T180000
DTEND;TZID=Europe/London:20260928T200000
DTSTAMP:20260421T212147
CREATED:20251228T163939Z
LAST-MODIFIED:20251228T165441Z
UID:10010834-1790618400-1790625600@wseo.digital
SUMMARY:Wally Walton Drive Time (Start Date TBC)
DESCRIPTION:
URL:https://wseo.digital/event/gareth-morgan-2-2/2026-09-28/
ATTACH;FMTTYPE=image/jpeg:https://wseo.digital/wp-content/uploads/2025/11/Wally-Walton.jpg
LOCATION:
END:VEVENT
BEGIN:VEVENT
DTSTART;TZID=Europe/London:20261005T180000
DTEND;TZID=Europe/London:20261005T200000
DTSTAMP:20260421T212147
CREATED:20251228T163939Z
LAST-MODIFIED:20251228T165441Z
UID:10010835-1791223200-1791230400@wseo.digital
SUMMARY:Wally Walton Drive Time (Start Date TBC)
DESCRIPTION:
URL:https://wseo.digital/event/gareth-morgan-2-2/2026-10-05/
ATTACH;FMTTYPE=image/jpeg:https://wseo.digital/wp-content/uploads/2025/11/Wally-Walton.jpg
LOCATION:
END:VEVENT
BEGIN:VEVENT
DTSTART;TZID=Europe/London:20261012T180000
DTEND;TZID=Europe/London:20261012T200000
DTSTAMP:20260421T212147
CREATED:20251228T163939Z
LAST-MODIFIED:20251228T165441Z
UID:10010836-1791828000-1791835200@wseo.digital
SUMMARY:Wally Walton Drive Time (Start Date TBC)
DESCRIPTION:
URL:https://wseo.digital/event/gareth-morgan-2-2/2026-10-12/
ATTACH;FMTTYPE=image/jpeg:https://wseo.digital/wp-content/uploads/2025/11/Wally-Walton.jpg
LOCATION:
END:VEVENT
BEGIN:VEVENT
DTSTART;TZID=Europe/London:20261019T180000
DTEND;TZID=Europe/London:20261019T200000
DTSTAMP:20260421T212147
CREATED:20251228T163939Z
LAST-MODIFIED:20251228T165441Z
UID:10010837-1792432800-1792440000@wseo.digital
SUMMARY:Wally Walton Drive Time (Start Date TBC)
DESCRIPTION:
URL:https://wseo.digital/event/gareth-morgan-2-2/2026-10-19/
ATTACH;FMTTYPE=image/jpeg:https://wseo.digital/wp-content/uploads/2025/11/Wally-Walton.jpg
LOCATION:
END:VEVENT
BEGIN:VEVENT
DTSTART;TZID=Europe/London:20261026T180000
DTEND;TZID=Europe/London:20261026T200000
DTSTAMP:20260421T212147
CREATED:20251228T163939Z
LAST-MODIFIED:20251228T165441Z
UID:10010838-1793037600-1793044800@wseo.digital
SUMMARY:Wally Walton Drive Time (Start Date TBC)
DESCRIPTION:
URL:https://wseo.digital/event/gareth-morgan-2-2/2026-10-26/
ATTACH;FMTTYPE=image/jpeg:https://wseo.digital/wp-content/uploads/2025/11/Wally-Walton.jpg
LOCATION:
END:VEVENT
BEGIN:VEVENT
DTSTART;TZID=Europe/London:20261102T180000
DTEND;TZID=Europe/London:20261102T200000
DTSTAMP:20260421T212147
CREATED:20251228T163939Z
LAST-MODIFIED:20251228T165441Z
UID:10010839-1793642400-1793649600@wseo.digital
SUMMARY:Wally Walton Drive Time (Start Date TBC)
DESCRIPTION:
URL:https://wseo.digital/event/gareth-morgan-2-2/2026-11-02/
ATTACH;FMTTYPE=image/jpeg:https://wseo.digital/wp-content/uploads/2025/11/Wally-Walton.jpg
LOCATION:
END:VEVENT
BEGIN:VEVENT
DTSTART;TZID=Europe/London:20261109T180000
DTEND;TZID=Europe/London:20261109T200000
DTSTAMP:20260421T212147
CREATED:20251228T163939Z
LAST-MODIFIED:20251228T165441Z
UID:10010840-1794247200-1794254400@wseo.digital
SUMMARY:Wally Walton Drive Time (Start Date TBC)
DESCRIPTION:
URL:https://wseo.digital/event/gareth-morgan-2-2/2026-11-09/
ATTACH;FMTTYPE=image/jpeg:https://wseo.digital/wp-content/uploads/2025/11/Wally-Walton.jpg
LOCATION:
END:VEVENT
BEGIN:VEVENT
DTSTART;TZID=Europe/London:20261116T180000
DTEND;TZID=Europe/London:20261116T200000
DTSTAMP:20260421T212147
CREATED:20251228T163939Z
LAST-MODIFIED:20251228T165441Z
UID:10010841-1794852000-1794859200@wseo.digital
SUMMARY:Wally Walton Drive Time (Start Date TBC)
DESCRIPTION:
URL:https://wseo.digital/event/gareth-morgan-2-2/2026-11-16/
ATTACH;FMTTYPE=image/jpeg:https://wseo.digital/wp-content/uploads/2025/11/Wally-Walton.jpg
LOCATION:
END:VEVENT
END:VCALENDAR