BEGIN:VCALENDAR
VERSION:2.0
PRODID:-//wseodigital - ECPv6.15.13//NONSGML v1.0//EN
CALSCALE:GREGORIAN
METHOD:PUBLISH
X-WR-CALNAME:wseodigital
X-ORIGINAL-URL:https://wseo.digital
X-WR-CALDESC:Events for wseodigital
REFRESH-INTERVAL;VALUE=DURATION:PT1H
X-Robots-Tag:noindex
X-PUBLISHED-TTL:PT1H
BEGIN:VTIMEZONE
TZID:Europe/London
BEGIN:DAYLIGHT
TZOFFSETFROM:+0000
TZOFFSETTO:+0100
TZNAME:BST
DTSTART:20250330T010000
END:DAYLIGHT
BEGIN:STANDARD
TZOFFSETFROM:+0100
TZOFFSETTO:+0000
TZNAME:GMT
DTSTART:20251026T010000
END:STANDARD
BEGIN:DAYLIGHT
TZOFFSETFROM:+0000
TZOFFSETTO:+0100
TZNAME:BST
DTSTART:20260329T010000
END:DAYLIGHT
BEGIN:STANDARD
TZOFFSETFROM:+0100
TZOFFSETTO:+0000
TZNAME:GMT
DTSTART:20261025T010000
END:STANDARD
BEGIN:DAYLIGHT
TZOFFSETFROM:+0000
TZOFFSETTO:+0100
TZNAME:BST
DTSTART:20270328T010000
END:DAYLIGHT
BEGIN:STANDARD
TZOFFSETFROM:+0100
TZOFFSETTO:+0000
TZNAME:GMT
DTSTART:20271031T010000
END:STANDARD
END:VTIMEZONE
BEGIN:VEVENT
DTSTART;TZID=Europe/London:20260425T220000
DTEND;TZID=Europe/London:20260425T233000
DTSTAMP:20260421T205943
CREATED:20251228T193000Z
LAST-MODIFIED:20251228T193001Z
UID:10020237-1777154400-1777159800@wseo.digital
SUMMARY:Cornie Smart
DESCRIPTION:Please email join@slimradio.co.uk if you would like to take this slot
URL:https://wseo.digital/event/vacant-show-sat-10pm-12am-2/2026-04-25/
LOCATION:
END:VEVENT
BEGIN:VEVENT
DTSTART;TZID=Europe/London:20260502T220000
DTEND;TZID=Europe/London:20260502T233000
DTSTAMP:20260421T205943
CREATED:20251228T193000Z
LAST-MODIFIED:20251228T193001Z
UID:10020238-1777759200-1777764600@wseo.digital
SUMMARY:Cornie Smart
DESCRIPTION:Please email join@slimradio.co.uk if you would like to take this slot
URL:https://wseo.digital/event/vacant-show-sat-10pm-12am-2/2026-05-02/
LOCATION:
END:VEVENT
BEGIN:VEVENT
DTSTART;TZID=Europe/London:20260509T220000
DTEND;TZID=Europe/London:20260509T233000
DTSTAMP:20260421T205943
CREATED:20251228T193000Z
LAST-MODIFIED:20251228T193001Z
UID:10020239-1778364000-1778369400@wseo.digital
SUMMARY:Cornie Smart
DESCRIPTION:Please email join@slimradio.co.uk if you would like to take this slot
URL:https://wseo.digital/event/vacant-show-sat-10pm-12am-2/2026-05-09/
LOCATION:
END:VEVENT
BEGIN:VEVENT
DTSTART;TZID=Europe/London:20260516T220000
DTEND;TZID=Europe/London:20260516T233000
DTSTAMP:20260421T205943
CREATED:20251228T193000Z
LAST-MODIFIED:20251228T193001Z
UID:10020240-1778968800-1778974200@wseo.digital
SUMMARY:Cornie Smart
DESCRIPTION:Please email join@slimradio.co.uk if you would like to take this slot
URL:https://wseo.digital/event/vacant-show-sat-10pm-12am-2/2026-05-16/
LOCATION:
END:VEVENT
BEGIN:VEVENT
DTSTART;TZID=Europe/London:20260523T220000
DTEND;TZID=Europe/London:20260523T233000
DTSTAMP:20260421T205943
CREATED:20251228T193000Z
LAST-MODIFIED:20251228T193001Z
UID:10020241-1779573600-1779579000@wseo.digital
SUMMARY:Cornie Smart
DESCRIPTION:Please email join@slimradio.co.uk if you would like to take this slot
URL:https://wseo.digital/event/vacant-show-sat-10pm-12am-2/2026-05-23/
LOCATION:
END:VEVENT
BEGIN:VEVENT
DTSTART;TZID=Europe/London:20260530T220000
DTEND;TZID=Europe/London:20260530T233000
DTSTAMP:20260421T205943
CREATED:20251228T193000Z
LAST-MODIFIED:20251228T193001Z
UID:10020242-1780178400-1780183800@wseo.digital
SUMMARY:Cornie Smart
DESCRIPTION:Please email join@slimradio.co.uk if you would like to take this slot
URL:https://wseo.digital/event/vacant-show-sat-10pm-12am-2/2026-05-30/
LOCATION:
END:VEVENT
BEGIN:VEVENT
DTSTART;TZID=Europe/London:20260606T220000
DTEND;TZID=Europe/London:20260606T233000
DTSTAMP:20260421T205943
CREATED:20251228T193000Z
LAST-MODIFIED:20251228T193001Z
UID:10020243-1780783200-1780788600@wseo.digital
SUMMARY:Cornie Smart
DESCRIPTION:Please email join@slimradio.co.uk if you would like to take this slot
URL:https://wseo.digital/event/vacant-show-sat-10pm-12am-2/2026-06-06/
LOCATION:
END:VEVENT
BEGIN:VEVENT
DTSTART;TZID=Europe/London:20260613T220000
DTEND;TZID=Europe/London:20260613T233000
DTSTAMP:20260421T205944
CREATED:20251228T193000Z
LAST-MODIFIED:20251228T193001Z
UID:10020244-1781388000-1781393400@wseo.digital
SUMMARY:Cornie Smart
DESCRIPTION:Please email join@slimradio.co.uk if you would like to take this slot
URL:https://wseo.digital/event/vacant-show-sat-10pm-12am-2/2026-06-13/
LOCATION:
END:VEVENT
BEGIN:VEVENT
DTSTART;TZID=Europe/London:20260620T220000
DTEND;TZID=Europe/London:20260620T233000
DTSTAMP:20260421T205944
CREATED:20251228T193000Z
LAST-MODIFIED:20251228T193001Z
UID:10020245-1781992800-1781998200@wseo.digital
SUMMARY:Cornie Smart
DESCRIPTION:Please email join@slimradio.co.uk if you would like to take this slot
URL:https://wseo.digital/event/vacant-show-sat-10pm-12am-2/2026-06-20/
LOCATION:
END:VEVENT
BEGIN:VEVENT
DTSTART;TZID=Europe/London:20260627T220000
DTEND;TZID=Europe/London:20260627T233000
DTSTAMP:20260421T205944
CREATED:20251228T193000Z
LAST-MODIFIED:20251228T193001Z
UID:10020246-1782597600-1782603000@wseo.digital
SUMMARY:Cornie Smart
DESCRIPTION:Please email join@slimradio.co.uk if you would like to take this slot
URL:https://wseo.digital/event/vacant-show-sat-10pm-12am-2/2026-06-27/
LOCATION:
END:VEVENT
BEGIN:VEVENT
DTSTART;TZID=Europe/London:20260704T220000
DTEND;TZID=Europe/London:20260704T233000
DTSTAMP:20260421T205944
CREATED:20251228T193000Z
LAST-MODIFIED:20251228T193001Z
UID:10020247-1783202400-1783207800@wseo.digital
SUMMARY:Cornie Smart
DESCRIPTION:Please email join@slimradio.co.uk if you would like to take this slot
URL:https://wseo.digital/event/vacant-show-sat-10pm-12am-2/2026-07-04/
LOCATION:
END:VEVENT
BEGIN:VEVENT
DTSTART;TZID=Europe/London:20260711T220000
DTEND;TZID=Europe/London:20260711T233000
DTSTAMP:20260421T205944
CREATED:20251228T193000Z
LAST-MODIFIED:20251228T193001Z
UID:10020248-1783807200-1783812600@wseo.digital
SUMMARY:Cornie Smart
DESCRIPTION:Please email join@slimradio.co.uk if you would like to take this slot
URL:https://wseo.digital/event/vacant-show-sat-10pm-12am-2/2026-07-11/
LOCATION:
END:VEVENT
BEGIN:VEVENT
DTSTART;TZID=Europe/London:20260718T220000
DTEND;TZID=Europe/London:20260718T233000
DTSTAMP:20260421T205944
CREATED:20251228T193000Z
LAST-MODIFIED:20251228T193001Z
UID:10020249-1784412000-1784417400@wseo.digital
SUMMARY:Cornie Smart
DESCRIPTION:Please email join@slimradio.co.uk if you would like to take this slot
URL:https://wseo.digital/event/vacant-show-sat-10pm-12am-2/2026-07-18/
LOCATION:
END:VEVENT
BEGIN:VEVENT
DTSTART;TZID=Europe/London:20260725T220000
DTEND;TZID=Europe/London:20260725T233000
DTSTAMP:20260421T205944
CREATED:20251228T193000Z
LAST-MODIFIED:20251228T193001Z
UID:10020250-1785016800-1785022200@wseo.digital
SUMMARY:Cornie Smart
DESCRIPTION:Please email join@slimradio.co.uk if you would like to take this slot
URL:https://wseo.digital/event/vacant-show-sat-10pm-12am-2/2026-07-25/
LOCATION:
END:VEVENT
BEGIN:VEVENT
DTSTART;TZID=Europe/London:20260801T220000
DTEND;TZID=Europe/London:20260801T233000
DTSTAMP:20260421T205944
CREATED:20251228T193000Z
LAST-MODIFIED:20251228T193001Z
UID:10020251-1785621600-1785627000@wseo.digital
SUMMARY:Cornie Smart
DESCRIPTION:Please email join@slimradio.co.uk if you would like to take this slot
URL:https://wseo.digital/event/vacant-show-sat-10pm-12am-2/2026-08-01/
LOCATION:
END:VEVENT
BEGIN:VEVENT
DTSTART;TZID=Europe/London:20260808T220000
DTEND;TZID=Europe/London:20260808T233000
DTSTAMP:20260421T205944
CREATED:20251228T193000Z
LAST-MODIFIED:20251228T193001Z
UID:10020252-1786226400-1786231800@wseo.digital
SUMMARY:Cornie Smart
DESCRIPTION:Please email join@slimradio.co.uk if you would like to take this slot
URL:https://wseo.digital/event/vacant-show-sat-10pm-12am-2/2026-08-08/
LOCATION:
END:VEVENT
BEGIN:VEVENT
DTSTART;TZID=Europe/London:20260815T220000
DTEND;TZID=Europe/London:20260815T233000
DTSTAMP:20260421T205944
CREATED:20251228T193000Z
LAST-MODIFIED:20251228T193001Z
UID:10020253-1786831200-1786836600@wseo.digital
SUMMARY:Cornie Smart
DESCRIPTION:Please email join@slimradio.co.uk if you would like to take this slot
URL:https://wseo.digital/event/vacant-show-sat-10pm-12am-2/2026-08-15/
LOCATION:
END:VEVENT
BEGIN:VEVENT
DTSTART;TZID=Europe/London:20260822T220000
DTEND;TZID=Europe/London:20260822T233000
DTSTAMP:20260421T205944
CREATED:20251228T193000Z
LAST-MODIFIED:20251228T193001Z
UID:10020254-1787436000-1787441400@wseo.digital
SUMMARY:Cornie Smart
DESCRIPTION:Please email join@slimradio.co.uk if you would like to take this slot
URL:https://wseo.digital/event/vacant-show-sat-10pm-12am-2/2026-08-22/
LOCATION:
END:VEVENT
BEGIN:VEVENT
DTSTART;TZID=Europe/London:20260829T220000
DTEND;TZID=Europe/London:20260829T233000
DTSTAMP:20260421T205944
CREATED:20251228T193000Z
LAST-MODIFIED:20251228T193001Z
UID:10020255-1788040800-1788046200@wseo.digital
SUMMARY:Cornie Smart
DESCRIPTION:Please email join@slimradio.co.uk if you would like to take this slot
URL:https://wseo.digital/event/vacant-show-sat-10pm-12am-2/2026-08-29/
LOCATION:
END:VEVENT
BEGIN:VEVENT
DTSTART;TZID=Europe/London:20260905T220000
DTEND;TZID=Europe/London:20260905T233000
DTSTAMP:20260421T205944
CREATED:20251228T193000Z
LAST-MODIFIED:20251228T193001Z
UID:10020256-1788645600-1788651000@wseo.digital
SUMMARY:Cornie Smart
DESCRIPTION:Please email join@slimradio.co.uk if you would like to take this slot
URL:https://wseo.digital/event/vacant-show-sat-10pm-12am-2/2026-09-05/
LOCATION:
END:VEVENT
BEGIN:VEVENT
DTSTART;TZID=Europe/London:20260912T220000
DTEND;TZID=Europe/London:20260912T233000
DTSTAMP:20260421T205944
CREATED:20251228T193000Z
LAST-MODIFIED:20251228T193001Z
UID:10020257-1789250400-1789255800@wseo.digital
SUMMARY:Cornie Smart
DESCRIPTION:Please email join@slimradio.co.uk if you would like to take this slot
URL:https://wseo.digital/event/vacant-show-sat-10pm-12am-2/2026-09-12/
LOCATION:
END:VEVENT
BEGIN:VEVENT
DTSTART;TZID=Europe/London:20260919T220000
DTEND;TZID=Europe/London:20260919T233000
DTSTAMP:20260421T205944
CREATED:20251228T193000Z
LAST-MODIFIED:20251228T193001Z
UID:10020258-1789855200-1789860600@wseo.digital
SUMMARY:Cornie Smart
DESCRIPTION:Please email join@slimradio.co.uk if you would like to take this slot
URL:https://wseo.digital/event/vacant-show-sat-10pm-12am-2/2026-09-19/
LOCATION:
END:VEVENT
BEGIN:VEVENT
DTSTART;TZID=Europe/London:20260926T220000
DTEND;TZID=Europe/London:20260926T233000
DTSTAMP:20260421T205944
CREATED:20251228T193000Z
LAST-MODIFIED:20251228T193001Z
UID:10020259-1790460000-1790465400@wseo.digital
SUMMARY:Cornie Smart
DESCRIPTION:Please email join@slimradio.co.uk if you would like to take this slot
URL:https://wseo.digital/event/vacant-show-sat-10pm-12am-2/2026-09-26/
LOCATION:
END:VEVENT
BEGIN:VEVENT
DTSTART;TZID=Europe/London:20261003T220000
DTEND;TZID=Europe/London:20261003T233000
DTSTAMP:20260421T205944
CREATED:20251228T193000Z
LAST-MODIFIED:20251228T193001Z
UID:10020260-1791064800-1791070200@wseo.digital
SUMMARY:Cornie Smart
DESCRIPTION:Please email join@slimradio.co.uk if you would like to take this slot
URL:https://wseo.digital/event/vacant-show-sat-10pm-12am-2/2026-10-03/
LOCATION:
END:VEVENT
BEGIN:VEVENT
DTSTART;TZID=Europe/London:20261010T220000
DTEND;TZID=Europe/London:20261010T233000
DTSTAMP:20260421T205944
CREATED:20251228T193000Z
LAST-MODIFIED:20251228T193001Z
UID:10020261-1791669600-1791675000@wseo.digital
SUMMARY:Cornie Smart
DESCRIPTION:Please email join@slimradio.co.uk if you would like to take this slot
URL:https://wseo.digital/event/vacant-show-sat-10pm-12am-2/2026-10-10/
LOCATION:
END:VEVENT
BEGIN:VEVENT
DTSTART;TZID=Europe/London:20261017T220000
DTEND;TZID=Europe/London:20261017T233000
DTSTAMP:20260421T205944
CREATED:20251228T193000Z
LAST-MODIFIED:20251228T193001Z
UID:10020262-1792274400-1792279800@wseo.digital
SUMMARY:Cornie Smart
DESCRIPTION:Please email join@slimradio.co.uk if you would like to take this slot
URL:https://wseo.digital/event/vacant-show-sat-10pm-12am-2/2026-10-17/
LOCATION:
END:VEVENT
BEGIN:VEVENT
DTSTART;TZID=Europe/London:20261024T220000
DTEND;TZID=Europe/London:20261024T233000
DTSTAMP:20260421T205944
CREATED:20251228T193000Z
LAST-MODIFIED:20251228T193001Z
UID:10020263-1792879200-1792884600@wseo.digital
SUMMARY:Cornie Smart
DESCRIPTION:Please email join@slimradio.co.uk if you would like to take this slot
URL:https://wseo.digital/event/vacant-show-sat-10pm-12am-2/2026-10-24/
LOCATION:
END:VEVENT
BEGIN:VEVENT
DTSTART;TZID=Europe/London:20261031T220000
DTEND;TZID=Europe/London:20261031T233000
DTSTAMP:20260421T205944
CREATED:20251228T193000Z
LAST-MODIFIED:20251228T193001Z
UID:10020264-1793484000-1793489400@wseo.digital
SUMMARY:Cornie Smart
DESCRIPTION:Please email join@slimradio.co.uk if you would like to take this slot
URL:https://wseo.digital/event/vacant-show-sat-10pm-12am-2/2026-10-31/
LOCATION:
END:VEVENT
BEGIN:VEVENT
DTSTART;TZID=Europe/London:20261107T220000
DTEND;TZID=Europe/London:20261107T233000
DTSTAMP:20260421T205944
CREATED:20251228T193000Z
LAST-MODIFIED:20251228T193001Z
UID:10020265-1794088800-1794094200@wseo.digital
SUMMARY:Cornie Smart
DESCRIPTION:Please email join@slimradio.co.uk if you would like to take this slot
URL:https://wseo.digital/event/vacant-show-sat-10pm-12am-2/2026-11-07/
LOCATION:
END:VEVENT
BEGIN:VEVENT
DTSTART;TZID=Europe/London:20261114T220000
DTEND;TZID=Europe/London:20261114T233000
DTSTAMP:20260421T205944
CREATED:20251228T193000Z
LAST-MODIFIED:20251228T193001Z
UID:10020266-1794693600-1794699000@wseo.digital
SUMMARY:Cornie Smart
DESCRIPTION:Please email join@slimradio.co.uk if you would like to take this slot
URL:https://wseo.digital/event/vacant-show-sat-10pm-12am-2/2026-11-14/
LOCATION:
END:VEVENT
END:VCALENDAR