BEGIN:VCALENDAR
VERSION:2.0
PRODID:-//wseodigital - ECPv6.15.13//NONSGML v1.0//EN
CALSCALE:GREGORIAN
METHOD:PUBLISH
X-WR-CALNAME:wseodigital
X-ORIGINAL-URL:https://wseo.digital
X-WR-CALDESC:Events for wseodigital
REFRESH-INTERVAL;VALUE=DURATION:PT1H
X-Robots-Tag:noindex
X-PUBLISHED-TTL:PT1H
BEGIN:VTIMEZONE
TZID:Europe/London
BEGIN:DAYLIGHT
TZOFFSETFROM:+0000
TZOFFSETTO:+0100
TZNAME:BST
DTSTART:20250330T010000
END:DAYLIGHT
BEGIN:STANDARD
TZOFFSETFROM:+0100
TZOFFSETTO:+0000
TZNAME:GMT
DTSTART:20251026T010000
END:STANDARD
BEGIN:DAYLIGHT
TZOFFSETFROM:+0000
TZOFFSETTO:+0100
TZNAME:BST
DTSTART:20260329T010000
END:DAYLIGHT
BEGIN:STANDARD
TZOFFSETFROM:+0100
TZOFFSETTO:+0000
TZNAME:GMT
DTSTART:20261025T010000
END:STANDARD
BEGIN:DAYLIGHT
TZOFFSETFROM:+0000
TZOFFSETTO:+0100
TZNAME:BST
DTSTART:20270328T010000
END:DAYLIGHT
BEGIN:STANDARD
TZOFFSETFROM:+0100
TZOFFSETTO:+0000
TZNAME:GMT
DTSTART:20271031T010000
END:STANDARD
END:VTIMEZONE
BEGIN:VEVENT
DTSTART;TZID=Europe/London:20260425T160000
DTEND;TZID=Europe/London:20260425T180000
DTSTAMP:20260421T205945
CREATED:20251228T193126Z
LAST-MODIFIED:20251228T193126Z
UID:10019975-1777132800-1777140000@wseo.digital
SUMMARY:Luis Perez
DESCRIPTION:Please email join@slimradio.co.uk if you would like to take this slot
URL:https://wseo.digital/event/vacant-show-sat-4pm-6pm-2/2026-04-25/
ATTACH;FMTTYPE=image/webp:https://wseo.digital/wp-content/uploads/2025/11/slim-radio-show-1.webp
LOCATION:
END:VEVENT
BEGIN:VEVENT
DTSTART;TZID=Europe/London:20260502T160000
DTEND;TZID=Europe/London:20260502T180000
DTSTAMP:20260421T205945
CREATED:20251228T193126Z
LAST-MODIFIED:20251228T193126Z
UID:10019976-1777737600-1777744800@wseo.digital
SUMMARY:Luis Perez
DESCRIPTION:Please email join@slimradio.co.uk if you would like to take this slot
URL:https://wseo.digital/event/vacant-show-sat-4pm-6pm-2/2026-05-02/
ATTACH;FMTTYPE=image/webp:https://wseo.digital/wp-content/uploads/2025/11/slim-radio-show-1.webp
LOCATION:
END:VEVENT
BEGIN:VEVENT
DTSTART;TZID=Europe/London:20260509T160000
DTEND;TZID=Europe/London:20260509T180000
DTSTAMP:20260421T205945
CREATED:20251228T193126Z
LAST-MODIFIED:20251228T193126Z
UID:10019977-1778342400-1778349600@wseo.digital
SUMMARY:Luis Perez
DESCRIPTION:Please email join@slimradio.co.uk if you would like to take this slot
URL:https://wseo.digital/event/vacant-show-sat-4pm-6pm-2/2026-05-09/
ATTACH;FMTTYPE=image/webp:https://wseo.digital/wp-content/uploads/2025/11/slim-radio-show-1.webp
LOCATION:
END:VEVENT
BEGIN:VEVENT
DTSTART;TZID=Europe/London:20260516T160000
DTEND;TZID=Europe/London:20260516T180000
DTSTAMP:20260421T205945
CREATED:20251228T193126Z
LAST-MODIFIED:20251228T193126Z
UID:10019978-1778947200-1778954400@wseo.digital
SUMMARY:Luis Perez
DESCRIPTION:Please email join@slimradio.co.uk if you would like to take this slot
URL:https://wseo.digital/event/vacant-show-sat-4pm-6pm-2/2026-05-16/
ATTACH;FMTTYPE=image/webp:https://wseo.digital/wp-content/uploads/2025/11/slim-radio-show-1.webp
LOCATION:
END:VEVENT
BEGIN:VEVENT
DTSTART;TZID=Europe/London:20260523T160000
DTEND;TZID=Europe/London:20260523T180000
DTSTAMP:20260421T205945
CREATED:20251228T193126Z
LAST-MODIFIED:20251228T193126Z
UID:10019979-1779552000-1779559200@wseo.digital
SUMMARY:Luis Perez
DESCRIPTION:Please email join@slimradio.co.uk if you would like to take this slot
URL:https://wseo.digital/event/vacant-show-sat-4pm-6pm-2/2026-05-23/
ATTACH;FMTTYPE=image/webp:https://wseo.digital/wp-content/uploads/2025/11/slim-radio-show-1.webp
LOCATION:
END:VEVENT
BEGIN:VEVENT
DTSTART;TZID=Europe/London:20260530T160000
DTEND;TZID=Europe/London:20260530T180000
DTSTAMP:20260421T205945
CREATED:20251228T193126Z
LAST-MODIFIED:20251228T193126Z
UID:10019980-1780156800-1780164000@wseo.digital
SUMMARY:Luis Perez
DESCRIPTION:Please email join@slimradio.co.uk if you would like to take this slot
URL:https://wseo.digital/event/vacant-show-sat-4pm-6pm-2/2026-05-30/
ATTACH;FMTTYPE=image/webp:https://wseo.digital/wp-content/uploads/2025/11/slim-radio-show-1.webp
LOCATION:
END:VEVENT
BEGIN:VEVENT
DTSTART;TZID=Europe/London:20260606T160000
DTEND;TZID=Europe/London:20260606T180000
DTSTAMP:20260421T205945
CREATED:20251228T193126Z
LAST-MODIFIED:20251228T193126Z
UID:10019981-1780761600-1780768800@wseo.digital
SUMMARY:Luis Perez
DESCRIPTION:Please email join@slimradio.co.uk if you would like to take this slot
URL:https://wseo.digital/event/vacant-show-sat-4pm-6pm-2/2026-06-06/
ATTACH;FMTTYPE=image/webp:https://wseo.digital/wp-content/uploads/2025/11/slim-radio-show-1.webp
LOCATION:
END:VEVENT
BEGIN:VEVENT
DTSTART;TZID=Europe/London:20260613T160000
DTEND;TZID=Europe/London:20260613T180000
DTSTAMP:20260421T205945
CREATED:20251228T193126Z
LAST-MODIFIED:20251228T193126Z
UID:10019982-1781366400-1781373600@wseo.digital
SUMMARY:Luis Perez
DESCRIPTION:Please email join@slimradio.co.uk if you would like to take this slot
URL:https://wseo.digital/event/vacant-show-sat-4pm-6pm-2/2026-06-13/
ATTACH;FMTTYPE=image/webp:https://wseo.digital/wp-content/uploads/2025/11/slim-radio-show-1.webp
LOCATION:
END:VEVENT
BEGIN:VEVENT
DTSTART;TZID=Europe/London:20260620T160000
DTEND;TZID=Europe/London:20260620T180000
DTSTAMP:20260421T205945
CREATED:20251228T193126Z
LAST-MODIFIED:20251228T193126Z
UID:10019983-1781971200-1781978400@wseo.digital
SUMMARY:Luis Perez
DESCRIPTION:Please email join@slimradio.co.uk if you would like to take this slot
URL:https://wseo.digital/event/vacant-show-sat-4pm-6pm-2/2026-06-20/
ATTACH;FMTTYPE=image/webp:https://wseo.digital/wp-content/uploads/2025/11/slim-radio-show-1.webp
LOCATION:
END:VEVENT
BEGIN:VEVENT
DTSTART;TZID=Europe/London:20260627T160000
DTEND;TZID=Europe/London:20260627T180000
DTSTAMP:20260421T205945
CREATED:20251228T193126Z
LAST-MODIFIED:20251228T193126Z
UID:10019984-1782576000-1782583200@wseo.digital
SUMMARY:Luis Perez
DESCRIPTION:Please email join@slimradio.co.uk if you would like to take this slot
URL:https://wseo.digital/event/vacant-show-sat-4pm-6pm-2/2026-06-27/
ATTACH;FMTTYPE=image/webp:https://wseo.digital/wp-content/uploads/2025/11/slim-radio-show-1.webp
LOCATION:
END:VEVENT
BEGIN:VEVENT
DTSTART;TZID=Europe/London:20260704T160000
DTEND;TZID=Europe/London:20260704T180000
DTSTAMP:20260421T205945
CREATED:20251228T193126Z
LAST-MODIFIED:20251228T193126Z
UID:10019985-1783180800-1783188000@wseo.digital
SUMMARY:Luis Perez
DESCRIPTION:Please email join@slimradio.co.uk if you would like to take this slot
URL:https://wseo.digital/event/vacant-show-sat-4pm-6pm-2/2026-07-04/
ATTACH;FMTTYPE=image/webp:https://wseo.digital/wp-content/uploads/2025/11/slim-radio-show-1.webp
LOCATION:
END:VEVENT
BEGIN:VEVENT
DTSTART;TZID=Europe/London:20260711T160000
DTEND;TZID=Europe/London:20260711T180000
DTSTAMP:20260421T205945
CREATED:20251228T193126Z
LAST-MODIFIED:20251228T193126Z
UID:10019986-1783785600-1783792800@wseo.digital
SUMMARY:Luis Perez
DESCRIPTION:Please email join@slimradio.co.uk if you would like to take this slot
URL:https://wseo.digital/event/vacant-show-sat-4pm-6pm-2/2026-07-11/
ATTACH;FMTTYPE=image/webp:https://wseo.digital/wp-content/uploads/2025/11/slim-radio-show-1.webp
LOCATION:
END:VEVENT
BEGIN:VEVENT
DTSTART;TZID=Europe/London:20260718T160000
DTEND;TZID=Europe/London:20260718T180000
DTSTAMP:20260421T205945
CREATED:20251228T193126Z
LAST-MODIFIED:20251228T193126Z
UID:10019987-1784390400-1784397600@wseo.digital
SUMMARY:Luis Perez
DESCRIPTION:Please email join@slimradio.co.uk if you would like to take this slot
URL:https://wseo.digital/event/vacant-show-sat-4pm-6pm-2/2026-07-18/
ATTACH;FMTTYPE=image/webp:https://wseo.digital/wp-content/uploads/2025/11/slim-radio-show-1.webp
LOCATION:
END:VEVENT
BEGIN:VEVENT
DTSTART;TZID=Europe/London:20260725T160000
DTEND;TZID=Europe/London:20260725T180000
DTSTAMP:20260421T205945
CREATED:20251228T193126Z
LAST-MODIFIED:20251228T193126Z
UID:10019988-1784995200-1785002400@wseo.digital
SUMMARY:Luis Perez
DESCRIPTION:Please email join@slimradio.co.uk if you would like to take this slot
URL:https://wseo.digital/event/vacant-show-sat-4pm-6pm-2/2026-07-25/
ATTACH;FMTTYPE=image/webp:https://wseo.digital/wp-content/uploads/2025/11/slim-radio-show-1.webp
LOCATION:
END:VEVENT
BEGIN:VEVENT
DTSTART;TZID=Europe/London:20260801T160000
DTEND;TZID=Europe/London:20260801T180000
DTSTAMP:20260421T205945
CREATED:20251228T193126Z
LAST-MODIFIED:20251228T193126Z
UID:10019989-1785600000-1785607200@wseo.digital
SUMMARY:Luis Perez
DESCRIPTION:Please email join@slimradio.co.uk if you would like to take this slot
URL:https://wseo.digital/event/vacant-show-sat-4pm-6pm-2/2026-08-01/
ATTACH;FMTTYPE=image/webp:https://wseo.digital/wp-content/uploads/2025/11/slim-radio-show-1.webp
LOCATION:
END:VEVENT
BEGIN:VEVENT
DTSTART;TZID=Europe/London:20260808T160000
DTEND;TZID=Europe/London:20260808T180000
DTSTAMP:20260421T205945
CREATED:20251228T193126Z
LAST-MODIFIED:20251228T193126Z
UID:10019990-1786204800-1786212000@wseo.digital
SUMMARY:Luis Perez
DESCRIPTION:Please email join@slimradio.co.uk if you would like to take this slot
URL:https://wseo.digital/event/vacant-show-sat-4pm-6pm-2/2026-08-08/
ATTACH;FMTTYPE=image/webp:https://wseo.digital/wp-content/uploads/2025/11/slim-radio-show-1.webp
LOCATION:
END:VEVENT
BEGIN:VEVENT
DTSTART;TZID=Europe/London:20260815T160000
DTEND;TZID=Europe/London:20260815T180000
DTSTAMP:20260421T205945
CREATED:20251228T193126Z
LAST-MODIFIED:20251228T193126Z
UID:10019991-1786809600-1786816800@wseo.digital
SUMMARY:Luis Perez
DESCRIPTION:Please email join@slimradio.co.uk if you would like to take this slot
URL:https://wseo.digital/event/vacant-show-sat-4pm-6pm-2/2026-08-15/
ATTACH;FMTTYPE=image/webp:https://wseo.digital/wp-content/uploads/2025/11/slim-radio-show-1.webp
LOCATION:
END:VEVENT
BEGIN:VEVENT
DTSTART;TZID=Europe/London:20260822T160000
DTEND;TZID=Europe/London:20260822T180000
DTSTAMP:20260421T205945
CREATED:20251228T193126Z
LAST-MODIFIED:20251228T193126Z
UID:10019992-1787414400-1787421600@wseo.digital
SUMMARY:Luis Perez
DESCRIPTION:Please email join@slimradio.co.uk if you would like to take this slot
URL:https://wseo.digital/event/vacant-show-sat-4pm-6pm-2/2026-08-22/
ATTACH;FMTTYPE=image/webp:https://wseo.digital/wp-content/uploads/2025/11/slim-radio-show-1.webp
LOCATION:
END:VEVENT
BEGIN:VEVENT
DTSTART;TZID=Europe/London:20260829T160000
DTEND;TZID=Europe/London:20260829T180000
DTSTAMP:20260421T205945
CREATED:20251228T193126Z
LAST-MODIFIED:20251228T193126Z
UID:10019993-1788019200-1788026400@wseo.digital
SUMMARY:Luis Perez
DESCRIPTION:Please email join@slimradio.co.uk if you would like to take this slot
URL:https://wseo.digital/event/vacant-show-sat-4pm-6pm-2/2026-08-29/
ATTACH;FMTTYPE=image/webp:https://wseo.digital/wp-content/uploads/2025/11/slim-radio-show-1.webp
LOCATION:
END:VEVENT
BEGIN:VEVENT
DTSTART;TZID=Europe/London:20260905T160000
DTEND;TZID=Europe/London:20260905T180000
DTSTAMP:20260421T205945
CREATED:20251228T193126Z
LAST-MODIFIED:20251228T193126Z
UID:10019994-1788624000-1788631200@wseo.digital
SUMMARY:Luis Perez
DESCRIPTION:Please email join@slimradio.co.uk if you would like to take this slot
URL:https://wseo.digital/event/vacant-show-sat-4pm-6pm-2/2026-09-05/
ATTACH;FMTTYPE=image/webp:https://wseo.digital/wp-content/uploads/2025/11/slim-radio-show-1.webp
LOCATION:
END:VEVENT
BEGIN:VEVENT
DTSTART;TZID=Europe/London:20260912T160000
DTEND;TZID=Europe/London:20260912T180000
DTSTAMP:20260421T205945
CREATED:20251228T193126Z
LAST-MODIFIED:20251228T193126Z
UID:10019995-1789228800-1789236000@wseo.digital
SUMMARY:Luis Perez
DESCRIPTION:Please email join@slimradio.co.uk if you would like to take this slot
URL:https://wseo.digital/event/vacant-show-sat-4pm-6pm-2/2026-09-12/
ATTACH;FMTTYPE=image/webp:https://wseo.digital/wp-content/uploads/2025/11/slim-radio-show-1.webp
LOCATION:
END:VEVENT
BEGIN:VEVENT
DTSTART;TZID=Europe/London:20260919T160000
DTEND;TZID=Europe/London:20260919T180000
DTSTAMP:20260421T205945
CREATED:20251228T193126Z
LAST-MODIFIED:20251228T193126Z
UID:10019996-1789833600-1789840800@wseo.digital
SUMMARY:Luis Perez
DESCRIPTION:Please email join@slimradio.co.uk if you would like to take this slot
URL:https://wseo.digital/event/vacant-show-sat-4pm-6pm-2/2026-09-19/
ATTACH;FMTTYPE=image/webp:https://wseo.digital/wp-content/uploads/2025/11/slim-radio-show-1.webp
LOCATION:
END:VEVENT
BEGIN:VEVENT
DTSTART;TZID=Europe/London:20260926T160000
DTEND;TZID=Europe/London:20260926T180000
DTSTAMP:20260421T205945
CREATED:20251228T193126Z
LAST-MODIFIED:20251228T193126Z
UID:10019997-1790438400-1790445600@wseo.digital
SUMMARY:Luis Perez
DESCRIPTION:Please email join@slimradio.co.uk if you would like to take this slot
URL:https://wseo.digital/event/vacant-show-sat-4pm-6pm-2/2026-09-26/
ATTACH;FMTTYPE=image/webp:https://wseo.digital/wp-content/uploads/2025/11/slim-radio-show-1.webp
LOCATION:
END:VEVENT
BEGIN:VEVENT
DTSTART;TZID=Europe/London:20261003T160000
DTEND;TZID=Europe/London:20261003T180000
DTSTAMP:20260421T205945
CREATED:20251228T193126Z
LAST-MODIFIED:20251228T193126Z
UID:10019998-1791043200-1791050400@wseo.digital
SUMMARY:Luis Perez
DESCRIPTION:Please email join@slimradio.co.uk if you would like to take this slot
URL:https://wseo.digital/event/vacant-show-sat-4pm-6pm-2/2026-10-03/
ATTACH;FMTTYPE=image/webp:https://wseo.digital/wp-content/uploads/2025/11/slim-radio-show-1.webp
LOCATION:
END:VEVENT
BEGIN:VEVENT
DTSTART;TZID=Europe/London:20261010T160000
DTEND;TZID=Europe/London:20261010T180000
DTSTAMP:20260421T205945
CREATED:20251228T193126Z
LAST-MODIFIED:20251228T193126Z
UID:10019999-1791648000-1791655200@wseo.digital
SUMMARY:Luis Perez
DESCRIPTION:Please email join@slimradio.co.uk if you would like to take this slot
URL:https://wseo.digital/event/vacant-show-sat-4pm-6pm-2/2026-10-10/
ATTACH;FMTTYPE=image/webp:https://wseo.digital/wp-content/uploads/2025/11/slim-radio-show-1.webp
LOCATION:
END:VEVENT
BEGIN:VEVENT
DTSTART;TZID=Europe/London:20261017T160000
DTEND;TZID=Europe/London:20261017T180000
DTSTAMP:20260421T205945
CREATED:20251228T193126Z
LAST-MODIFIED:20251228T193126Z
UID:10020000-1792252800-1792260000@wseo.digital
SUMMARY:Luis Perez
DESCRIPTION:Please email join@slimradio.co.uk if you would like to take this slot
URL:https://wseo.digital/event/vacant-show-sat-4pm-6pm-2/2026-10-17/
ATTACH;FMTTYPE=image/webp:https://wseo.digital/wp-content/uploads/2025/11/slim-radio-show-1.webp
LOCATION:
END:VEVENT
BEGIN:VEVENT
DTSTART;TZID=Europe/London:20261024T160000
DTEND;TZID=Europe/London:20261024T180000
DTSTAMP:20260421T205945
CREATED:20251228T193126Z
LAST-MODIFIED:20251228T193126Z
UID:10020001-1792857600-1792864800@wseo.digital
SUMMARY:Luis Perez
DESCRIPTION:Please email join@slimradio.co.uk if you would like to take this slot
URL:https://wseo.digital/event/vacant-show-sat-4pm-6pm-2/2026-10-24/
ATTACH;FMTTYPE=image/webp:https://wseo.digital/wp-content/uploads/2025/11/slim-radio-show-1.webp
LOCATION:
END:VEVENT
BEGIN:VEVENT
DTSTART;TZID=Europe/London:20261031T160000
DTEND;TZID=Europe/London:20261031T180000
DTSTAMP:20260421T205945
CREATED:20251228T193126Z
LAST-MODIFIED:20251228T193126Z
UID:10020002-1793462400-1793469600@wseo.digital
SUMMARY:Luis Perez
DESCRIPTION:Please email join@slimradio.co.uk if you would like to take this slot
URL:https://wseo.digital/event/vacant-show-sat-4pm-6pm-2/2026-10-31/
ATTACH;FMTTYPE=image/webp:https://wseo.digital/wp-content/uploads/2025/11/slim-radio-show-1.webp
LOCATION:
END:VEVENT
BEGIN:VEVENT
DTSTART;TZID=Europe/London:20261107T160000
DTEND;TZID=Europe/London:20261107T180000
DTSTAMP:20260421T205945
CREATED:20251228T193126Z
LAST-MODIFIED:20251228T193126Z
UID:10020003-1794067200-1794074400@wseo.digital
SUMMARY:Luis Perez
DESCRIPTION:Please email join@slimradio.co.uk if you would like to take this slot
URL:https://wseo.digital/event/vacant-show-sat-4pm-6pm-2/2026-11-07/
ATTACH;FMTTYPE=image/webp:https://wseo.digital/wp-content/uploads/2025/11/slim-radio-show-1.webp
LOCATION:
END:VEVENT
BEGIN:VEVENT
DTSTART;TZID=Europe/London:20261114T160000
DTEND;TZID=Europe/London:20261114T180000
DTSTAMP:20260421T205945
CREATED:20251228T193126Z
LAST-MODIFIED:20251228T193126Z
UID:10020004-1794672000-1794679200@wseo.digital
SUMMARY:Luis Perez
DESCRIPTION:Please email join@slimradio.co.uk if you would like to take this slot
URL:https://wseo.digital/event/vacant-show-sat-4pm-6pm-2/2026-11-14/
ATTACH;FMTTYPE=image/webp:https://wseo.digital/wp-content/uploads/2025/11/slim-radio-show-1.webp
LOCATION:
END:VEVENT
END:VCALENDAR