BEGIN:VCALENDAR
VERSION:2.0
PRODID:-//wseodigital - ECPv6.15.13//NONSGML v1.0//EN
CALSCALE:GREGORIAN
METHOD:PUBLISH
X-WR-CALNAME:wseodigital
X-ORIGINAL-URL:https://wseo.digital
X-WR-CALDESC:Events for wseodigital
REFRESH-INTERVAL;VALUE=DURATION:PT1H
X-Robots-Tag:noindex
X-PUBLISHED-TTL:PT1H
BEGIN:VTIMEZONE
TZID:Europe/London
BEGIN:DAYLIGHT
TZOFFSETFROM:+0000
TZOFFSETTO:+0100
TZNAME:BST
DTSTART:20250330T010000
END:DAYLIGHT
BEGIN:STANDARD
TZOFFSETFROM:+0100
TZOFFSETTO:+0000
TZNAME:GMT
DTSTART:20251026T010000
END:STANDARD
BEGIN:DAYLIGHT
TZOFFSETFROM:+0000
TZOFFSETTO:+0100
TZNAME:BST
DTSTART:20260329T010000
END:DAYLIGHT
BEGIN:STANDARD
TZOFFSETFROM:+0100
TZOFFSETTO:+0000
TZNAME:GMT
DTSTART:20261025T010000
END:STANDARD
BEGIN:DAYLIGHT
TZOFFSETFROM:+0000
TZOFFSETTO:+0100
TZNAME:BST
DTSTART:20270328T010000
END:DAYLIGHT
BEGIN:STANDARD
TZOFFSETFROM:+0100
TZOFFSETTO:+0000
TZNAME:GMT
DTSTART:20271031T010000
END:STANDARD
END:VTIMEZONE
BEGIN:VEVENT
DTSTART;TZID=Europe/London:20260425T200000
DTEND;TZID=Europe/London:20260425T220000
DTSTAMP:20260421T181722
CREATED:20251228T193244Z
LAST-MODIFIED:20251228T193244Z
UID:10020498-1777147200-1777154400@wseo.digital
SUMMARY:Lewis Rew
DESCRIPTION:Please email join@slimradio.co.uk if you would like to take this slot
URL:https://wseo.digital/event/vacant-show-sat-8pm-10pm-2/2026-04-25/
ATTACH;FMTTYPE=image/webp:https://wseo.digital/wp-content/uploads/2025/11/slim-radio-show-1.webp
END:VEVENT
BEGIN:VEVENT
DTSTART;TZID=Europe/London:20260502T200000
DTEND;TZID=Europe/London:20260502T220000
DTSTAMP:20260421T181722
CREATED:20251228T193244Z
LAST-MODIFIED:20251228T193244Z
UID:10020499-1777752000-1777759200@wseo.digital
SUMMARY:Lewis Rew
DESCRIPTION:Please email join@slimradio.co.uk if you would like to take this slot
URL:https://wseo.digital/event/vacant-show-sat-8pm-10pm-2/2026-05-02/
ATTACH;FMTTYPE=image/webp:https://wseo.digital/wp-content/uploads/2025/11/slim-radio-show-1.webp
END:VEVENT
BEGIN:VEVENT
DTSTART;TZID=Europe/London:20260509T200000
DTEND;TZID=Europe/London:20260509T220000
DTSTAMP:20260421T181722
CREATED:20251228T193244Z
LAST-MODIFIED:20251228T193244Z
UID:10020500-1778356800-1778364000@wseo.digital
SUMMARY:Lewis Rew
DESCRIPTION:Please email join@slimradio.co.uk if you would like to take this slot
URL:https://wseo.digital/event/vacant-show-sat-8pm-10pm-2/2026-05-09/
ATTACH;FMTTYPE=image/webp:https://wseo.digital/wp-content/uploads/2025/11/slim-radio-show-1.webp
END:VEVENT
BEGIN:VEVENT
DTSTART;TZID=Europe/London:20260516T200000
DTEND;TZID=Europe/London:20260516T220000
DTSTAMP:20260421T181722
CREATED:20251228T193244Z
LAST-MODIFIED:20251228T193244Z
UID:10020501-1778961600-1778968800@wseo.digital
SUMMARY:Lewis Rew
DESCRIPTION:Please email join@slimradio.co.uk if you would like to take this slot
URL:https://wseo.digital/event/vacant-show-sat-8pm-10pm-2/2026-05-16/
ATTACH;FMTTYPE=image/webp:https://wseo.digital/wp-content/uploads/2025/11/slim-radio-show-1.webp
END:VEVENT
BEGIN:VEVENT
DTSTART;TZID=Europe/London:20260523T200000
DTEND;TZID=Europe/London:20260523T220000
DTSTAMP:20260421T181722
CREATED:20251228T193244Z
LAST-MODIFIED:20251228T193244Z
UID:10020502-1779566400-1779573600@wseo.digital
SUMMARY:Lewis Rew
DESCRIPTION:Please email join@slimradio.co.uk if you would like to take this slot
URL:https://wseo.digital/event/vacant-show-sat-8pm-10pm-2/2026-05-23/
ATTACH;FMTTYPE=image/webp:https://wseo.digital/wp-content/uploads/2025/11/slim-radio-show-1.webp
END:VEVENT
BEGIN:VEVENT
DTSTART;TZID=Europe/London:20260530T200000
DTEND;TZID=Europe/London:20260530T220000
DTSTAMP:20260421T181722
CREATED:20251228T193244Z
LAST-MODIFIED:20251228T193244Z
UID:10020503-1780171200-1780178400@wseo.digital
SUMMARY:Lewis Rew
DESCRIPTION:Please email join@slimradio.co.uk if you would like to take this slot
URL:https://wseo.digital/event/vacant-show-sat-8pm-10pm-2/2026-05-30/
ATTACH;FMTTYPE=image/webp:https://wseo.digital/wp-content/uploads/2025/11/slim-radio-show-1.webp
END:VEVENT
BEGIN:VEVENT
DTSTART;TZID=Europe/London:20260606T200000
DTEND;TZID=Europe/London:20260606T220000
DTSTAMP:20260421T181722
CREATED:20251228T193244Z
LAST-MODIFIED:20251228T193244Z
UID:10020504-1780776000-1780783200@wseo.digital
SUMMARY:Lewis Rew
DESCRIPTION:Please email join@slimradio.co.uk if you would like to take this slot
URL:https://wseo.digital/event/vacant-show-sat-8pm-10pm-2/2026-06-06/
ATTACH;FMTTYPE=image/webp:https://wseo.digital/wp-content/uploads/2025/11/slim-radio-show-1.webp
END:VEVENT
BEGIN:VEVENT
DTSTART;TZID=Europe/London:20260613T200000
DTEND;TZID=Europe/London:20260613T220000
DTSTAMP:20260421T181722
CREATED:20251228T193244Z
LAST-MODIFIED:20251228T193244Z
UID:10020505-1781380800-1781388000@wseo.digital
SUMMARY:Lewis Rew
DESCRIPTION:Please email join@slimradio.co.uk if you would like to take this slot
URL:https://wseo.digital/event/vacant-show-sat-8pm-10pm-2/2026-06-13/
ATTACH;FMTTYPE=image/webp:https://wseo.digital/wp-content/uploads/2025/11/slim-radio-show-1.webp
END:VEVENT
BEGIN:VEVENT
DTSTART;TZID=Europe/London:20260620T200000
DTEND;TZID=Europe/London:20260620T220000
DTSTAMP:20260421T181722
CREATED:20251228T193244Z
LAST-MODIFIED:20251228T193244Z
UID:10020506-1781985600-1781992800@wseo.digital
SUMMARY:Lewis Rew
DESCRIPTION:Please email join@slimradio.co.uk if you would like to take this slot
URL:https://wseo.digital/event/vacant-show-sat-8pm-10pm-2/2026-06-20/
ATTACH;FMTTYPE=image/webp:https://wseo.digital/wp-content/uploads/2025/11/slim-radio-show-1.webp
END:VEVENT
BEGIN:VEVENT
DTSTART;TZID=Europe/London:20260627T200000
DTEND;TZID=Europe/London:20260627T220000
DTSTAMP:20260421T181722
CREATED:20251228T193244Z
LAST-MODIFIED:20251228T193244Z
UID:10020507-1782590400-1782597600@wseo.digital
SUMMARY:Lewis Rew
DESCRIPTION:Please email join@slimradio.co.uk if you would like to take this slot
URL:https://wseo.digital/event/vacant-show-sat-8pm-10pm-2/2026-06-27/
ATTACH;FMTTYPE=image/webp:https://wseo.digital/wp-content/uploads/2025/11/slim-radio-show-1.webp
END:VEVENT
BEGIN:VEVENT
DTSTART;TZID=Europe/London:20260704T200000
DTEND;TZID=Europe/London:20260704T220000
DTSTAMP:20260421T181722
CREATED:20251228T193244Z
LAST-MODIFIED:20251228T193244Z
UID:10020508-1783195200-1783202400@wseo.digital
SUMMARY:Lewis Rew
DESCRIPTION:Please email join@slimradio.co.uk if you would like to take this slot
URL:https://wseo.digital/event/vacant-show-sat-8pm-10pm-2/2026-07-04/
ATTACH;FMTTYPE=image/webp:https://wseo.digital/wp-content/uploads/2025/11/slim-radio-show-1.webp
END:VEVENT
BEGIN:VEVENT
DTSTART;TZID=Europe/London:20260711T200000
DTEND;TZID=Europe/London:20260711T220000
DTSTAMP:20260421T181722
CREATED:20251228T193244Z
LAST-MODIFIED:20251228T193244Z
UID:10020509-1783800000-1783807200@wseo.digital
SUMMARY:Lewis Rew
DESCRIPTION:Please email join@slimradio.co.uk if you would like to take this slot
URL:https://wseo.digital/event/vacant-show-sat-8pm-10pm-2/2026-07-11/
ATTACH;FMTTYPE=image/webp:https://wseo.digital/wp-content/uploads/2025/11/slim-radio-show-1.webp
END:VEVENT
BEGIN:VEVENT
DTSTART;TZID=Europe/London:20260718T200000
DTEND;TZID=Europe/London:20260718T220000
DTSTAMP:20260421T181722
CREATED:20251228T193244Z
LAST-MODIFIED:20251228T193244Z
UID:10020510-1784404800-1784412000@wseo.digital
SUMMARY:Lewis Rew
DESCRIPTION:Please email join@slimradio.co.uk if you would like to take this slot
URL:https://wseo.digital/event/vacant-show-sat-8pm-10pm-2/2026-07-18/
ATTACH;FMTTYPE=image/webp:https://wseo.digital/wp-content/uploads/2025/11/slim-radio-show-1.webp
END:VEVENT
BEGIN:VEVENT
DTSTART;TZID=Europe/London:20260725T200000
DTEND;TZID=Europe/London:20260725T220000
DTSTAMP:20260421T181722
CREATED:20251228T193244Z
LAST-MODIFIED:20251228T193244Z
UID:10020511-1785009600-1785016800@wseo.digital
SUMMARY:Lewis Rew
DESCRIPTION:Please email join@slimradio.co.uk if you would like to take this slot
URL:https://wseo.digital/event/vacant-show-sat-8pm-10pm-2/2026-07-25/
ATTACH;FMTTYPE=image/webp:https://wseo.digital/wp-content/uploads/2025/11/slim-radio-show-1.webp
END:VEVENT
BEGIN:VEVENT
DTSTART;TZID=Europe/London:20260801T200000
DTEND;TZID=Europe/London:20260801T220000
DTSTAMP:20260421T181722
CREATED:20251228T193244Z
LAST-MODIFIED:20251228T193244Z
UID:10020512-1785614400-1785621600@wseo.digital
SUMMARY:Lewis Rew
DESCRIPTION:Please email join@slimradio.co.uk if you would like to take this slot
URL:https://wseo.digital/event/vacant-show-sat-8pm-10pm-2/2026-08-01/
ATTACH;FMTTYPE=image/webp:https://wseo.digital/wp-content/uploads/2025/11/slim-radio-show-1.webp
END:VEVENT
BEGIN:VEVENT
DTSTART;TZID=Europe/London:20260808T200000
DTEND;TZID=Europe/London:20260808T220000
DTSTAMP:20260421T181722
CREATED:20251228T193244Z
LAST-MODIFIED:20251228T193244Z
UID:10020513-1786219200-1786226400@wseo.digital
SUMMARY:Lewis Rew
DESCRIPTION:Please email join@slimradio.co.uk if you would like to take this slot
URL:https://wseo.digital/event/vacant-show-sat-8pm-10pm-2/2026-08-08/
ATTACH;FMTTYPE=image/webp:https://wseo.digital/wp-content/uploads/2025/11/slim-radio-show-1.webp
END:VEVENT
BEGIN:VEVENT
DTSTART;TZID=Europe/London:20260815T200000
DTEND;TZID=Europe/London:20260815T220000
DTSTAMP:20260421T181722
CREATED:20251228T193244Z
LAST-MODIFIED:20251228T193244Z
UID:10020514-1786824000-1786831200@wseo.digital
SUMMARY:Lewis Rew
DESCRIPTION:Please email join@slimradio.co.uk if you would like to take this slot
URL:https://wseo.digital/event/vacant-show-sat-8pm-10pm-2/2026-08-15/
ATTACH;FMTTYPE=image/webp:https://wseo.digital/wp-content/uploads/2025/11/slim-radio-show-1.webp
END:VEVENT
BEGIN:VEVENT
DTSTART;TZID=Europe/London:20260822T200000
DTEND;TZID=Europe/London:20260822T220000
DTSTAMP:20260421T181722
CREATED:20251228T193244Z
LAST-MODIFIED:20251228T193244Z
UID:10020515-1787428800-1787436000@wseo.digital
SUMMARY:Lewis Rew
DESCRIPTION:Please email join@slimradio.co.uk if you would like to take this slot
URL:https://wseo.digital/event/vacant-show-sat-8pm-10pm-2/2026-08-22/
ATTACH;FMTTYPE=image/webp:https://wseo.digital/wp-content/uploads/2025/11/slim-radio-show-1.webp
END:VEVENT
BEGIN:VEVENT
DTSTART;TZID=Europe/London:20260829T200000
DTEND;TZID=Europe/London:20260829T220000
DTSTAMP:20260421T181722
CREATED:20251228T193244Z
LAST-MODIFIED:20251228T193244Z
UID:10020516-1788033600-1788040800@wseo.digital
SUMMARY:Lewis Rew
DESCRIPTION:Please email join@slimradio.co.uk if you would like to take this slot
URL:https://wseo.digital/event/vacant-show-sat-8pm-10pm-2/2026-08-29/
ATTACH;FMTTYPE=image/webp:https://wseo.digital/wp-content/uploads/2025/11/slim-radio-show-1.webp
END:VEVENT
BEGIN:VEVENT
DTSTART;TZID=Europe/London:20260905T200000
DTEND;TZID=Europe/London:20260905T220000
DTSTAMP:20260421T181722
CREATED:20251228T193244Z
LAST-MODIFIED:20251228T193244Z
UID:10020517-1788638400-1788645600@wseo.digital
SUMMARY:Lewis Rew
DESCRIPTION:Please email join@slimradio.co.uk if you would like to take this slot
URL:https://wseo.digital/event/vacant-show-sat-8pm-10pm-2/2026-09-05/
ATTACH;FMTTYPE=image/webp:https://wseo.digital/wp-content/uploads/2025/11/slim-radio-show-1.webp
END:VEVENT
BEGIN:VEVENT
DTSTART;TZID=Europe/London:20260912T200000
DTEND;TZID=Europe/London:20260912T220000
DTSTAMP:20260421T181722
CREATED:20251228T193244Z
LAST-MODIFIED:20251228T193244Z
UID:10020518-1789243200-1789250400@wseo.digital
SUMMARY:Lewis Rew
DESCRIPTION:Please email join@slimradio.co.uk if you would like to take this slot
URL:https://wseo.digital/event/vacant-show-sat-8pm-10pm-2/2026-09-12/
ATTACH;FMTTYPE=image/webp:https://wseo.digital/wp-content/uploads/2025/11/slim-radio-show-1.webp
END:VEVENT
BEGIN:VEVENT
DTSTART;TZID=Europe/London:20260919T200000
DTEND;TZID=Europe/London:20260919T220000
DTSTAMP:20260421T181722
CREATED:20251228T193244Z
LAST-MODIFIED:20251228T193244Z
UID:10020519-1789848000-1789855200@wseo.digital
SUMMARY:Lewis Rew
DESCRIPTION:Please email join@slimradio.co.uk if you would like to take this slot
URL:https://wseo.digital/event/vacant-show-sat-8pm-10pm-2/2026-09-19/
ATTACH;FMTTYPE=image/webp:https://wseo.digital/wp-content/uploads/2025/11/slim-radio-show-1.webp
END:VEVENT
BEGIN:VEVENT
DTSTART;TZID=Europe/London:20260926T200000
DTEND;TZID=Europe/London:20260926T220000
DTSTAMP:20260421T181722
CREATED:20251228T193244Z
LAST-MODIFIED:20251228T193244Z
UID:10020520-1790452800-1790460000@wseo.digital
SUMMARY:Lewis Rew
DESCRIPTION:Please email join@slimradio.co.uk if you would like to take this slot
URL:https://wseo.digital/event/vacant-show-sat-8pm-10pm-2/2026-09-26/
ATTACH;FMTTYPE=image/webp:https://wseo.digital/wp-content/uploads/2025/11/slim-radio-show-1.webp
END:VEVENT
BEGIN:VEVENT
DTSTART;TZID=Europe/London:20261003T200000
DTEND;TZID=Europe/London:20261003T220000
DTSTAMP:20260421T181722
CREATED:20251228T193244Z
LAST-MODIFIED:20251228T193244Z
UID:10020521-1791057600-1791064800@wseo.digital
SUMMARY:Lewis Rew
DESCRIPTION:Please email join@slimradio.co.uk if you would like to take this slot
URL:https://wseo.digital/event/vacant-show-sat-8pm-10pm-2/2026-10-03/
ATTACH;FMTTYPE=image/webp:https://wseo.digital/wp-content/uploads/2025/11/slim-radio-show-1.webp
END:VEVENT
BEGIN:VEVENT
DTSTART;TZID=Europe/London:20261010T200000
DTEND;TZID=Europe/London:20261010T220000
DTSTAMP:20260421T181722
CREATED:20251228T193244Z
LAST-MODIFIED:20251228T193244Z
UID:10020522-1791662400-1791669600@wseo.digital
SUMMARY:Lewis Rew
DESCRIPTION:Please email join@slimradio.co.uk if you would like to take this slot
URL:https://wseo.digital/event/vacant-show-sat-8pm-10pm-2/2026-10-10/
ATTACH;FMTTYPE=image/webp:https://wseo.digital/wp-content/uploads/2025/11/slim-radio-show-1.webp
END:VEVENT
BEGIN:VEVENT
DTSTART;TZID=Europe/London:20261017T200000
DTEND;TZID=Europe/London:20261017T220000
DTSTAMP:20260421T181722
CREATED:20251228T193244Z
LAST-MODIFIED:20251228T193244Z
UID:10020523-1792267200-1792274400@wseo.digital
SUMMARY:Lewis Rew
DESCRIPTION:Please email join@slimradio.co.uk if you would like to take this slot
URL:https://wseo.digital/event/vacant-show-sat-8pm-10pm-2/2026-10-17/
ATTACH;FMTTYPE=image/webp:https://wseo.digital/wp-content/uploads/2025/11/slim-radio-show-1.webp
END:VEVENT
BEGIN:VEVENT
DTSTART;TZID=Europe/London:20261024T200000
DTEND;TZID=Europe/London:20261024T220000
DTSTAMP:20260421T181722
CREATED:20251228T193244Z
LAST-MODIFIED:20251228T193244Z
UID:10020524-1792872000-1792879200@wseo.digital
SUMMARY:Lewis Rew
DESCRIPTION:Please email join@slimradio.co.uk if you would like to take this slot
URL:https://wseo.digital/event/vacant-show-sat-8pm-10pm-2/2026-10-24/
ATTACH;FMTTYPE=image/webp:https://wseo.digital/wp-content/uploads/2025/11/slim-radio-show-1.webp
END:VEVENT
BEGIN:VEVENT
DTSTART;TZID=Europe/London:20261031T200000
DTEND;TZID=Europe/London:20261031T220000
DTSTAMP:20260421T181722
CREATED:20251228T193244Z
LAST-MODIFIED:20251228T193244Z
UID:10020525-1793476800-1793484000@wseo.digital
SUMMARY:Lewis Rew
DESCRIPTION:Please email join@slimradio.co.uk if you would like to take this slot
URL:https://wseo.digital/event/vacant-show-sat-8pm-10pm-2/2026-10-31/
ATTACH;FMTTYPE=image/webp:https://wseo.digital/wp-content/uploads/2025/11/slim-radio-show-1.webp
END:VEVENT
BEGIN:VEVENT
DTSTART;TZID=Europe/London:20261107T200000
DTEND;TZID=Europe/London:20261107T220000
DTSTAMP:20260421T181722
CREATED:20251228T193244Z
LAST-MODIFIED:20251228T193244Z
UID:10020526-1794081600-1794088800@wseo.digital
SUMMARY:Lewis Rew
DESCRIPTION:Please email join@slimradio.co.uk if you would like to take this slot
URL:https://wseo.digital/event/vacant-show-sat-8pm-10pm-2/2026-11-07/
ATTACH;FMTTYPE=image/webp:https://wseo.digital/wp-content/uploads/2025/11/slim-radio-show-1.webp
END:VEVENT
BEGIN:VEVENT
DTSTART;TZID=Europe/London:20261114T200000
DTEND;TZID=Europe/London:20261114T220000
DTSTAMP:20260421T181722
CREATED:20251228T193244Z
LAST-MODIFIED:20251228T193244Z
UID:10020527-1794686400-1794693600@wseo.digital
SUMMARY:Lewis Rew
DESCRIPTION:Please email join@slimradio.co.uk if you would like to take this slot
URL:https://wseo.digital/event/vacant-show-sat-8pm-10pm-2/2026-11-14/
ATTACH;FMTTYPE=image/webp:https://wseo.digital/wp-content/uploads/2025/11/slim-radio-show-1.webp
END:VEVENT
END:VCALENDAR