BEGIN:VCALENDAR
VERSION:2.0
PRODID:-//wseodigital - ECPv6.15.13//NONSGML v1.0//EN
CALSCALE:GREGORIAN
METHOD:PUBLISH
X-WR-CALNAME:wseodigital
X-ORIGINAL-URL:https://wseo.digital
X-WR-CALDESC:Events for wseodigital
REFRESH-INTERVAL;VALUE=DURATION:PT1H
X-Robots-Tag:noindex
X-PUBLISHED-TTL:PT1H
BEGIN:VTIMEZONE
TZID:Europe/London
BEGIN:DAYLIGHT
TZOFFSETFROM:+0000
TZOFFSETTO:+0100
TZNAME:BST
DTSTART:20250330T010000
END:DAYLIGHT
BEGIN:STANDARD
TZOFFSETFROM:+0100
TZOFFSETTO:+0000
TZNAME:GMT
DTSTART:20251026T010000
END:STANDARD
BEGIN:DAYLIGHT
TZOFFSETFROM:+0000
TZOFFSETTO:+0100
TZNAME:BST
DTSTART:20260329T010000
END:DAYLIGHT
BEGIN:STANDARD
TZOFFSETFROM:+0100
TZOFFSETTO:+0000
TZNAME:GMT
DTSTART:20261025T010000
END:STANDARD
BEGIN:DAYLIGHT
TZOFFSETFROM:+0000
TZOFFSETTO:+0100
TZNAME:BST
DTSTART:20270328T010000
END:DAYLIGHT
BEGIN:STANDARD
TZOFFSETFROM:+0100
TZOFFSETTO:+0000
TZNAME:GMT
DTSTART:20271031T010000
END:STANDARD
END:VTIMEZONE
BEGIN:VEVENT
DTSTART;TZID=Europe/London:20260426T080000
DTEND;TZID=Europe/London:20260426T100000
DTSTAMP:20260421T181850
CREATED:20251228T193623Z
LAST-MODIFIED:20251228T193623Z
UID:10006654-1777190400-1777197600@wseo.digital
SUMMARY:DJ Jonah
DESCRIPTION:Please email join@slimradio.co.uk if you would like to take this slot
URL:https://wseo.digital/event/vacant-show-sun-8am-10am-2/2026-04-26/
ATTACH;FMTTYPE=image/webp:https://wseo.digital/wp-content/uploads/2025/11/slim-radio-show-1.webp
LOCATION:
END:VEVENT
BEGIN:VEVENT
DTSTART;TZID=Europe/London:20260503T080000
DTEND;TZID=Europe/London:20260503T100000
DTSTAMP:20260421T181850
CREATED:20251228T193623Z
LAST-MODIFIED:20251228T193623Z
UID:10006655-1777795200-1777802400@wseo.digital
SUMMARY:DJ Jonah
DESCRIPTION:Please email join@slimradio.co.uk if you would like to take this slot
URL:https://wseo.digital/event/vacant-show-sun-8am-10am-2/2026-05-03/
ATTACH;FMTTYPE=image/webp:https://wseo.digital/wp-content/uploads/2025/11/slim-radio-show-1.webp
LOCATION:
END:VEVENT
BEGIN:VEVENT
DTSTART;TZID=Europe/London:20260510T080000
DTEND;TZID=Europe/London:20260510T100000
DTSTAMP:20260421T181850
CREATED:20251228T193623Z
LAST-MODIFIED:20251228T193623Z
UID:10006656-1778400000-1778407200@wseo.digital
SUMMARY:DJ Jonah
DESCRIPTION:Please email join@slimradio.co.uk if you would like to take this slot
URL:https://wseo.digital/event/vacant-show-sun-8am-10am-2/2026-05-10/
ATTACH;FMTTYPE=image/webp:https://wseo.digital/wp-content/uploads/2025/11/slim-radio-show-1.webp
LOCATION:
END:VEVENT
BEGIN:VEVENT
DTSTART;TZID=Europe/London:20260517T080000
DTEND;TZID=Europe/London:20260517T100000
DTSTAMP:20260421T181850
CREATED:20251228T193623Z
LAST-MODIFIED:20251228T193623Z
UID:10006657-1779004800-1779012000@wseo.digital
SUMMARY:DJ Jonah
DESCRIPTION:Please email join@slimradio.co.uk if you would like to take this slot
URL:https://wseo.digital/event/vacant-show-sun-8am-10am-2/2026-05-17/
ATTACH;FMTTYPE=image/webp:https://wseo.digital/wp-content/uploads/2025/11/slim-radio-show-1.webp
LOCATION:
END:VEVENT
BEGIN:VEVENT
DTSTART;TZID=Europe/London:20260524T080000
DTEND;TZID=Europe/London:20260524T100000
DTSTAMP:20260421T181850
CREATED:20251228T193623Z
LAST-MODIFIED:20251228T193623Z
UID:10006658-1779609600-1779616800@wseo.digital
SUMMARY:DJ Jonah
DESCRIPTION:Please email join@slimradio.co.uk if you would like to take this slot
URL:https://wseo.digital/event/vacant-show-sun-8am-10am-2/2026-05-24/
ATTACH;FMTTYPE=image/webp:https://wseo.digital/wp-content/uploads/2025/11/slim-radio-show-1.webp
LOCATION:
END:VEVENT
BEGIN:VEVENT
DTSTART;TZID=Europe/London:20260531T080000
DTEND;TZID=Europe/London:20260531T100000
DTSTAMP:20260421T181850
CREATED:20251228T193623Z
LAST-MODIFIED:20251228T193623Z
UID:10006659-1780214400-1780221600@wseo.digital
SUMMARY:DJ Jonah
DESCRIPTION:Please email join@slimradio.co.uk if you would like to take this slot
URL:https://wseo.digital/event/vacant-show-sun-8am-10am-2/2026-05-31/
ATTACH;FMTTYPE=image/webp:https://wseo.digital/wp-content/uploads/2025/11/slim-radio-show-1.webp
LOCATION:
END:VEVENT
BEGIN:VEVENT
DTSTART;TZID=Europe/London:20260607T080000
DTEND;TZID=Europe/London:20260607T100000
DTSTAMP:20260421T181850
CREATED:20251228T193623Z
LAST-MODIFIED:20251228T193623Z
UID:10006660-1780819200-1780826400@wseo.digital
SUMMARY:DJ Jonah
DESCRIPTION:Please email join@slimradio.co.uk if you would like to take this slot
URL:https://wseo.digital/event/vacant-show-sun-8am-10am-2/2026-06-07/
ATTACH;FMTTYPE=image/webp:https://wseo.digital/wp-content/uploads/2025/11/slim-radio-show-1.webp
LOCATION:
END:VEVENT
BEGIN:VEVENT
DTSTART;TZID=Europe/London:20260614T080000
DTEND;TZID=Europe/London:20260614T100000
DTSTAMP:20260421T181850
CREATED:20251228T193623Z
LAST-MODIFIED:20251228T193623Z
UID:10006661-1781424000-1781431200@wseo.digital
SUMMARY:DJ Jonah
DESCRIPTION:Please email join@slimradio.co.uk if you would like to take this slot
URL:https://wseo.digital/event/vacant-show-sun-8am-10am-2/2026-06-14/
ATTACH;FMTTYPE=image/webp:https://wseo.digital/wp-content/uploads/2025/11/slim-radio-show-1.webp
LOCATION:
END:VEVENT
BEGIN:VEVENT
DTSTART;TZID=Europe/London:20260621T080000
DTEND;TZID=Europe/London:20260621T100000
DTSTAMP:20260421T181850
CREATED:20251228T193623Z
LAST-MODIFIED:20251228T193623Z
UID:10006662-1782028800-1782036000@wseo.digital
SUMMARY:DJ Jonah
DESCRIPTION:Please email join@slimradio.co.uk if you would like to take this slot
URL:https://wseo.digital/event/vacant-show-sun-8am-10am-2/2026-06-21/
ATTACH;FMTTYPE=image/webp:https://wseo.digital/wp-content/uploads/2025/11/slim-radio-show-1.webp
LOCATION:
END:VEVENT
BEGIN:VEVENT
DTSTART;TZID=Europe/London:20260628T080000
DTEND;TZID=Europe/London:20260628T100000
DTSTAMP:20260421T181850
CREATED:20251228T193623Z
LAST-MODIFIED:20251228T193623Z
UID:10006663-1782633600-1782640800@wseo.digital
SUMMARY:DJ Jonah
DESCRIPTION:Please email join@slimradio.co.uk if you would like to take this slot
URL:https://wseo.digital/event/vacant-show-sun-8am-10am-2/2026-06-28/
ATTACH;FMTTYPE=image/webp:https://wseo.digital/wp-content/uploads/2025/11/slim-radio-show-1.webp
LOCATION:
END:VEVENT
BEGIN:VEVENT
DTSTART;TZID=Europe/London:20260705T080000
DTEND;TZID=Europe/London:20260705T100000
DTSTAMP:20260421T181850
CREATED:20251228T193623Z
LAST-MODIFIED:20251228T193623Z
UID:10006664-1783238400-1783245600@wseo.digital
SUMMARY:DJ Jonah
DESCRIPTION:Please email join@slimradio.co.uk if you would like to take this slot
URL:https://wseo.digital/event/vacant-show-sun-8am-10am-2/2026-07-05/
ATTACH;FMTTYPE=image/webp:https://wseo.digital/wp-content/uploads/2025/11/slim-radio-show-1.webp
LOCATION:
END:VEVENT
BEGIN:VEVENT
DTSTART;TZID=Europe/London:20260712T080000
DTEND;TZID=Europe/London:20260712T100000
DTSTAMP:20260421T181850
CREATED:20251228T193623Z
LAST-MODIFIED:20251228T193623Z
UID:10006665-1783843200-1783850400@wseo.digital
SUMMARY:DJ Jonah
DESCRIPTION:Please email join@slimradio.co.uk if you would like to take this slot
URL:https://wseo.digital/event/vacant-show-sun-8am-10am-2/2026-07-12/
ATTACH;FMTTYPE=image/webp:https://wseo.digital/wp-content/uploads/2025/11/slim-radio-show-1.webp
LOCATION:
END:VEVENT
BEGIN:VEVENT
DTSTART;TZID=Europe/London:20260719T080000
DTEND;TZID=Europe/London:20260719T100000
DTSTAMP:20260421T181850
CREATED:20251228T193623Z
LAST-MODIFIED:20251228T193623Z
UID:10006666-1784448000-1784455200@wseo.digital
SUMMARY:DJ Jonah
DESCRIPTION:Please email join@slimradio.co.uk if you would like to take this slot
URL:https://wseo.digital/event/vacant-show-sun-8am-10am-2/2026-07-19/
ATTACH;FMTTYPE=image/webp:https://wseo.digital/wp-content/uploads/2025/11/slim-radio-show-1.webp
LOCATION:
END:VEVENT
BEGIN:VEVENT
DTSTART;TZID=Europe/London:20260726T080000
DTEND;TZID=Europe/London:20260726T100000
DTSTAMP:20260421T181850
CREATED:20251228T193623Z
LAST-MODIFIED:20251228T193623Z
UID:10006667-1785052800-1785060000@wseo.digital
SUMMARY:DJ Jonah
DESCRIPTION:Please email join@slimradio.co.uk if you would like to take this slot
URL:https://wseo.digital/event/vacant-show-sun-8am-10am-2/2026-07-26/
ATTACH;FMTTYPE=image/webp:https://wseo.digital/wp-content/uploads/2025/11/slim-radio-show-1.webp
LOCATION:
END:VEVENT
BEGIN:VEVENT
DTSTART;TZID=Europe/London:20260802T080000
DTEND;TZID=Europe/London:20260802T100000
DTSTAMP:20260421T181850
CREATED:20251228T193623Z
LAST-MODIFIED:20251228T193623Z
UID:10006668-1785657600-1785664800@wseo.digital
SUMMARY:DJ Jonah
DESCRIPTION:Please email join@slimradio.co.uk if you would like to take this slot
URL:https://wseo.digital/event/vacant-show-sun-8am-10am-2/2026-08-02/
ATTACH;FMTTYPE=image/webp:https://wseo.digital/wp-content/uploads/2025/11/slim-radio-show-1.webp
LOCATION:
END:VEVENT
BEGIN:VEVENT
DTSTART;TZID=Europe/London:20260809T080000
DTEND;TZID=Europe/London:20260809T100000
DTSTAMP:20260421T181850
CREATED:20251228T193623Z
LAST-MODIFIED:20251228T193623Z
UID:10006669-1786262400-1786269600@wseo.digital
SUMMARY:DJ Jonah
DESCRIPTION:Please email join@slimradio.co.uk if you would like to take this slot
URL:https://wseo.digital/event/vacant-show-sun-8am-10am-2/2026-08-09/
ATTACH;FMTTYPE=image/webp:https://wseo.digital/wp-content/uploads/2025/11/slim-radio-show-1.webp
LOCATION:
END:VEVENT
BEGIN:VEVENT
DTSTART;TZID=Europe/London:20260816T080000
DTEND;TZID=Europe/London:20260816T100000
DTSTAMP:20260421T181850
CREATED:20251228T193623Z
LAST-MODIFIED:20251228T193623Z
UID:10006670-1786867200-1786874400@wseo.digital
SUMMARY:DJ Jonah
DESCRIPTION:Please email join@slimradio.co.uk if you would like to take this slot
URL:https://wseo.digital/event/vacant-show-sun-8am-10am-2/2026-08-16/
ATTACH;FMTTYPE=image/webp:https://wseo.digital/wp-content/uploads/2025/11/slim-radio-show-1.webp
LOCATION:
END:VEVENT
BEGIN:VEVENT
DTSTART;TZID=Europe/London:20260823T080000
DTEND;TZID=Europe/London:20260823T100000
DTSTAMP:20260421T181850
CREATED:20251228T193623Z
LAST-MODIFIED:20251228T193623Z
UID:10006671-1787472000-1787479200@wseo.digital
SUMMARY:DJ Jonah
DESCRIPTION:Please email join@slimradio.co.uk if you would like to take this slot
URL:https://wseo.digital/event/vacant-show-sun-8am-10am-2/2026-08-23/
ATTACH;FMTTYPE=image/webp:https://wseo.digital/wp-content/uploads/2025/11/slim-radio-show-1.webp
LOCATION:
END:VEVENT
BEGIN:VEVENT
DTSTART;TZID=Europe/London:20260830T080000
DTEND;TZID=Europe/London:20260830T100000
DTSTAMP:20260421T181850
CREATED:20251228T193623Z
LAST-MODIFIED:20251228T193623Z
UID:10006672-1788076800-1788084000@wseo.digital
SUMMARY:DJ Jonah
DESCRIPTION:Please email join@slimradio.co.uk if you would like to take this slot
URL:https://wseo.digital/event/vacant-show-sun-8am-10am-2/2026-08-30/
ATTACH;FMTTYPE=image/webp:https://wseo.digital/wp-content/uploads/2025/11/slim-radio-show-1.webp
LOCATION:
END:VEVENT
BEGIN:VEVENT
DTSTART;TZID=Europe/London:20260906T080000
DTEND;TZID=Europe/London:20260906T100000
DTSTAMP:20260421T181850
CREATED:20251228T193623Z
LAST-MODIFIED:20251228T193623Z
UID:10006673-1788681600-1788688800@wseo.digital
SUMMARY:DJ Jonah
DESCRIPTION:Please email join@slimradio.co.uk if you would like to take this slot
URL:https://wseo.digital/event/vacant-show-sun-8am-10am-2/2026-09-06/
ATTACH;FMTTYPE=image/webp:https://wseo.digital/wp-content/uploads/2025/11/slim-radio-show-1.webp
LOCATION:
END:VEVENT
BEGIN:VEVENT
DTSTART;TZID=Europe/London:20260913T080000
DTEND;TZID=Europe/London:20260913T100000
DTSTAMP:20260421T181850
CREATED:20251228T193623Z
LAST-MODIFIED:20251228T193623Z
UID:10006674-1789286400-1789293600@wseo.digital
SUMMARY:DJ Jonah
DESCRIPTION:Please email join@slimradio.co.uk if you would like to take this slot
URL:https://wseo.digital/event/vacant-show-sun-8am-10am-2/2026-09-13/
ATTACH;FMTTYPE=image/webp:https://wseo.digital/wp-content/uploads/2025/11/slim-radio-show-1.webp
LOCATION:
END:VEVENT
BEGIN:VEVENT
DTSTART;TZID=Europe/London:20260920T080000
DTEND;TZID=Europe/London:20260920T100000
DTSTAMP:20260421T181850
CREATED:20251228T193623Z
LAST-MODIFIED:20251228T193623Z
UID:10006675-1789891200-1789898400@wseo.digital
SUMMARY:DJ Jonah
DESCRIPTION:Please email join@slimradio.co.uk if you would like to take this slot
URL:https://wseo.digital/event/vacant-show-sun-8am-10am-2/2026-09-20/
ATTACH;FMTTYPE=image/webp:https://wseo.digital/wp-content/uploads/2025/11/slim-radio-show-1.webp
LOCATION:
END:VEVENT
BEGIN:VEVENT
DTSTART;TZID=Europe/London:20260927T080000
DTEND;TZID=Europe/London:20260927T100000
DTSTAMP:20260421T181850
CREATED:20251228T193623Z
LAST-MODIFIED:20251228T193623Z
UID:10006676-1790496000-1790503200@wseo.digital
SUMMARY:DJ Jonah
DESCRIPTION:Please email join@slimradio.co.uk if you would like to take this slot
URL:https://wseo.digital/event/vacant-show-sun-8am-10am-2/2026-09-27/
ATTACH;FMTTYPE=image/webp:https://wseo.digital/wp-content/uploads/2025/11/slim-radio-show-1.webp
LOCATION:
END:VEVENT
BEGIN:VEVENT
DTSTART;TZID=Europe/London:20261004T080000
DTEND;TZID=Europe/London:20261004T100000
DTSTAMP:20260421T181850
CREATED:20251228T193623Z
LAST-MODIFIED:20251228T193623Z
UID:10006677-1791100800-1791108000@wseo.digital
SUMMARY:DJ Jonah
DESCRIPTION:Please email join@slimradio.co.uk if you would like to take this slot
URL:https://wseo.digital/event/vacant-show-sun-8am-10am-2/2026-10-04/
ATTACH;FMTTYPE=image/webp:https://wseo.digital/wp-content/uploads/2025/11/slim-radio-show-1.webp
LOCATION:
END:VEVENT
BEGIN:VEVENT
DTSTART;TZID=Europe/London:20261011T080000
DTEND;TZID=Europe/London:20261011T100000
DTSTAMP:20260421T181850
CREATED:20251228T193623Z
LAST-MODIFIED:20251228T193623Z
UID:10006678-1791705600-1791712800@wseo.digital
SUMMARY:DJ Jonah
DESCRIPTION:Please email join@slimradio.co.uk if you would like to take this slot
URL:https://wseo.digital/event/vacant-show-sun-8am-10am-2/2026-10-11/
ATTACH;FMTTYPE=image/webp:https://wseo.digital/wp-content/uploads/2025/11/slim-radio-show-1.webp
LOCATION:
END:VEVENT
BEGIN:VEVENT
DTSTART;TZID=Europe/London:20261018T080000
DTEND;TZID=Europe/London:20261018T100000
DTSTAMP:20260421T181850
CREATED:20251228T193623Z
LAST-MODIFIED:20251228T193623Z
UID:10006679-1792310400-1792317600@wseo.digital
SUMMARY:DJ Jonah
DESCRIPTION:Please email join@slimradio.co.uk if you would like to take this slot
URL:https://wseo.digital/event/vacant-show-sun-8am-10am-2/2026-10-18/
ATTACH;FMTTYPE=image/webp:https://wseo.digital/wp-content/uploads/2025/11/slim-radio-show-1.webp
LOCATION:
END:VEVENT
BEGIN:VEVENT
DTSTART;TZID=Europe/London:20261025T080000
DTEND;TZID=Europe/London:20261025T100000
DTSTAMP:20260421T181850
CREATED:20251228T193623Z
LAST-MODIFIED:20251228T193623Z
UID:10006680-1792915200-1792922400@wseo.digital
SUMMARY:DJ Jonah
DESCRIPTION:Please email join@slimradio.co.uk if you would like to take this slot
URL:https://wseo.digital/event/vacant-show-sun-8am-10am-2/2026-10-25/
ATTACH;FMTTYPE=image/webp:https://wseo.digital/wp-content/uploads/2025/11/slim-radio-show-1.webp
LOCATION:
END:VEVENT
BEGIN:VEVENT
DTSTART;TZID=Europe/London:20261101T080000
DTEND;TZID=Europe/London:20261101T100000
DTSTAMP:20260421T181850
CREATED:20251228T193623Z
LAST-MODIFIED:20251228T193623Z
UID:10006681-1793520000-1793527200@wseo.digital
SUMMARY:DJ Jonah
DESCRIPTION:Please email join@slimradio.co.uk if you would like to take this slot
URL:https://wseo.digital/event/vacant-show-sun-8am-10am-2/2026-11-01/
ATTACH;FMTTYPE=image/webp:https://wseo.digital/wp-content/uploads/2025/11/slim-radio-show-1.webp
LOCATION:
END:VEVENT
BEGIN:VEVENT
DTSTART;TZID=Europe/London:20261108T080000
DTEND;TZID=Europe/London:20261108T100000
DTSTAMP:20260421T181850
CREATED:20251228T193623Z
LAST-MODIFIED:20251228T193623Z
UID:10006682-1794124800-1794132000@wseo.digital
SUMMARY:DJ Jonah
DESCRIPTION:Please email join@slimradio.co.uk if you would like to take this slot
URL:https://wseo.digital/event/vacant-show-sun-8am-10am-2/2026-11-08/
ATTACH;FMTTYPE=image/webp:https://wseo.digital/wp-content/uploads/2025/11/slim-radio-show-1.webp
LOCATION:
END:VEVENT
BEGIN:VEVENT
DTSTART;TZID=Europe/London:20261115T080000
DTEND;TZID=Europe/London:20261115T100000
DTSTAMP:20260421T181850
CREATED:20251228T193623Z
LAST-MODIFIED:20251228T193623Z
UID:10006683-1794729600-1794736800@wseo.digital
SUMMARY:DJ Jonah
DESCRIPTION:Please email join@slimradio.co.uk if you would like to take this slot
URL:https://wseo.digital/event/vacant-show-sun-8am-10am-2/2026-11-15/
ATTACH;FMTTYPE=image/webp:https://wseo.digital/wp-content/uploads/2025/11/slim-radio-show-1.webp
LOCATION:
END:VEVENT
END:VCALENDAR