BEGIN:VCALENDAR
VERSION:2.0
PRODID:-//wseodigital - ECPv6.15.13//NONSGML v1.0//EN
CALSCALE:GREGORIAN
METHOD:PUBLISH
X-WR-CALNAME:wseodigital
X-ORIGINAL-URL:https://wseo.digital
X-WR-CALDESC:Events for wseodigital
REFRESH-INTERVAL;VALUE=DURATION:PT1H
X-Robots-Tag:noindex
X-PUBLISHED-TTL:PT1H
BEGIN:VTIMEZONE
TZID:Europe/London
BEGIN:DAYLIGHT
TZOFFSETFROM:+0000
TZOFFSETTO:+0100
TZNAME:BST
DTSTART:20250330T010000
END:DAYLIGHT
BEGIN:STANDARD
TZOFFSETFROM:+0100
TZOFFSETTO:+0000
TZNAME:GMT
DTSTART:20251026T010000
END:STANDARD
BEGIN:DAYLIGHT
TZOFFSETFROM:+0000
TZOFFSETTO:+0100
TZNAME:BST
DTSTART:20260329T010000
END:DAYLIGHT
BEGIN:STANDARD
TZOFFSETFROM:+0100
TZOFFSETTO:+0000
TZNAME:GMT
DTSTART:20261025T010000
END:STANDARD
BEGIN:DAYLIGHT
TZOFFSETFROM:+0000
TZOFFSETTO:+0100
TZNAME:BST
DTSTART:20270328T010000
END:DAYLIGHT
BEGIN:STANDARD
TZOFFSETFROM:+0100
TZOFFSETTO:+0000
TZNAME:GMT
DTSTART:20271031T010000
END:STANDARD
BEGIN:DAYLIGHT
TZOFFSETFROM:+0000
TZOFFSETTO:+0100
TZNAME:BST
DTSTART:20280326T010000
END:DAYLIGHT
BEGIN:STANDARD
TZOFFSETFROM:+0100
TZOFFSETTO:+0000
TZNAME:GMT
DTSTART:20281029T010000
END:STANDARD
BEGIN:DAYLIGHT
TZOFFSETFROM:+0000
TZOFFSETTO:+0100
TZNAME:BST
DTSTART:20290325T010000
END:DAYLIGHT
BEGIN:STANDARD
TZOFFSETFROM:+0100
TZOFFSETTO:+0000
TZNAME:GMT
DTSTART:20291028T010000
END:STANDARD
END:VTIMEZONE
BEGIN:VEVENT
DTSTART;TZID=Europe/London:20260510T220000
DTEND;TZID=Europe/London:20260510T233000
DTSTAMP:20260423T114608
CREATED:20251228T194308Z
LAST-MODIFIED:20251228T194324Z
UID:10022798-1778450400-1778455800@wseo.digital
SUMMARY:Slim Bot Sun 10pm - 12am - Copy
DESCRIPTION:Please email join@slimradio.co.uk if you would like to take this slot
URL:https://wseo.digital/event/slim-bot-sun-10pm-12am-copy/2026-05-10/
ATTACH;FMTTYPE=image/jpeg:https://wseo.digital/wp-content/uploads/2025/12/Slimbot.jpg
LOCATION:
END:VEVENT
BEGIN:VEVENT
DTSTART;TZID=Europe/London:20260614T220000
DTEND;TZID=Europe/London:20260614T233000
DTSTAMP:20260423T114608
CREATED:20251228T194308Z
LAST-MODIFIED:20251228T194324Z
UID:10022799-1781474400-1781479800@wseo.digital
SUMMARY:Slim Bot Sun 10pm - 12am - Copy
DESCRIPTION:Please email join@slimradio.co.uk if you would like to take this slot
URL:https://wseo.digital/event/slim-bot-sun-10pm-12am-copy/2026-06-14/
ATTACH;FMTTYPE=image/jpeg:https://wseo.digital/wp-content/uploads/2025/12/Slimbot.jpg
LOCATION:
END:VEVENT
BEGIN:VEVENT
DTSTART;TZID=Europe/London:20260712T220000
DTEND;TZID=Europe/London:20260712T233000
DTSTAMP:20260423T114608
CREATED:20251228T194308Z
LAST-MODIFIED:20251228T194324Z
UID:10022800-1783893600-1783899000@wseo.digital
SUMMARY:Slim Bot Sun 10pm - 12am - Copy
DESCRIPTION:Please email join@slimradio.co.uk if you would like to take this slot
URL:https://wseo.digital/event/slim-bot-sun-10pm-12am-copy/2026-07-12/
ATTACH;FMTTYPE=image/jpeg:https://wseo.digital/wp-content/uploads/2025/12/Slimbot.jpg
LOCATION:
END:VEVENT
BEGIN:VEVENT
DTSTART;TZID=Europe/London:20260809T220000
DTEND;TZID=Europe/London:20260809T233000
DTSTAMP:20260423T114608
CREATED:20251228T194308Z
LAST-MODIFIED:20251228T194324Z
UID:10022801-1786312800-1786318200@wseo.digital
SUMMARY:Slim Bot Sun 10pm - 12am - Copy
DESCRIPTION:Please email join@slimradio.co.uk if you would like to take this slot
URL:https://wseo.digital/event/slim-bot-sun-10pm-12am-copy/2026-08-09/
ATTACH;FMTTYPE=image/jpeg:https://wseo.digital/wp-content/uploads/2025/12/Slimbot.jpg
LOCATION:
END:VEVENT
BEGIN:VEVENT
DTSTART;TZID=Europe/London:20260913T220000
DTEND;TZID=Europe/London:20260913T233000
DTSTAMP:20260423T114608
CREATED:20251228T194308Z
LAST-MODIFIED:20251228T194324Z
UID:10022802-1789336800-1789342200@wseo.digital
SUMMARY:Slim Bot Sun 10pm - 12am - Copy
DESCRIPTION:Please email join@slimradio.co.uk if you would like to take this slot
URL:https://wseo.digital/event/slim-bot-sun-10pm-12am-copy/2026-09-13/
ATTACH;FMTTYPE=image/jpeg:https://wseo.digital/wp-content/uploads/2025/12/Slimbot.jpg
LOCATION:
END:VEVENT
BEGIN:VEVENT
DTSTART;TZID=Europe/London:20261011T220000
DTEND;TZID=Europe/London:20261011T233000
DTSTAMP:20260423T114608
CREATED:20251228T194308Z
LAST-MODIFIED:20251228T194324Z
UID:10022803-1791756000-1791761400@wseo.digital
SUMMARY:Slim Bot Sun 10pm - 12am - Copy
DESCRIPTION:Please email join@slimradio.co.uk if you would like to take this slot
URL:https://wseo.digital/event/slim-bot-sun-10pm-12am-copy/2026-10-11/
ATTACH;FMTTYPE=image/jpeg:https://wseo.digital/wp-content/uploads/2025/12/Slimbot.jpg
LOCATION:
END:VEVENT
BEGIN:VEVENT
DTSTART;TZID=Europe/London:20261108T220000
DTEND;TZID=Europe/London:20261108T233000
DTSTAMP:20260423T114608
CREATED:20251228T194308Z
LAST-MODIFIED:20251228T194324Z
UID:10022804-1794175200-1794180600@wseo.digital
SUMMARY:Slim Bot Sun 10pm - 12am - Copy
DESCRIPTION:Please email join@slimradio.co.uk if you would like to take this slot
URL:https://wseo.digital/event/slim-bot-sun-10pm-12am-copy/2026-11-08/
ATTACH;FMTTYPE=image/jpeg:https://wseo.digital/wp-content/uploads/2025/12/Slimbot.jpg
LOCATION:
END:VEVENT
BEGIN:VEVENT
DTSTART;TZID=Europe/London:20261213T220000
DTEND;TZID=Europe/London:20261213T233000
DTSTAMP:20260423T114608
CREATED:20251228T194308Z
LAST-MODIFIED:20251228T194324Z
UID:10022805-1797199200-1797204600@wseo.digital
SUMMARY:Slim Bot Sun 10pm - 12am - Copy
DESCRIPTION:Please email join@slimradio.co.uk if you would like to take this slot
URL:https://wseo.digital/event/slim-bot-sun-10pm-12am-copy/2026-12-13/
ATTACH;FMTTYPE=image/jpeg:https://wseo.digital/wp-content/uploads/2025/12/Slimbot.jpg
LOCATION:
END:VEVENT
BEGIN:VEVENT
DTSTART;TZID=Europe/London:20270110T220000
DTEND;TZID=Europe/London:20270110T233000
DTSTAMP:20260423T114608
CREATED:20251228T194308Z
LAST-MODIFIED:20251228T194324Z
UID:10022806-1799618400-1799623800@wseo.digital
SUMMARY:Slim Bot Sun 10pm - 12am - Copy
DESCRIPTION:Please email join@slimradio.co.uk if you would like to take this slot
URL:https://wseo.digital/event/slim-bot-sun-10pm-12am-copy/2027-01-10/
ATTACH;FMTTYPE=image/jpeg:https://wseo.digital/wp-content/uploads/2025/12/Slimbot.jpg
LOCATION:
END:VEVENT
BEGIN:VEVENT
DTSTART;TZID=Europe/London:20270214T220000
DTEND;TZID=Europe/London:20270214T233000
DTSTAMP:20260423T114608
CREATED:20251228T194308Z
LAST-MODIFIED:20251228T194324Z
UID:10022807-1802642400-1802647800@wseo.digital
SUMMARY:Slim Bot Sun 10pm - 12am - Copy
DESCRIPTION:Please email join@slimradio.co.uk if you would like to take this slot
URL:https://wseo.digital/event/slim-bot-sun-10pm-12am-copy/2027-02-14/
ATTACH;FMTTYPE=image/jpeg:https://wseo.digital/wp-content/uploads/2025/12/Slimbot.jpg
LOCATION:
END:VEVENT
BEGIN:VEVENT
DTSTART;TZID=Europe/London:20270314T220000
DTEND;TZID=Europe/London:20270314T233000
DTSTAMP:20260423T114608
CREATED:20251228T194308Z
LAST-MODIFIED:20251228T194324Z
UID:10022808-1805061600-1805067000@wseo.digital
SUMMARY:Slim Bot Sun 10pm - 12am - Copy
DESCRIPTION:Please email join@slimradio.co.uk if you would like to take this slot
URL:https://wseo.digital/event/slim-bot-sun-10pm-12am-copy/2027-03-14/
ATTACH;FMTTYPE=image/jpeg:https://wseo.digital/wp-content/uploads/2025/12/Slimbot.jpg
LOCATION:
END:VEVENT
BEGIN:VEVENT
DTSTART;TZID=Europe/London:20270411T220000
DTEND;TZID=Europe/London:20270411T233000
DTSTAMP:20260423T114608
CREATED:20251228T194308Z
LAST-MODIFIED:20251228T194324Z
UID:10022809-1807480800-1807486200@wseo.digital
SUMMARY:Slim Bot Sun 10pm - 12am - Copy
DESCRIPTION:Please email join@slimradio.co.uk if you would like to take this slot
URL:https://wseo.digital/event/slim-bot-sun-10pm-12am-copy/2027-04-11/
ATTACH;FMTTYPE=image/jpeg:https://wseo.digital/wp-content/uploads/2025/12/Slimbot.jpg
LOCATION:
END:VEVENT
BEGIN:VEVENT
DTSTART;TZID=Europe/London:20270509T220000
DTEND;TZID=Europe/London:20270509T233000
DTSTAMP:20260423T114608
CREATED:20251228T194308Z
LAST-MODIFIED:20251228T194324Z
UID:10022810-1809900000-1809905400@wseo.digital
SUMMARY:Slim Bot Sun 10pm - 12am - Copy
DESCRIPTION:Please email join@slimradio.co.uk if you would like to take this slot
URL:https://wseo.digital/event/slim-bot-sun-10pm-12am-copy/2027-05-09/
ATTACH;FMTTYPE=image/jpeg:https://wseo.digital/wp-content/uploads/2025/12/Slimbot.jpg
LOCATION:
END:VEVENT
BEGIN:VEVENT
DTSTART;TZID=Europe/London:20270613T220000
DTEND;TZID=Europe/London:20270613T233000
DTSTAMP:20260423T114608
CREATED:20251228T194308Z
LAST-MODIFIED:20251228T194324Z
UID:10022811-1812924000-1812929400@wseo.digital
SUMMARY:Slim Bot Sun 10pm - 12am - Copy
DESCRIPTION:Please email join@slimradio.co.uk if you would like to take this slot
URL:https://wseo.digital/event/slim-bot-sun-10pm-12am-copy/2027-06-13/
ATTACH;FMTTYPE=image/jpeg:https://wseo.digital/wp-content/uploads/2025/12/Slimbot.jpg
LOCATION:
END:VEVENT
BEGIN:VEVENT
DTSTART;TZID=Europe/London:20270711T220000
DTEND;TZID=Europe/London:20270711T233000
DTSTAMP:20260423T114608
CREATED:20251228T194308Z
LAST-MODIFIED:20251228T194324Z
UID:10022812-1815343200-1815348600@wseo.digital
SUMMARY:Slim Bot Sun 10pm - 12am - Copy
DESCRIPTION:Please email join@slimradio.co.uk if you would like to take this slot
URL:https://wseo.digital/event/slim-bot-sun-10pm-12am-copy/2027-07-11/
ATTACH;FMTTYPE=image/jpeg:https://wseo.digital/wp-content/uploads/2025/12/Slimbot.jpg
LOCATION:
END:VEVENT
BEGIN:VEVENT
DTSTART;TZID=Europe/London:20270808T220000
DTEND;TZID=Europe/London:20270808T233000
DTSTAMP:20260423T114608
CREATED:20251228T194308Z
LAST-MODIFIED:20251228T194324Z
UID:10022813-1817762400-1817767800@wseo.digital
SUMMARY:Slim Bot Sun 10pm - 12am - Copy
DESCRIPTION:Please email join@slimradio.co.uk if you would like to take this slot
URL:https://wseo.digital/event/slim-bot-sun-10pm-12am-copy/2027-08-08/
ATTACH;FMTTYPE=image/jpeg:https://wseo.digital/wp-content/uploads/2025/12/Slimbot.jpg
LOCATION:
END:VEVENT
BEGIN:VEVENT
DTSTART;TZID=Europe/London:20270912T220000
DTEND;TZID=Europe/London:20270912T233000
DTSTAMP:20260423T114608
CREATED:20251228T194308Z
LAST-MODIFIED:20251228T194324Z
UID:10022814-1820786400-1820791800@wseo.digital
SUMMARY:Slim Bot Sun 10pm - 12am - Copy
DESCRIPTION:Please email join@slimradio.co.uk if you would like to take this slot
URL:https://wseo.digital/event/slim-bot-sun-10pm-12am-copy/2027-09-12/
ATTACH;FMTTYPE=image/jpeg:https://wseo.digital/wp-content/uploads/2025/12/Slimbot.jpg
LOCATION:
END:VEVENT
BEGIN:VEVENT
DTSTART;TZID=Europe/London:20271010T220000
DTEND;TZID=Europe/London:20271010T233000
DTSTAMP:20260423T114608
CREATED:20251228T194308Z
LAST-MODIFIED:20251228T194324Z
UID:10022815-1823205600-1823211000@wseo.digital
SUMMARY:Slim Bot Sun 10pm - 12am - Copy
DESCRIPTION:Please email join@slimradio.co.uk if you would like to take this slot
URL:https://wseo.digital/event/slim-bot-sun-10pm-12am-copy/2027-10-10/
ATTACH;FMTTYPE=image/jpeg:https://wseo.digital/wp-content/uploads/2025/12/Slimbot.jpg
LOCATION:
END:VEVENT
BEGIN:VEVENT
DTSTART;TZID=Europe/London:20271114T220000
DTEND;TZID=Europe/London:20271114T233000
DTSTAMP:20260423T114608
CREATED:20251228T194308Z
LAST-MODIFIED:20251228T194324Z
UID:10022816-1826229600-1826235000@wseo.digital
SUMMARY:Slim Bot Sun 10pm - 12am - Copy
DESCRIPTION:Please email join@slimradio.co.uk if you would like to take this slot
URL:https://wseo.digital/event/slim-bot-sun-10pm-12am-copy/2027-11-14/
ATTACH;FMTTYPE=image/jpeg:https://wseo.digital/wp-content/uploads/2025/12/Slimbot.jpg
LOCATION:
END:VEVENT
BEGIN:VEVENT
DTSTART;TZID=Europe/London:20271212T220000
DTEND;TZID=Europe/London:20271212T233000
DTSTAMP:20260423T114608
CREATED:20251228T194308Z
LAST-MODIFIED:20251228T194324Z
UID:10022817-1828648800-1828654200@wseo.digital
SUMMARY:Slim Bot Sun 10pm - 12am - Copy
DESCRIPTION:Please email join@slimradio.co.uk if you would like to take this slot
URL:https://wseo.digital/event/slim-bot-sun-10pm-12am-copy/2027-12-12/
ATTACH;FMTTYPE=image/jpeg:https://wseo.digital/wp-content/uploads/2025/12/Slimbot.jpg
LOCATION:
END:VEVENT
BEGIN:VEVENT
DTSTART;TZID=Europe/London:20280109T220000
DTEND;TZID=Europe/London:20280109T233000
DTSTAMP:20260423T114608
CREATED:20251228T194308Z
LAST-MODIFIED:20251228T194324Z
UID:10022818-1831068000-1831073400@wseo.digital
SUMMARY:Slim Bot Sun 10pm - 12am - Copy
DESCRIPTION:Please email join@slimradio.co.uk if you would like to take this slot
URL:https://wseo.digital/event/slim-bot-sun-10pm-12am-copy/2028-01-09/
ATTACH;FMTTYPE=image/jpeg:https://wseo.digital/wp-content/uploads/2025/12/Slimbot.jpg
LOCATION:
END:VEVENT
BEGIN:VEVENT
DTSTART;TZID=Europe/London:20280213T220000
DTEND;TZID=Europe/London:20280213T233000
DTSTAMP:20260423T114608
CREATED:20251228T194308Z
LAST-MODIFIED:20251228T194324Z
UID:10022819-1834092000-1834097400@wseo.digital
SUMMARY:Slim Bot Sun 10pm - 12am - Copy
DESCRIPTION:Please email join@slimradio.co.uk if you would like to take this slot
URL:https://wseo.digital/event/slim-bot-sun-10pm-12am-copy/2028-02-13/
ATTACH;FMTTYPE=image/jpeg:https://wseo.digital/wp-content/uploads/2025/12/Slimbot.jpg
LOCATION:
END:VEVENT
BEGIN:VEVENT
DTSTART;TZID=Europe/London:20280312T220000
DTEND;TZID=Europe/London:20280312T233000
DTSTAMP:20260423T114608
CREATED:20251228T194308Z
LAST-MODIFIED:20251228T194324Z
UID:10022820-1836511200-1836516600@wseo.digital
SUMMARY:Slim Bot Sun 10pm - 12am - Copy
DESCRIPTION:Please email join@slimradio.co.uk if you would like to take this slot
URL:https://wseo.digital/event/slim-bot-sun-10pm-12am-copy/2028-03-12/
ATTACH;FMTTYPE=image/jpeg:https://wseo.digital/wp-content/uploads/2025/12/Slimbot.jpg
LOCATION:
END:VEVENT
BEGIN:VEVENT
DTSTART;TZID=Europe/London:20280409T220000
DTEND;TZID=Europe/London:20280409T233000
DTSTAMP:20260423T114608
CREATED:20251228T194308Z
LAST-MODIFIED:20251228T194324Z
UID:10022821-1838930400-1838935800@wseo.digital
SUMMARY:Slim Bot Sun 10pm - 12am - Copy
DESCRIPTION:Please email join@slimradio.co.uk if you would like to take this slot
URL:https://wseo.digital/event/slim-bot-sun-10pm-12am-copy/2028-04-09/
ATTACH;FMTTYPE=image/jpeg:https://wseo.digital/wp-content/uploads/2025/12/Slimbot.jpg
LOCATION:
END:VEVENT
BEGIN:VEVENT
DTSTART;TZID=Europe/London:20280514T220000
DTEND;TZID=Europe/London:20280514T233000
DTSTAMP:20260423T114608
CREATED:20251228T194308Z
LAST-MODIFIED:20251228T194324Z
UID:10022822-1841954400-1841959800@wseo.digital
SUMMARY:Slim Bot Sun 10pm - 12am - Copy
DESCRIPTION:Please email join@slimradio.co.uk if you would like to take this slot
URL:https://wseo.digital/event/slim-bot-sun-10pm-12am-copy/2028-05-14/
ATTACH;FMTTYPE=image/jpeg:https://wseo.digital/wp-content/uploads/2025/12/Slimbot.jpg
LOCATION:
END:VEVENT
BEGIN:VEVENT
DTSTART;TZID=Europe/London:20280611T220000
DTEND;TZID=Europe/London:20280611T233000
DTSTAMP:20260423T114608
CREATED:20251228T194308Z
LAST-MODIFIED:20251228T194324Z
UID:10022823-1844373600-1844379000@wseo.digital
SUMMARY:Slim Bot Sun 10pm - 12am - Copy
DESCRIPTION:Please email join@slimradio.co.uk if you would like to take this slot
URL:https://wseo.digital/event/slim-bot-sun-10pm-12am-copy/2028-06-11/
ATTACH;FMTTYPE=image/jpeg:https://wseo.digital/wp-content/uploads/2025/12/Slimbot.jpg
LOCATION:
END:VEVENT
BEGIN:VEVENT
DTSTART;TZID=Europe/London:20280709T220000
DTEND;TZID=Europe/London:20280709T233000
DTSTAMP:20260423T114608
CREATED:20251228T194308Z
LAST-MODIFIED:20251228T194324Z
UID:10022824-1846792800-1846798200@wseo.digital
SUMMARY:Slim Bot Sun 10pm - 12am - Copy
DESCRIPTION:Please email join@slimradio.co.uk if you would like to take this slot
URL:https://wseo.digital/event/slim-bot-sun-10pm-12am-copy/2028-07-09/
ATTACH;FMTTYPE=image/jpeg:https://wseo.digital/wp-content/uploads/2025/12/Slimbot.jpg
LOCATION:
END:VEVENT
BEGIN:VEVENT
DTSTART;TZID=Europe/London:20280813T220000
DTEND;TZID=Europe/London:20280813T233000
DTSTAMP:20260423T114608
CREATED:20251228T194308Z
LAST-MODIFIED:20251228T194324Z
UID:10022825-1849816800-1849822200@wseo.digital
SUMMARY:Slim Bot Sun 10pm - 12am - Copy
DESCRIPTION:Please email join@slimradio.co.uk if you would like to take this slot
URL:https://wseo.digital/event/slim-bot-sun-10pm-12am-copy/2028-08-13/
ATTACH;FMTTYPE=image/jpeg:https://wseo.digital/wp-content/uploads/2025/12/Slimbot.jpg
LOCATION:
END:VEVENT
BEGIN:VEVENT
DTSTART;TZID=Europe/London:20280910T220000
DTEND;TZID=Europe/London:20280910T233000
DTSTAMP:20260423T114608
CREATED:20251228T194308Z
LAST-MODIFIED:20251228T194324Z
UID:10022826-1852236000-1852241400@wseo.digital
SUMMARY:Slim Bot Sun 10pm - 12am - Copy
DESCRIPTION:Please email join@slimradio.co.uk if you would like to take this slot
URL:https://wseo.digital/event/slim-bot-sun-10pm-12am-copy/2028-09-10/
ATTACH;FMTTYPE=image/jpeg:https://wseo.digital/wp-content/uploads/2025/12/Slimbot.jpg
LOCATION:
END:VEVENT
BEGIN:VEVENT
DTSTART;TZID=Europe/London:20281008T220000
DTEND;TZID=Europe/London:20281008T233000
DTSTAMP:20260423T114608
CREATED:20251228T194308Z
LAST-MODIFIED:20251228T194324Z
UID:10022827-1854655200-1854660600@wseo.digital
SUMMARY:Slim Bot Sun 10pm - 12am - Copy
DESCRIPTION:Please email join@slimradio.co.uk if you would like to take this slot
URL:https://wseo.digital/event/slim-bot-sun-10pm-12am-copy/2028-10-08/
ATTACH;FMTTYPE=image/jpeg:https://wseo.digital/wp-content/uploads/2025/12/Slimbot.jpg
LOCATION:
END:VEVENT
END:VCALENDAR